BEGIN:VCALENDAR
VERSION:2.0
PRODID:-//North Umpqua Bible Fellowship - ECPv6.15.20//NONSGML v1.0//EN
CALSCALE:GREGORIAN
METHOD:PUBLISH
X-ORIGINAL-URL:https://nubf.org
X-WR-CALDESC:Events for North Umpqua Bible Fellowship
REFRESH-INTERVAL;VALUE=DURATION:PT1H
X-Robots-Tag:noindex
X-PUBLISHED-TTL:PT1H
BEGIN:VTIMEZONE
TZID:America/Los_Angeles
BEGIN:DAYLIGHT
TZOFFSETFROM:-0800
TZOFFSETTO:-0700
TZNAME:PDT
DTSTART:20260308T100000
END:DAYLIGHT
BEGIN:STANDARD
TZOFFSETFROM:-0700
TZOFFSETTO:-0800
TZNAME:PST
DTSTART:20261101T090000
END:STANDARD
BEGIN:DAYLIGHT
TZOFFSETFROM:-0800
TZOFFSETTO:-0700
TZNAME:PDT
DTSTART:20270314T100000
END:DAYLIGHT
BEGIN:STANDARD
TZOFFSETFROM:-0700
TZOFFSETTO:-0800
TZNAME:PST
DTSTART:20271107T090000
END:STANDARD
BEGIN:DAYLIGHT
TZOFFSETFROM:-0800
TZOFFSETTO:-0700
TZNAME:PDT
DTSTART:20280312T100000
END:DAYLIGHT
BEGIN:STANDARD
TZOFFSETFROM:-0700
TZOFFSETTO:-0800
TZNAME:PST
DTSTART:20281105T090000
END:STANDARD
END:VTIMEZONE
BEGIN:VEVENT
DTSTART;TZID=America/Los_Angeles:20270310T180000
DTEND;TZID=America/Los_Angeles:20270310T203000
DTSTAMP:20260424T102157
CREATED:20260107T074147Z
LAST-MODIFIED:20260112T180058Z
UID:10001543-1804701600-1804710600@nubf.org
SUMMARY:Youth Group
DESCRIPTION:
URL:https://nubf.org/event/youth-group/2027-03-10/
LOCATION:North Umpqua Bible Fellowship\, 1547 Wild River Dr\, Roseburg\, OR\, 97470\, United States
CATEGORIES:Youth
ATTACH;FMTTYPE=image/jpeg:https://nubf.org/wp-content/uploads/2026/01/Sunday-Service-Powerpoint-copy.jpg
END:VEVENT
BEGIN:VEVENT
DTSTART;TZID=America/Los_Angeles:20270314T100000
DTEND;TZID=America/Los_Angeles:20270314T113000
DTSTAMP:20260424T102157
CREATED:20260108T203659Z
LAST-MODIFIED:20260118T161517Z
UID:10001805-1805018400-1805023800@nubf.org
SUMMARY:Sunday Service
DESCRIPTION:Join us for worship\, a message from God’s Word\, and fellowship.
URL:https://nubf.org/event/sunday-service/2027-03-14/
LOCATION:North Umpqua Bible Fellowship\, 1547 Wild River Dr\, Roseburg\, OR\, 97470\, United States
CATEGORIES:For All
ATTACH;FMTTYPE=image/jpeg:https://nubf.org/wp-content/uploads/2025/11/joshua-background.jpg
END:VEVENT
BEGIN:VEVENT
DTSTART;TZID=America/Los_Angeles:20270317T180000
DTEND;TZID=America/Los_Angeles:20270317T203000
DTSTAMP:20260424T102157
CREATED:20260107T074147Z
LAST-MODIFIED:20260112T180058Z
UID:10001544-1805306400-1805315400@nubf.org
SUMMARY:Youth Group
DESCRIPTION:
URL:https://nubf.org/event/youth-group/2027-03-17/
LOCATION:North Umpqua Bible Fellowship\, 1547 Wild River Dr\, Roseburg\, OR\, 97470\, United States
CATEGORIES:Youth
ATTACH;FMTTYPE=image/jpeg:https://nubf.org/wp-content/uploads/2026/01/Sunday-Service-Powerpoint-copy.jpg
END:VEVENT
BEGIN:VEVENT
DTSTART;TZID=America/Los_Angeles:20270321T100000
DTEND;TZID=America/Los_Angeles:20270321T113000
DTSTAMP:20260424T102157
CREATED:20260108T203659Z
LAST-MODIFIED:20260118T161517Z
UID:10001806-1805623200-1805628600@nubf.org
SUMMARY:Sunday Service
DESCRIPTION:Join us for worship\, a message from God’s Word\, and fellowship.
URL:https://nubf.org/event/sunday-service/2027-03-21/
LOCATION:North Umpqua Bible Fellowship\, 1547 Wild River Dr\, Roseburg\, OR\, 97470\, United States
CATEGORIES:For All
ATTACH;FMTTYPE=image/jpeg:https://nubf.org/wp-content/uploads/2025/11/joshua-background.jpg
END:VEVENT
BEGIN:VEVENT
DTSTART;TZID=America/Los_Angeles:20270321T120000
DTEND;TZID=America/Los_Angeles:20270321T133000
DTSTAMP:20260424T102157
CREATED:20260122T171924Z
LAST-MODIFIED:20260122T174557Z
UID:10003130-1805630400-1805635800@nubf.org
SUMMARY:Senders Meeting
DESCRIPTION:To connect\, coordinate\, and share concerns in regards to NUBF’s mission partners.
URL:https://nubf.org/event/senders-meeting/2027-03-21/
LOCATION:North Umpqua Bible Fellowship\, 1547 Wild River Dr\, Roseburg\, OR\, 97470\, United States
CATEGORIES:For All
ATTACH;FMTTYPE=image/png:https://nubf.org/wp-content/uploads/2026/01/1-1.png
END:VEVENT
BEGIN:VEVENT
DTSTART;TZID=America/Los_Angeles:20270324T180000
DTEND;TZID=America/Los_Angeles:20270324T203000
DTSTAMP:20260424T102157
CREATED:20260107T074147Z
LAST-MODIFIED:20260112T180058Z
UID:10001545-1805911200-1805920200@nubf.org
SUMMARY:Youth Group
DESCRIPTION:
URL:https://nubf.org/event/youth-group/2027-03-24/
LOCATION:North Umpqua Bible Fellowship\, 1547 Wild River Dr\, Roseburg\, OR\, 97470\, United States
CATEGORIES:Youth
ATTACH;FMTTYPE=image/jpeg:https://nubf.org/wp-content/uploads/2026/01/Sunday-Service-Powerpoint-copy.jpg
END:VEVENT
BEGIN:VEVENT
DTSTART;TZID=America/Los_Angeles:20270328T100000
DTEND;TZID=America/Los_Angeles:20270328T113000
DTSTAMP:20260424T102157
CREATED:20260108T203659Z
LAST-MODIFIED:20260118T161517Z
UID:10001807-1806228000-1806233400@nubf.org
SUMMARY:Sunday Service
DESCRIPTION:Join us for worship\, a message from God’s Word\, and fellowship.
URL:https://nubf.org/event/sunday-service/2027-03-28/
LOCATION:North Umpqua Bible Fellowship\, 1547 Wild River Dr\, Roseburg\, OR\, 97470\, United States
CATEGORIES:For All
ATTACH;FMTTYPE=image/jpeg:https://nubf.org/wp-content/uploads/2025/11/joshua-background.jpg
END:VEVENT
BEGIN:VEVENT
DTSTART;TZID=America/Los_Angeles:20270331T180000
DTEND;TZID=America/Los_Angeles:20270331T203000
DTSTAMP:20260424T102157
CREATED:20260107T074147Z
LAST-MODIFIED:20260112T180058Z
UID:10001546-1806516000-1806525000@nubf.org
SUMMARY:Youth Group
DESCRIPTION:
URL:https://nubf.org/event/youth-group/2027-03-31/
LOCATION:North Umpqua Bible Fellowship\, 1547 Wild River Dr\, Roseburg\, OR\, 97470\, United States
CATEGORIES:Youth
ATTACH;FMTTYPE=image/jpeg:https://nubf.org/wp-content/uploads/2026/01/Sunday-Service-Powerpoint-copy.jpg
END:VEVENT
BEGIN:VEVENT
DTSTART;TZID=America/Los_Angeles:20270404T100000
DTEND;TZID=America/Los_Angeles:20270404T113000
DTSTAMP:20260424T102157
CREATED:20260108T203659Z
LAST-MODIFIED:20260118T161517Z
UID:10001808-1806832800-1806838200@nubf.org
SUMMARY:Sunday Service
DESCRIPTION:Join us for worship\, a message from God’s Word\, and fellowship.
URL:https://nubf.org/event/sunday-service/2027-04-04/
LOCATION:North Umpqua Bible Fellowship\, 1547 Wild River Dr\, Roseburg\, OR\, 97470\, United States
CATEGORIES:For All
ATTACH;FMTTYPE=image/jpeg:https://nubf.org/wp-content/uploads/2025/11/joshua-background.jpg
END:VEVENT
BEGIN:VEVENT
DTSTART;TZID=America/Los_Angeles:20270407T180000
DTEND;TZID=America/Los_Angeles:20270407T203000
DTSTAMP:20260424T102157
CREATED:20260107T074147Z
LAST-MODIFIED:20260112T180058Z
UID:10001547-1807120800-1807129800@nubf.org
SUMMARY:Youth Group
DESCRIPTION:
URL:https://nubf.org/event/youth-group/2027-04-07/
LOCATION:North Umpqua Bible Fellowship\, 1547 Wild River Dr\, Roseburg\, OR\, 97470\, United States
CATEGORIES:Youth
ATTACH;FMTTYPE=image/jpeg:https://nubf.org/wp-content/uploads/2026/01/Sunday-Service-Powerpoint-copy.jpg
END:VEVENT
BEGIN:VEVENT
DTSTART;TZID=America/Los_Angeles:20270411T100000
DTEND;TZID=America/Los_Angeles:20270411T113000
DTSTAMP:20260424T102157
CREATED:20260108T203659Z
LAST-MODIFIED:20260118T161517Z
UID:10001809-1807437600-1807443000@nubf.org
SUMMARY:Sunday Service
DESCRIPTION:Join us for worship\, a message from God’s Word\, and fellowship.
URL:https://nubf.org/event/sunday-service/2027-04-11/
LOCATION:North Umpqua Bible Fellowship\, 1547 Wild River Dr\, Roseburg\, OR\, 97470\, United States
CATEGORIES:For All
ATTACH;FMTTYPE=image/jpeg:https://nubf.org/wp-content/uploads/2025/11/joshua-background.jpg
END:VEVENT
BEGIN:VEVENT
DTSTART;TZID=America/Los_Angeles:20270414T180000
DTEND;TZID=America/Los_Angeles:20270414T203000
DTSTAMP:20260424T102157
CREATED:20260107T074147Z
LAST-MODIFIED:20260112T180058Z
UID:10001548-1807725600-1807734600@nubf.org
SUMMARY:Youth Group
DESCRIPTION:
URL:https://nubf.org/event/youth-group/2027-04-14/
LOCATION:North Umpqua Bible Fellowship\, 1547 Wild River Dr\, Roseburg\, OR\, 97470\, United States
CATEGORIES:Youth
ATTACH;FMTTYPE=image/jpeg:https://nubf.org/wp-content/uploads/2026/01/Sunday-Service-Powerpoint-copy.jpg
END:VEVENT
BEGIN:VEVENT
DTSTART;TZID=America/Los_Angeles:20270418T100000
DTEND;TZID=America/Los_Angeles:20270418T113000
DTSTAMP:20260424T102157
CREATED:20260108T203659Z
LAST-MODIFIED:20260118T161517Z
UID:10001810-1808042400-1808047800@nubf.org
SUMMARY:Sunday Service
DESCRIPTION:Join us for worship\, a message from God’s Word\, and fellowship.
URL:https://nubf.org/event/sunday-service/2027-04-18/
LOCATION:North Umpqua Bible Fellowship\, 1547 Wild River Dr\, Roseburg\, OR\, 97470\, United States
CATEGORIES:For All
ATTACH;FMTTYPE=image/jpeg:https://nubf.org/wp-content/uploads/2025/11/joshua-background.jpg
END:VEVENT
BEGIN:VEVENT
DTSTART;TZID=America/Los_Angeles:20270418T120000
DTEND;TZID=America/Los_Angeles:20270418T133000
DTSTAMP:20260424T102157
CREATED:20260122T171924Z
LAST-MODIFIED:20260122T174557Z
UID:10003131-1808049600-1808055000@nubf.org
SUMMARY:Senders Meeting
DESCRIPTION:To connect\, coordinate\, and share concerns in regards to NUBF’s mission partners.
URL:https://nubf.org/event/senders-meeting/2027-04-18/
LOCATION:North Umpqua Bible Fellowship\, 1547 Wild River Dr\, Roseburg\, OR\, 97470\, United States
CATEGORIES:For All
ATTACH;FMTTYPE=image/png:https://nubf.org/wp-content/uploads/2026/01/1-1.png
END:VEVENT
BEGIN:VEVENT
DTSTART;TZID=America/Los_Angeles:20270421T180000
DTEND;TZID=America/Los_Angeles:20270421T203000
DTSTAMP:20260424T102157
CREATED:20260107T074147Z
LAST-MODIFIED:20260112T180058Z
UID:10001549-1808330400-1808339400@nubf.org
SUMMARY:Youth Group
DESCRIPTION:
URL:https://nubf.org/event/youth-group/2027-04-21/
LOCATION:North Umpqua Bible Fellowship\, 1547 Wild River Dr\, Roseburg\, OR\, 97470\, United States
CATEGORIES:Youth
ATTACH;FMTTYPE=image/jpeg:https://nubf.org/wp-content/uploads/2026/01/Sunday-Service-Powerpoint-copy.jpg
END:VEVENT
BEGIN:VEVENT
DTSTART;TZID=America/Los_Angeles:20270425T100000
DTEND;TZID=America/Los_Angeles:20270425T113000
DTSTAMP:20260424T102157
CREATED:20260108T203659Z
LAST-MODIFIED:20260118T161517Z
UID:10001811-1808647200-1808652600@nubf.org
SUMMARY:Sunday Service
DESCRIPTION:Join us for worship\, a message from God’s Word\, and fellowship.
URL:https://nubf.org/event/sunday-service/2027-04-25/
LOCATION:North Umpqua Bible Fellowship\, 1547 Wild River Dr\, Roseburg\, OR\, 97470\, United States
CATEGORIES:For All
ATTACH;FMTTYPE=image/jpeg:https://nubf.org/wp-content/uploads/2025/11/joshua-background.jpg
END:VEVENT
BEGIN:VEVENT
DTSTART;TZID=America/Los_Angeles:20270428T180000
DTEND;TZID=America/Los_Angeles:20270428T203000
DTSTAMP:20260424T102157
CREATED:20260107T074147Z
LAST-MODIFIED:20260112T180058Z
UID:10001550-1808935200-1808944200@nubf.org
SUMMARY:Youth Group
DESCRIPTION:
URL:https://nubf.org/event/youth-group/2027-04-28/
LOCATION:North Umpqua Bible Fellowship\, 1547 Wild River Dr\, Roseburg\, OR\, 97470\, United States
CATEGORIES:Youth
ATTACH;FMTTYPE=image/jpeg:https://nubf.org/wp-content/uploads/2026/01/Sunday-Service-Powerpoint-copy.jpg
END:VEVENT
BEGIN:VEVENT
DTSTART;TZID=America/Los_Angeles:20270502T100000
DTEND;TZID=America/Los_Angeles:20270502T113000
DTSTAMP:20260424T102157
CREATED:20260108T203659Z
LAST-MODIFIED:20260118T161517Z
UID:10001812-1809252000-1809257400@nubf.org
SUMMARY:Sunday Service
DESCRIPTION:Join us for worship\, a message from God’s Word\, and fellowship.
URL:https://nubf.org/event/sunday-service/2027-05-02/
LOCATION:North Umpqua Bible Fellowship\, 1547 Wild River Dr\, Roseburg\, OR\, 97470\, United States
CATEGORIES:For All
ATTACH;FMTTYPE=image/jpeg:https://nubf.org/wp-content/uploads/2025/11/joshua-background.jpg
END:VEVENT
BEGIN:VEVENT
DTSTART;TZID=America/Los_Angeles:20270505T180000
DTEND;TZID=America/Los_Angeles:20270505T203000
DTSTAMP:20260424T102157
CREATED:20260107T074147Z
LAST-MODIFIED:20260112T180058Z
UID:10001551-1809540000-1809549000@nubf.org
SUMMARY:Youth Group
DESCRIPTION:
URL:https://nubf.org/event/youth-group/2027-05-05/
LOCATION:North Umpqua Bible Fellowship\, 1547 Wild River Dr\, Roseburg\, OR\, 97470\, United States
CATEGORIES:Youth
ATTACH;FMTTYPE=image/jpeg:https://nubf.org/wp-content/uploads/2026/01/Sunday-Service-Powerpoint-copy.jpg
END:VEVENT
BEGIN:VEVENT
DTSTART;TZID=America/Los_Angeles:20270509T100000
DTEND;TZID=America/Los_Angeles:20270509T113000
DTSTAMP:20260424T102157
CREATED:20260108T203659Z
LAST-MODIFIED:20260118T161517Z
UID:10001813-1809856800-1809862200@nubf.org
SUMMARY:Sunday Service
DESCRIPTION:Join us for worship\, a message from God’s Word\, and fellowship.
URL:https://nubf.org/event/sunday-service/2027-05-09/
LOCATION:North Umpqua Bible Fellowship\, 1547 Wild River Dr\, Roseburg\, OR\, 97470\, United States
CATEGORIES:For All
ATTACH;FMTTYPE=image/jpeg:https://nubf.org/wp-content/uploads/2025/11/joshua-background.jpg
END:VEVENT
BEGIN:VEVENT
DTSTART;TZID=America/Los_Angeles:20270512T180000
DTEND;TZID=America/Los_Angeles:20270512T203000
DTSTAMP:20260424T102157
CREATED:20260107T074147Z
LAST-MODIFIED:20260112T180058Z
UID:10001552-1810144800-1810153800@nubf.org
SUMMARY:Youth Group
DESCRIPTION:
URL:https://nubf.org/event/youth-group/2027-05-12/
LOCATION:North Umpqua Bible Fellowship\, 1547 Wild River Dr\, Roseburg\, OR\, 97470\, United States
CATEGORIES:Youth
ATTACH;FMTTYPE=image/jpeg:https://nubf.org/wp-content/uploads/2026/01/Sunday-Service-Powerpoint-copy.jpg
END:VEVENT
BEGIN:VEVENT
DTSTART;TZID=America/Los_Angeles:20270516T100000
DTEND;TZID=America/Los_Angeles:20270516T113000
DTSTAMP:20260424T102157
CREATED:20260108T203659Z
LAST-MODIFIED:20260118T161517Z
UID:10001814-1810461600-1810467000@nubf.org
SUMMARY:Sunday Service
DESCRIPTION:Join us for worship\, a message from God’s Word\, and fellowship.
URL:https://nubf.org/event/sunday-service/2027-05-16/
LOCATION:North Umpqua Bible Fellowship\, 1547 Wild River Dr\, Roseburg\, OR\, 97470\, United States
CATEGORIES:For All
ATTACH;FMTTYPE=image/jpeg:https://nubf.org/wp-content/uploads/2025/11/joshua-background.jpg
END:VEVENT
BEGIN:VEVENT
DTSTART;TZID=America/Los_Angeles:20270516T120000
DTEND;TZID=America/Los_Angeles:20270516T133000
DTSTAMP:20260424T102157
CREATED:20260122T171924Z
LAST-MODIFIED:20260122T174557Z
UID:10003132-1810468800-1810474200@nubf.org
SUMMARY:Senders Meeting
DESCRIPTION:To connect\, coordinate\, and share concerns in regards to NUBF’s mission partners.
URL:https://nubf.org/event/senders-meeting/2027-05-16/
LOCATION:North Umpqua Bible Fellowship\, 1547 Wild River Dr\, Roseburg\, OR\, 97470\, United States
CATEGORIES:For All
ATTACH;FMTTYPE=image/png:https://nubf.org/wp-content/uploads/2026/01/1-1.png
END:VEVENT
BEGIN:VEVENT
DTSTART;TZID=America/Los_Angeles:20270519T180000
DTEND;TZID=America/Los_Angeles:20270519T203000
DTSTAMP:20260424T102157
CREATED:20260107T074147Z
LAST-MODIFIED:20260112T180058Z
UID:10001553-1810749600-1810758600@nubf.org
SUMMARY:Youth Group
DESCRIPTION:
URL:https://nubf.org/event/youth-group/2027-05-19/
LOCATION:North Umpqua Bible Fellowship\, 1547 Wild River Dr\, Roseburg\, OR\, 97470\, United States
CATEGORIES:Youth
ATTACH;FMTTYPE=image/jpeg:https://nubf.org/wp-content/uploads/2026/01/Sunday-Service-Powerpoint-copy.jpg
END:VEVENT
BEGIN:VEVENT
DTSTART;TZID=America/Los_Angeles:20270523T100000
DTEND;TZID=America/Los_Angeles:20270523T113000
DTSTAMP:20260424T102157
CREATED:20260108T203659Z
LAST-MODIFIED:20260118T161517Z
UID:10001815-1811066400-1811071800@nubf.org
SUMMARY:Sunday Service
DESCRIPTION:Join us for worship\, a message from God’s Word\, and fellowship.
URL:https://nubf.org/event/sunday-service/2027-05-23/
LOCATION:North Umpqua Bible Fellowship\, 1547 Wild River Dr\, Roseburg\, OR\, 97470\, United States
CATEGORIES:For All
ATTACH;FMTTYPE=image/jpeg:https://nubf.org/wp-content/uploads/2025/11/joshua-background.jpg
END:VEVENT
BEGIN:VEVENT
DTSTART;TZID=America/Los_Angeles:20270526T180000
DTEND;TZID=America/Los_Angeles:20270526T203000
DTSTAMP:20260424T102157
CREATED:20260107T074147Z
LAST-MODIFIED:20260112T180058Z
UID:10001554-1811354400-1811363400@nubf.org
SUMMARY:Youth Group
DESCRIPTION:
URL:https://nubf.org/event/youth-group/2027-05-26/
LOCATION:North Umpqua Bible Fellowship\, 1547 Wild River Dr\, Roseburg\, OR\, 97470\, United States
CATEGORIES:Youth
ATTACH;FMTTYPE=image/jpeg:https://nubf.org/wp-content/uploads/2026/01/Sunday-Service-Powerpoint-copy.jpg
END:VEVENT
BEGIN:VEVENT
DTSTART;TZID=America/Los_Angeles:20270530T100000
DTEND;TZID=America/Los_Angeles:20270530T113000
DTSTAMP:20260424T102157
CREATED:20260108T203659Z
LAST-MODIFIED:20260118T161517Z
UID:10001816-1811671200-1811676600@nubf.org
SUMMARY:Sunday Service
DESCRIPTION:Join us for worship\, a message from God’s Word\, and fellowship.
URL:https://nubf.org/event/sunday-service/2027-05-30/
LOCATION:North Umpqua Bible Fellowship\, 1547 Wild River Dr\, Roseburg\, OR\, 97470\, United States
CATEGORIES:For All
ATTACH;FMTTYPE=image/jpeg:https://nubf.org/wp-content/uploads/2025/11/joshua-background.jpg
END:VEVENT
BEGIN:VEVENT
DTSTART;TZID=America/Los_Angeles:20270602T180000
DTEND;TZID=America/Los_Angeles:20270602T203000
DTSTAMP:20260424T102157
CREATED:20260107T074147Z
LAST-MODIFIED:20260112T180058Z
UID:10001555-1811959200-1811968200@nubf.org
SUMMARY:Youth Group
DESCRIPTION:
URL:https://nubf.org/event/youth-group/2027-06-02/
LOCATION:North Umpqua Bible Fellowship\, 1547 Wild River Dr\, Roseburg\, OR\, 97470\, United States
CATEGORIES:Youth
ATTACH;FMTTYPE=image/jpeg:https://nubf.org/wp-content/uploads/2026/01/Sunday-Service-Powerpoint-copy.jpg
END:VEVENT
BEGIN:VEVENT
DTSTART;TZID=America/Los_Angeles:20270606T100000
DTEND;TZID=America/Los_Angeles:20270606T113000
DTSTAMP:20260424T102157
CREATED:20260108T203659Z
LAST-MODIFIED:20260118T161517Z
UID:10001817-1812276000-1812281400@nubf.org
SUMMARY:Sunday Service
DESCRIPTION:Join us for worship\, a message from God’s Word\, and fellowship.
URL:https://nubf.org/event/sunday-service/2027-06-06/
LOCATION:North Umpqua Bible Fellowship\, 1547 Wild River Dr\, Roseburg\, OR\, 97470\, United States
CATEGORIES:For All
ATTACH;FMTTYPE=image/jpeg:https://nubf.org/wp-content/uploads/2025/11/joshua-background.jpg
END:VEVENT
BEGIN:VEVENT
DTSTART;TZID=America/Los_Angeles:20270609T180000
DTEND;TZID=America/Los_Angeles:20270609T203000
DTSTAMP:20260424T102157
CREATED:20260107T074147Z
LAST-MODIFIED:20260112T180058Z
UID:10001556-1812564000-1812573000@nubf.org
SUMMARY:Youth Group
DESCRIPTION:
URL:https://nubf.org/event/youth-group/2027-06-09/
LOCATION:North Umpqua Bible Fellowship\, 1547 Wild River Dr\, Roseburg\, OR\, 97470\, United States
CATEGORIES:Youth
ATTACH;FMTTYPE=image/jpeg:https://nubf.org/wp-content/uploads/2026/01/Sunday-Service-Powerpoint-copy.jpg
END:VEVENT
END:VCALENDAR