BEGIN:VCALENDAR
VERSION:2.0
PRODID:-//North Umpqua Bible Fellowship - ECPv6.15.20//NONSGML v1.0//EN
CALSCALE:GREGORIAN
METHOD:PUBLISH
X-WR-CALNAME:North Umpqua Bible Fellowship
X-ORIGINAL-URL:https://nubf.org
X-WR-CALDESC:Events for North Umpqua Bible Fellowship
REFRESH-INTERVAL;VALUE=DURATION:PT1H
X-Robots-Tag:noindex
X-PUBLISHED-TTL:PT1H
BEGIN:VTIMEZONE
TZID:America/Los_Angeles
BEGIN:DAYLIGHT
TZOFFSETFROM:-0800
TZOFFSETTO:-0700
TZNAME:PDT
DTSTART:20260308T100000
END:DAYLIGHT
BEGIN:STANDARD
TZOFFSETFROM:-0700
TZOFFSETTO:-0800
TZNAME:PST
DTSTART:20261101T090000
END:STANDARD
BEGIN:DAYLIGHT
TZOFFSETFROM:-0800
TZOFFSETTO:-0700
TZNAME:PDT
DTSTART:20270314T100000
END:DAYLIGHT
BEGIN:STANDARD
TZOFFSETFROM:-0700
TZOFFSETTO:-0800
TZNAME:PST
DTSTART:20271107T090000
END:STANDARD
BEGIN:DAYLIGHT
TZOFFSETFROM:-0800
TZOFFSETTO:-0700
TZNAME:PDT
DTSTART:20280312T100000
END:DAYLIGHT
BEGIN:STANDARD
TZOFFSETFROM:-0700
TZOFFSETTO:-0800
TZNAME:PST
DTSTART:20281105T090000
END:STANDARD
END:VTIMEZONE
BEGIN:VEVENT
DTSTART;TZID=America/Los_Angeles:20270429T100000
DTEND;TZID=America/Los_Angeles:20270429T113000
DTSTAMP:20260425T080737
CREATED:20260108T212602Z
LAST-MODIFIED:20260129T194214Z
UID:10002334-1808992800-1808998200@nubf.org
SUMMARY:Thursday Morning Women's Bible Study
DESCRIPTION:Author is Lysa Terkeurst\n \nDates: February 25th/26th – April 1st/2nd\nWednesday: 6:30 PM\nThursday:10:00 AM\nCost: $2.50\nRegistration: February 1st – 15th\nChild Care Available
URL:https://nubf.org/event/thursday-morning-womens-bible-study/2027-04-29/
LOCATION:North Umpqua Bible Fellowship – Northroom\, 1547 Wild River Dr\, Roseburg\, OR\, 97470\, United States
CATEGORIES:Women's Ministry
ATTACH;FMTTYPE=image/png:https://nubf.org/wp-content/uploads/2026/01/4.png
END:VEVENT
BEGIN:VEVENT
DTSTART;TZID=America/Los_Angeles:20270505T100000
DTEND;TZID=America/Los_Angeles:20270505T110000
DTSTAMP:20260425T080737
CREATED:20260113T212543Z
LAST-MODIFIED:20260115T233512Z
UID:10002858-1809511200-1809514800@nubf.org
SUMMARY:Wednesday Morning Prayer
DESCRIPTION:
URL:https://nubf.org/event/wednesday-morning-prayer/2027-05-05/
LOCATION:North Umpqua Bible Fellowship – Northroom\, 1547 Wild River Dr\, Roseburg\, OR\, 97470\, United States
CATEGORIES:For All
ATTACH;FMTTYPE=image/png:https://nubf.org/wp-content/uploads/2020/10/Artboard-1Web.png
END:VEVENT
BEGIN:VEVENT
DTSTART;TZID=America/Los_Angeles:20270505T183000
DTEND;TZID=America/Los_Angeles:20270505T200000
DTSTAMP:20260425T080737
CREATED:20260108T211810Z
LAST-MODIFIED:20260112T175001Z
UID:10002073-1809541800-1809547200@nubf.org
SUMMARY:Men's Bible Study
DESCRIPTION:
URL:https://nubf.org/event/mens-bible-study/2027-05-05/
LOCATION:North Umpqua Bible Fellowship – Northroom\, 1547 Wild River Dr\, Roseburg\, OR\, 97470\, United States
CATEGORIES:Men's Ministry
ATTACH;FMTTYPE=image/jpeg:https://nubf.org/wp-content/uploads/2026/01/Sunday-Service-Powerpoint-Presentation.jpg
END:VEVENT
BEGIN:VEVENT
DTSTART;TZID=America/Los_Angeles:20270506T100000
DTEND;TZID=America/Los_Angeles:20270506T113000
DTSTAMP:20260425T080737
CREATED:20260108T212602Z
LAST-MODIFIED:20260129T194214Z
UID:10002335-1809597600-1809603000@nubf.org
SUMMARY:Thursday Morning Women's Bible Study
DESCRIPTION:Author is Lysa Terkeurst\n \nDates: February 25th/26th – April 1st/2nd\nWednesday: 6:30 PM\nThursday:10:00 AM\nCost: $2.50\nRegistration: February 1st – 15th\nChild Care Available
URL:https://nubf.org/event/thursday-morning-womens-bible-study/2027-05-06/
LOCATION:North Umpqua Bible Fellowship – Northroom\, 1547 Wild River Dr\, Roseburg\, OR\, 97470\, United States
CATEGORIES:Women's Ministry
ATTACH;FMTTYPE=image/png:https://nubf.org/wp-content/uploads/2026/01/4.png
END:VEVENT
BEGIN:VEVENT
DTSTART;TZID=America/Los_Angeles:20270509T120000
DTEND;TZID=America/Los_Angeles:20270509T133000
DTSTAMP:20260425T080737
CREATED:20260122T171758Z
LAST-MODIFIED:20260122T174513Z
UID:10003072-1809864000-1809869400@nubf.org
SUMMARY:Ministry Leaders Meeting
DESCRIPTION:To connect\, coordinate\, and share concerns in regards to NUBF’s ministries.
URL:https://nubf.org/event/ministry-leaders/2027-05-09/
LOCATION:North Umpqua Bible Fellowship – Northroom\, 1547 Wild River Dr\, Roseburg\, OR\, 97470\, United States
CATEGORIES:For All
ATTACH;FMTTYPE=image/png:https://nubf.org/wp-content/uploads/2026/01/2-copy.png
END:VEVENT
BEGIN:VEVENT
DTSTART;TZID=America/Los_Angeles:20270512T100000
DTEND;TZID=America/Los_Angeles:20270512T110000
DTSTAMP:20260425T080737
CREATED:20260113T212543Z
LAST-MODIFIED:20260115T233512Z
UID:10002859-1810116000-1810119600@nubf.org
SUMMARY:Wednesday Morning Prayer
DESCRIPTION:
URL:https://nubf.org/event/wednesday-morning-prayer/2027-05-12/
LOCATION:North Umpqua Bible Fellowship – Northroom\, 1547 Wild River Dr\, Roseburg\, OR\, 97470\, United States
CATEGORIES:For All
ATTACH;FMTTYPE=image/png:https://nubf.org/wp-content/uploads/2020/10/Artboard-1Web.png
END:VEVENT
BEGIN:VEVENT
DTSTART;TZID=America/Los_Angeles:20270512T183000
DTEND;TZID=America/Los_Angeles:20270512T200000
DTSTAMP:20260425T080737
CREATED:20260108T211810Z
LAST-MODIFIED:20260112T175001Z
UID:10002074-1810146600-1810152000@nubf.org
SUMMARY:Men's Bible Study
DESCRIPTION:
URL:https://nubf.org/event/mens-bible-study/2027-05-12/
LOCATION:North Umpqua Bible Fellowship – Northroom\, 1547 Wild River Dr\, Roseburg\, OR\, 97470\, United States
CATEGORIES:Men's Ministry
ATTACH;FMTTYPE=image/jpeg:https://nubf.org/wp-content/uploads/2026/01/Sunday-Service-Powerpoint-Presentation.jpg
END:VEVENT
BEGIN:VEVENT
DTSTART;TZID=America/Los_Angeles:20270513T100000
DTEND;TZID=America/Los_Angeles:20270513T113000
DTSTAMP:20260425T080737
CREATED:20260108T212602Z
LAST-MODIFIED:20260129T194214Z
UID:10002336-1810202400-1810207800@nubf.org
SUMMARY:Thursday Morning Women's Bible Study
DESCRIPTION:Author is Lysa Terkeurst\n \nDates: February 25th/26th – April 1st/2nd\nWednesday: 6:30 PM\nThursday:10:00 AM\nCost: $2.50\nRegistration: February 1st – 15th\nChild Care Available
URL:https://nubf.org/event/thursday-morning-womens-bible-study/2027-05-13/
LOCATION:North Umpqua Bible Fellowship – Northroom\, 1547 Wild River Dr\, Roseburg\, OR\, 97470\, United States
CATEGORIES:Women's Ministry
ATTACH;FMTTYPE=image/png:https://nubf.org/wp-content/uploads/2026/01/4.png
END:VEVENT
BEGIN:VEVENT
DTSTART;TZID=America/Los_Angeles:20270519T100000
DTEND;TZID=America/Los_Angeles:20270519T110000
DTSTAMP:20260425T080737
CREATED:20260113T212543Z
LAST-MODIFIED:20260115T233512Z
UID:10002860-1810720800-1810724400@nubf.org
SUMMARY:Wednesday Morning Prayer
DESCRIPTION:
URL:https://nubf.org/event/wednesday-morning-prayer/2027-05-19/
LOCATION:North Umpqua Bible Fellowship – Northroom\, 1547 Wild River Dr\, Roseburg\, OR\, 97470\, United States
CATEGORIES:For All
ATTACH;FMTTYPE=image/png:https://nubf.org/wp-content/uploads/2020/10/Artboard-1Web.png
END:VEVENT
BEGIN:VEVENT
DTSTART;TZID=America/Los_Angeles:20270519T183000
DTEND;TZID=America/Los_Angeles:20270519T200000
DTSTAMP:20260425T080737
CREATED:20260108T211810Z
LAST-MODIFIED:20260112T175001Z
UID:10002075-1810751400-1810756800@nubf.org
SUMMARY:Men's Bible Study
DESCRIPTION:
URL:https://nubf.org/event/mens-bible-study/2027-05-19/
LOCATION:North Umpqua Bible Fellowship – Northroom\, 1547 Wild River Dr\, Roseburg\, OR\, 97470\, United States
CATEGORIES:Men's Ministry
ATTACH;FMTTYPE=image/jpeg:https://nubf.org/wp-content/uploads/2026/01/Sunday-Service-Powerpoint-Presentation.jpg
END:VEVENT
BEGIN:VEVENT
DTSTART;TZID=America/Los_Angeles:20270520T100000
DTEND;TZID=America/Los_Angeles:20270520T113000
DTSTAMP:20260425T080737
CREATED:20260108T212602Z
LAST-MODIFIED:20260129T194214Z
UID:10002337-1810807200-1810812600@nubf.org
SUMMARY:Thursday Morning Women's Bible Study
DESCRIPTION:Author is Lysa Terkeurst\n \nDates: February 25th/26th – April 1st/2nd\nWednesday: 6:30 PM\nThursday:10:00 AM\nCost: $2.50\nRegistration: February 1st – 15th\nChild Care Available
URL:https://nubf.org/event/thursday-morning-womens-bible-study/2027-05-20/
LOCATION:North Umpqua Bible Fellowship – Northroom\, 1547 Wild River Dr\, Roseburg\, OR\, 97470\, United States
CATEGORIES:Women's Ministry
ATTACH;FMTTYPE=image/png:https://nubf.org/wp-content/uploads/2026/01/4.png
END:VEVENT
BEGIN:VEVENT
DTSTART;TZID=America/Los_Angeles:20270526T100000
DTEND;TZID=America/Los_Angeles:20270526T110000
DTSTAMP:20260425T080737
CREATED:20260113T212543Z
LAST-MODIFIED:20260115T233512Z
UID:10002861-1811325600-1811329200@nubf.org
SUMMARY:Wednesday Morning Prayer
DESCRIPTION:
URL:https://nubf.org/event/wednesday-morning-prayer/2027-05-26/
LOCATION:North Umpqua Bible Fellowship – Northroom\, 1547 Wild River Dr\, Roseburg\, OR\, 97470\, United States
CATEGORIES:For All
ATTACH;FMTTYPE=image/png:https://nubf.org/wp-content/uploads/2020/10/Artboard-1Web.png
END:VEVENT
BEGIN:VEVENT
DTSTART;TZID=America/Los_Angeles:20270526T183000
DTEND;TZID=America/Los_Angeles:20270526T200000
DTSTAMP:20260425T080737
CREATED:20260108T211810Z
LAST-MODIFIED:20260112T175001Z
UID:10002076-1811356200-1811361600@nubf.org
SUMMARY:Men's Bible Study
DESCRIPTION:
URL:https://nubf.org/event/mens-bible-study/2027-05-26/
LOCATION:North Umpqua Bible Fellowship – Northroom\, 1547 Wild River Dr\, Roseburg\, OR\, 97470\, United States
CATEGORIES:Men's Ministry
ATTACH;FMTTYPE=image/jpeg:https://nubf.org/wp-content/uploads/2026/01/Sunday-Service-Powerpoint-Presentation.jpg
END:VEVENT
BEGIN:VEVENT
DTSTART;TZID=America/Los_Angeles:20270527T100000
DTEND;TZID=America/Los_Angeles:20270527T113000
DTSTAMP:20260425T080737
CREATED:20260108T212602Z
LAST-MODIFIED:20260129T194214Z
UID:10002338-1811412000-1811417400@nubf.org
SUMMARY:Thursday Morning Women's Bible Study
DESCRIPTION:Author is Lysa Terkeurst\n \nDates: February 25th/26th – April 1st/2nd\nWednesday: 6:30 PM\nThursday:10:00 AM\nCost: $2.50\nRegistration: February 1st – 15th\nChild Care Available
URL:https://nubf.org/event/thursday-morning-womens-bible-study/2027-05-27/
LOCATION:North Umpqua Bible Fellowship – Northroom\, 1547 Wild River Dr\, Roseburg\, OR\, 97470\, United States
CATEGORIES:Women's Ministry
ATTACH;FMTTYPE=image/png:https://nubf.org/wp-content/uploads/2026/01/4.png
END:VEVENT
BEGIN:VEVENT
DTSTART;TZID=America/Los_Angeles:20270602T100000
DTEND;TZID=America/Los_Angeles:20270602T110000
DTSTAMP:20260425T080737
CREATED:20260113T212543Z
LAST-MODIFIED:20260115T233512Z
UID:10002862-1811930400-1811934000@nubf.org
SUMMARY:Wednesday Morning Prayer
DESCRIPTION:
URL:https://nubf.org/event/wednesday-morning-prayer/2027-06-02/
LOCATION:North Umpqua Bible Fellowship – Northroom\, 1547 Wild River Dr\, Roseburg\, OR\, 97470\, United States
CATEGORIES:For All
ATTACH;FMTTYPE=image/png:https://nubf.org/wp-content/uploads/2020/10/Artboard-1Web.png
END:VEVENT
BEGIN:VEVENT
DTSTART;TZID=America/Los_Angeles:20270602T183000
DTEND;TZID=America/Los_Angeles:20270602T200000
DTSTAMP:20260425T080737
CREATED:20260108T211810Z
LAST-MODIFIED:20260112T175001Z
UID:10002077-1811961000-1811966400@nubf.org
SUMMARY:Men's Bible Study
DESCRIPTION:
URL:https://nubf.org/event/mens-bible-study/2027-06-02/
LOCATION:North Umpqua Bible Fellowship – Northroom\, 1547 Wild River Dr\, Roseburg\, OR\, 97470\, United States
CATEGORIES:Men's Ministry
ATTACH;FMTTYPE=image/jpeg:https://nubf.org/wp-content/uploads/2026/01/Sunday-Service-Powerpoint-Presentation.jpg
END:VEVENT
BEGIN:VEVENT
DTSTART;TZID=America/Los_Angeles:20270603T100000
DTEND;TZID=America/Los_Angeles:20270603T113000
DTSTAMP:20260425T080737
CREATED:20260108T212602Z
LAST-MODIFIED:20260129T194214Z
UID:10002339-1812016800-1812022200@nubf.org
SUMMARY:Thursday Morning Women's Bible Study
DESCRIPTION:Author is Lysa Terkeurst\n \nDates: February 25th/26th – April 1st/2nd\nWednesday: 6:30 PM\nThursday:10:00 AM\nCost: $2.50\nRegistration: February 1st – 15th\nChild Care Available
URL:https://nubf.org/event/thursday-morning-womens-bible-study/2027-06-03/
LOCATION:North Umpqua Bible Fellowship – Northroom\, 1547 Wild River Dr\, Roseburg\, OR\, 97470\, United States
CATEGORIES:Women's Ministry
ATTACH;FMTTYPE=image/png:https://nubf.org/wp-content/uploads/2026/01/4.png
END:VEVENT
BEGIN:VEVENT
DTSTART;TZID=America/Los_Angeles:20270609T100000
DTEND;TZID=America/Los_Angeles:20270609T110000
DTSTAMP:20260425T080737
CREATED:20260113T212543Z
LAST-MODIFIED:20260115T233512Z
UID:10002863-1812535200-1812538800@nubf.org
SUMMARY:Wednesday Morning Prayer
DESCRIPTION:
URL:https://nubf.org/event/wednesday-morning-prayer/2027-06-09/
LOCATION:North Umpqua Bible Fellowship – Northroom\, 1547 Wild River Dr\, Roseburg\, OR\, 97470\, United States
CATEGORIES:For All
ATTACH;FMTTYPE=image/png:https://nubf.org/wp-content/uploads/2020/10/Artboard-1Web.png
END:VEVENT
BEGIN:VEVENT
DTSTART;TZID=America/Los_Angeles:20270609T183000
DTEND;TZID=America/Los_Angeles:20270609T200000
DTSTAMP:20260425T080737
CREATED:20260108T211810Z
LAST-MODIFIED:20260112T175001Z
UID:10002078-1812565800-1812571200@nubf.org
SUMMARY:Men's Bible Study
DESCRIPTION:
URL:https://nubf.org/event/mens-bible-study/2027-06-09/
LOCATION:North Umpqua Bible Fellowship – Northroom\, 1547 Wild River Dr\, Roseburg\, OR\, 97470\, United States
CATEGORIES:Men's Ministry
ATTACH;FMTTYPE=image/jpeg:https://nubf.org/wp-content/uploads/2026/01/Sunday-Service-Powerpoint-Presentation.jpg
END:VEVENT
BEGIN:VEVENT
DTSTART;TZID=America/Los_Angeles:20270610T100000
DTEND;TZID=America/Los_Angeles:20270610T113000
DTSTAMP:20260425T080737
CREATED:20260108T212602Z
LAST-MODIFIED:20260129T194214Z
UID:10002340-1812621600-1812627000@nubf.org
SUMMARY:Thursday Morning Women's Bible Study
DESCRIPTION:Author is Lysa Terkeurst\n \nDates: February 25th/26th – April 1st/2nd\nWednesday: 6:30 PM\nThursday:10:00 AM\nCost: $2.50\nRegistration: February 1st – 15th\nChild Care Available
URL:https://nubf.org/event/thursday-morning-womens-bible-study/2027-06-10/
LOCATION:North Umpqua Bible Fellowship – Northroom\, 1547 Wild River Dr\, Roseburg\, OR\, 97470\, United States
CATEGORIES:Women's Ministry
ATTACH;FMTTYPE=image/png:https://nubf.org/wp-content/uploads/2026/01/4.png
END:VEVENT
BEGIN:VEVENT
DTSTART;TZID=America/Los_Angeles:20270613T120000
DTEND;TZID=America/Los_Angeles:20270613T133000
DTSTAMP:20260425T080737
CREATED:20260122T171758Z
LAST-MODIFIED:20260122T174513Z
UID:10003073-1812888000-1812893400@nubf.org
SUMMARY:Ministry Leaders Meeting
DESCRIPTION:To connect\, coordinate\, and share concerns in regards to NUBF’s ministries.
URL:https://nubf.org/event/ministry-leaders/2027-06-13/
LOCATION:North Umpqua Bible Fellowship – Northroom\, 1547 Wild River Dr\, Roseburg\, OR\, 97470\, United States
CATEGORIES:For All
ATTACH;FMTTYPE=image/png:https://nubf.org/wp-content/uploads/2026/01/2-copy.png
END:VEVENT
BEGIN:VEVENT
DTSTART;TZID=America/Los_Angeles:20270616T100000
DTEND;TZID=America/Los_Angeles:20270616T110000
DTSTAMP:20260425T080737
CREATED:20260113T212543Z
LAST-MODIFIED:20260115T233512Z
UID:10002864-1813140000-1813143600@nubf.org
SUMMARY:Wednesday Morning Prayer
DESCRIPTION:
URL:https://nubf.org/event/wednesday-morning-prayer/2027-06-16/
LOCATION:North Umpqua Bible Fellowship – Northroom\, 1547 Wild River Dr\, Roseburg\, OR\, 97470\, United States
CATEGORIES:For All
ATTACH;FMTTYPE=image/png:https://nubf.org/wp-content/uploads/2020/10/Artboard-1Web.png
END:VEVENT
BEGIN:VEVENT
DTSTART;TZID=America/Los_Angeles:20270616T183000
DTEND;TZID=America/Los_Angeles:20270616T200000
DTSTAMP:20260425T080737
CREATED:20260108T211810Z
LAST-MODIFIED:20260112T175001Z
UID:10002079-1813170600-1813176000@nubf.org
SUMMARY:Men's Bible Study
DESCRIPTION:
URL:https://nubf.org/event/mens-bible-study/2027-06-16/
LOCATION:North Umpqua Bible Fellowship – Northroom\, 1547 Wild River Dr\, Roseburg\, OR\, 97470\, United States
CATEGORIES:Men's Ministry
ATTACH;FMTTYPE=image/jpeg:https://nubf.org/wp-content/uploads/2026/01/Sunday-Service-Powerpoint-Presentation.jpg
END:VEVENT
BEGIN:VEVENT
DTSTART;TZID=America/Los_Angeles:20270617T100000
DTEND;TZID=America/Los_Angeles:20270617T113000
DTSTAMP:20260425T080737
CREATED:20260108T212602Z
LAST-MODIFIED:20260129T194214Z
UID:10002341-1813226400-1813231800@nubf.org
SUMMARY:Thursday Morning Women's Bible Study
DESCRIPTION:Author is Lysa Terkeurst\n \nDates: February 25th/26th – April 1st/2nd\nWednesday: 6:30 PM\nThursday:10:00 AM\nCost: $2.50\nRegistration: February 1st – 15th\nChild Care Available
URL:https://nubf.org/event/thursday-morning-womens-bible-study/2027-06-17/
LOCATION:North Umpqua Bible Fellowship – Northroom\, 1547 Wild River Dr\, Roseburg\, OR\, 97470\, United States
CATEGORIES:Women's Ministry
ATTACH;FMTTYPE=image/png:https://nubf.org/wp-content/uploads/2026/01/4.png
END:VEVENT
BEGIN:VEVENT
DTSTART;TZID=America/Los_Angeles:20270623T100000
DTEND;TZID=America/Los_Angeles:20270623T110000
DTSTAMP:20260425T080737
CREATED:20260113T212543Z
LAST-MODIFIED:20260115T233512Z
UID:10002865-1813744800-1813748400@nubf.org
SUMMARY:Wednesday Morning Prayer
DESCRIPTION:
URL:https://nubf.org/event/wednesday-morning-prayer/2027-06-23/
LOCATION:North Umpqua Bible Fellowship – Northroom\, 1547 Wild River Dr\, Roseburg\, OR\, 97470\, United States
CATEGORIES:For All
ATTACH;FMTTYPE=image/png:https://nubf.org/wp-content/uploads/2020/10/Artboard-1Web.png
END:VEVENT
BEGIN:VEVENT
DTSTART;TZID=America/Los_Angeles:20270623T183000
DTEND;TZID=America/Los_Angeles:20270623T200000
DTSTAMP:20260425T080737
CREATED:20260108T211810Z
LAST-MODIFIED:20260112T175001Z
UID:10002080-1813775400-1813780800@nubf.org
SUMMARY:Men's Bible Study
DESCRIPTION:
URL:https://nubf.org/event/mens-bible-study/2027-06-23/
LOCATION:North Umpqua Bible Fellowship – Northroom\, 1547 Wild River Dr\, Roseburg\, OR\, 97470\, United States
CATEGORIES:Men's Ministry
ATTACH;FMTTYPE=image/jpeg:https://nubf.org/wp-content/uploads/2026/01/Sunday-Service-Powerpoint-Presentation.jpg
END:VEVENT
BEGIN:VEVENT
DTSTART;TZID=America/Los_Angeles:20270624T100000
DTEND;TZID=America/Los_Angeles:20270624T113000
DTSTAMP:20260425T080737
CREATED:20260108T212602Z
LAST-MODIFIED:20260129T194214Z
UID:10002342-1813831200-1813836600@nubf.org
SUMMARY:Thursday Morning Women's Bible Study
DESCRIPTION:Author is Lysa Terkeurst\n \nDates: February 25th/26th – April 1st/2nd\nWednesday: 6:30 PM\nThursday:10:00 AM\nCost: $2.50\nRegistration: February 1st – 15th\nChild Care Available
URL:https://nubf.org/event/thursday-morning-womens-bible-study/2027-06-24/
LOCATION:North Umpqua Bible Fellowship – Northroom\, 1547 Wild River Dr\, Roseburg\, OR\, 97470\, United States
CATEGORIES:Women's Ministry
ATTACH;FMTTYPE=image/png:https://nubf.org/wp-content/uploads/2026/01/4.png
END:VEVENT
BEGIN:VEVENT
DTSTART;TZID=America/Los_Angeles:20270630T100000
DTEND;TZID=America/Los_Angeles:20270630T110000
DTSTAMP:20260425T080737
CREATED:20260113T212543Z
LAST-MODIFIED:20260115T233512Z
UID:10002866-1814349600-1814353200@nubf.org
SUMMARY:Wednesday Morning Prayer
DESCRIPTION:
URL:https://nubf.org/event/wednesday-morning-prayer/2027-06-30/
LOCATION:North Umpqua Bible Fellowship – Northroom\, 1547 Wild River Dr\, Roseburg\, OR\, 97470\, United States
CATEGORIES:For All
ATTACH;FMTTYPE=image/png:https://nubf.org/wp-content/uploads/2020/10/Artboard-1Web.png
END:VEVENT
BEGIN:VEVENT
DTSTART;TZID=America/Los_Angeles:20270630T183000
DTEND;TZID=America/Los_Angeles:20270630T200000
DTSTAMP:20260425T080737
CREATED:20260108T211810Z
LAST-MODIFIED:20260112T175001Z
UID:10002081-1814380200-1814385600@nubf.org
SUMMARY:Men's Bible Study
DESCRIPTION:
URL:https://nubf.org/event/mens-bible-study/2027-06-30/
LOCATION:North Umpqua Bible Fellowship – Northroom\, 1547 Wild River Dr\, Roseburg\, OR\, 97470\, United States
CATEGORIES:Men's Ministry
ATTACH;FMTTYPE=image/jpeg:https://nubf.org/wp-content/uploads/2026/01/Sunday-Service-Powerpoint-Presentation.jpg
END:VEVENT
BEGIN:VEVENT
DTSTART;TZID=America/Los_Angeles:20270701T100000
DTEND;TZID=America/Los_Angeles:20270701T113000
DTSTAMP:20260425T080737
CREATED:20260108T212602Z
LAST-MODIFIED:20260129T194214Z
UID:10002343-1814436000-1814441400@nubf.org
SUMMARY:Thursday Morning Women's Bible Study
DESCRIPTION:Author is Lysa Terkeurst\n \nDates: February 25th/26th – April 1st/2nd\nWednesday: 6:30 PM\nThursday:10:00 AM\nCost: $2.50\nRegistration: February 1st – 15th\nChild Care Available
URL:https://nubf.org/event/thursday-morning-womens-bible-study/2027-07-01/
LOCATION:North Umpqua Bible Fellowship – Northroom\, 1547 Wild River Dr\, Roseburg\, OR\, 97470\, United States
CATEGORIES:Women's Ministry
ATTACH;FMTTYPE=image/png:https://nubf.org/wp-content/uploads/2026/01/4.png
END:VEVENT
END:VCALENDAR