BEGIN:VCALENDAR
VERSION:2.0
PRODID:-//North Umpqua Bible Fellowship - ECPv6.15.20//NONSGML v1.0//EN
CALSCALE:GREGORIAN
METHOD:PUBLISH
X-WR-CALNAME:North Umpqua Bible Fellowship
X-ORIGINAL-URL:https://nubf.org
X-WR-CALDESC:Events for North Umpqua Bible Fellowship
REFRESH-INTERVAL;VALUE=DURATION:PT1H
X-Robots-Tag:noindex
X-PUBLISHED-TTL:PT1H
BEGIN:VTIMEZONE
TZID:America/Los_Angeles
BEGIN:DAYLIGHT
TZOFFSETFROM:-0800
TZOFFSETTO:-0700
TZNAME:PDT
DTSTART:20260308T100000
END:DAYLIGHT
BEGIN:STANDARD
TZOFFSETFROM:-0700
TZOFFSETTO:-0800
TZNAME:PST
DTSTART:20261101T090000
END:STANDARD
BEGIN:DAYLIGHT
TZOFFSETFROM:-0800
TZOFFSETTO:-0700
TZNAME:PDT
DTSTART:20270314T100000
END:DAYLIGHT
BEGIN:STANDARD
TZOFFSETFROM:-0700
TZOFFSETTO:-0800
TZNAME:PST
DTSTART:20271107T090000
END:STANDARD
BEGIN:DAYLIGHT
TZOFFSETFROM:-0800
TZOFFSETTO:-0700
TZNAME:PDT
DTSTART:20280312T100000
END:DAYLIGHT
BEGIN:STANDARD
TZOFFSETFROM:-0700
TZOFFSETTO:-0800
TZNAME:PST
DTSTART:20281105T090000
END:STANDARD
END:VTIMEZONE
BEGIN:VEVENT
DTSTART;TZID=America/Los_Angeles:20271124T183000
DTEND;TZID=America/Los_Angeles:20271124T200000
DTSTAMP:20260425T173153
CREATED:20260108T211810Z
LAST-MODIFIED:20260112T175001Z
UID:10002102-1827081000-1827086400@nubf.org
SUMMARY:Men's Bible Study
DESCRIPTION:
URL:https://nubf.org/event/mens-bible-study/2027-11-24/
LOCATION:North Umpqua Bible Fellowship – Northroom\, 1547 Wild River Dr\, Roseburg\, OR\, 97470\, United States
CATEGORIES:Men's Ministry
ATTACH;FMTTYPE=image/jpeg:https://nubf.org/wp-content/uploads/2026/01/Sunday-Service-Powerpoint-Presentation.jpg
END:VEVENT
BEGIN:VEVENT
DTSTART;TZID=America/Los_Angeles:20271124T183000
DTEND;TZID=America/Los_Angeles:20271124T200000
DTSTAMP:20260425T173153
CREATED:20260108T213001Z
LAST-MODIFIED:20260129T194137Z
UID:10002625-1827081000-1827086400@nubf.org
SUMMARY:Wednesday Night Women's Bible Study
DESCRIPTION:Author is Lysa Terkeurst\n \nDates: February 25th/26th – April 1st/2nd\nWednesday: 6:30 PM\nThursday:10:00 AM\nCost: $2.50\nRegistration: February 1st – 15th\nChild Care Available\n 
URL:https://nubf.org/event/wednesday-night-womens-bible-study/2027-11-24/
LOCATION:North Umpqua Bible Fellowship – Library\, 1547 Wild River Dr\, Roseburg\, OR\, 97470\, United States
CATEGORIES:Women's Ministry
ATTACH;FMTTYPE=image/jpeg:https://nubf.org/wp-content/uploads/2026/01/Sunday-Service-Powerpoint.jpg
END:VEVENT
BEGIN:VEVENT
DTSTART;TZID=America/Los_Angeles:20271125T100000
DTEND;TZID=America/Los_Angeles:20271125T113000
DTSTAMP:20260425T173153
CREATED:20260108T212602Z
LAST-MODIFIED:20260129T194214Z
UID:10002364-1827136800-1827142200@nubf.org
SUMMARY:Thursday Morning Women's Bible Study
DESCRIPTION:Author is Lysa Terkeurst\n \nDates: February 25th/26th – April 1st/2nd\nWednesday: 6:30 PM\nThursday:10:00 AM\nCost: $2.50\nRegistration: February 1st – 15th\nChild Care Available
URL:https://nubf.org/event/thursday-morning-womens-bible-study/2027-11-25/
LOCATION:North Umpqua Bible Fellowship – Northroom\, 1547 Wild River Dr\, Roseburg\, OR\, 97470\, United States
CATEGORIES:Women's Ministry
ATTACH;FMTTYPE=image/png:https://nubf.org/wp-content/uploads/2026/01/4.png
END:VEVENT
BEGIN:VEVENT
DTSTART;TZID=America/Los_Angeles:20271128T100000
DTEND;TZID=America/Los_Angeles:20271128T113000
DTSTAMP:20260425T173153
CREATED:20260108T203659Z
LAST-MODIFIED:20260118T161517Z
UID:10001842-1827396000-1827401400@nubf.org
SUMMARY:Sunday Service
DESCRIPTION:Join us for worship\, a message from God’s Word\, and fellowship.
URL:https://nubf.org/event/sunday-service/2027-11-28/
LOCATION:North Umpqua Bible Fellowship\, 1547 Wild River Dr\, Roseburg\, OR\, 97470\, United States
CATEGORIES:For All
ATTACH;FMTTYPE=image/jpeg:https://nubf.org/wp-content/uploads/2025/11/joshua-background.jpg
END:VEVENT
BEGIN:VEVENT
DTSTART;TZID=America/Los_Angeles:20271201T100000
DTEND;TZID=America/Los_Angeles:20271201T110000
DTSTAMP:20260425T173153
CREATED:20260113T212543Z
LAST-MODIFIED:20260115T233512Z
UID:10002888-1827655200-1827658800@nubf.org
SUMMARY:Wednesday Morning Prayer
DESCRIPTION:
URL:https://nubf.org/event/wednesday-morning-prayer/2027-12-01/
LOCATION:North Umpqua Bible Fellowship – Northroom\, 1547 Wild River Dr\, Roseburg\, OR\, 97470\, United States
CATEGORIES:For All
ATTACH;FMTTYPE=image/png:https://nubf.org/wp-content/uploads/2020/10/Artboard-1Web.png
END:VEVENT
BEGIN:VEVENT
DTSTART;TZID=America/Los_Angeles:20271201T180000
DTEND;TZID=America/Los_Angeles:20271201T203000
DTSTAMP:20260425T173153
CREATED:20260107T074147Z
LAST-MODIFIED:20260112T180058Z
UID:10001581-1827684000-1827693000@nubf.org
SUMMARY:Youth Group
DESCRIPTION:
URL:https://nubf.org/event/youth-group/2027-12-01/
LOCATION:North Umpqua Bible Fellowship\, 1547 Wild River Dr\, Roseburg\, OR\, 97470\, United States
CATEGORIES:Youth
ATTACH;FMTTYPE=image/jpeg:https://nubf.org/wp-content/uploads/2026/01/Sunday-Service-Powerpoint-copy.jpg
END:VEVENT
BEGIN:VEVENT
DTSTART;TZID=America/Los_Angeles:20271201T183000
DTEND;TZID=America/Los_Angeles:20271201T200000
DTSTAMP:20260425T173153
CREATED:20260108T211810Z
LAST-MODIFIED:20260112T175001Z
UID:10002103-1827685800-1827691200@nubf.org
SUMMARY:Men's Bible Study
DESCRIPTION:
URL:https://nubf.org/event/mens-bible-study/2027-12-01/
LOCATION:North Umpqua Bible Fellowship – Northroom\, 1547 Wild River Dr\, Roseburg\, OR\, 97470\, United States
CATEGORIES:Men's Ministry
ATTACH;FMTTYPE=image/jpeg:https://nubf.org/wp-content/uploads/2026/01/Sunday-Service-Powerpoint-Presentation.jpg
END:VEVENT
BEGIN:VEVENT
DTSTART;TZID=America/Los_Angeles:20271201T183000
DTEND;TZID=America/Los_Angeles:20271201T200000
DTSTAMP:20260425T173153
CREATED:20260108T213001Z
LAST-MODIFIED:20260129T194137Z
UID:10002626-1827685800-1827691200@nubf.org
SUMMARY:Wednesday Night Women's Bible Study
DESCRIPTION:Author is Lysa Terkeurst\n \nDates: February 25th/26th – April 1st/2nd\nWednesday: 6:30 PM\nThursday:10:00 AM\nCost: $2.50\nRegistration: February 1st – 15th\nChild Care Available\n 
URL:https://nubf.org/event/wednesday-night-womens-bible-study/2027-12-01/
LOCATION:North Umpqua Bible Fellowship – Library\, 1547 Wild River Dr\, Roseburg\, OR\, 97470\, United States
CATEGORIES:Women's Ministry
ATTACH;FMTTYPE=image/jpeg:https://nubf.org/wp-content/uploads/2026/01/Sunday-Service-Powerpoint.jpg
END:VEVENT
BEGIN:VEVENT
DTSTART;TZID=America/Los_Angeles:20271202T100000
DTEND;TZID=America/Los_Angeles:20271202T113000
DTSTAMP:20260425T173153
CREATED:20260108T212602Z
LAST-MODIFIED:20260129T194214Z
UID:10002365-1827741600-1827747000@nubf.org
SUMMARY:Thursday Morning Women's Bible Study
DESCRIPTION:Author is Lysa Terkeurst\n \nDates: February 25th/26th – April 1st/2nd\nWednesday: 6:30 PM\nThursday:10:00 AM\nCost: $2.50\nRegistration: February 1st – 15th\nChild Care Available
URL:https://nubf.org/event/thursday-morning-womens-bible-study/2027-12-02/
LOCATION:North Umpqua Bible Fellowship – Northroom\, 1547 Wild River Dr\, Roseburg\, OR\, 97470\, United States
CATEGORIES:Women's Ministry
ATTACH;FMTTYPE=image/png:https://nubf.org/wp-content/uploads/2026/01/4.png
END:VEVENT
BEGIN:VEVENT
DTSTART;TZID=America/Los_Angeles:20271205T100000
DTEND;TZID=America/Los_Angeles:20271205T113000
DTSTAMP:20260425T173153
CREATED:20260108T203659Z
LAST-MODIFIED:20260118T161517Z
UID:10001843-1828000800-1828006200@nubf.org
SUMMARY:Sunday Service
DESCRIPTION:Join us for worship\, a message from God’s Word\, and fellowship.
URL:https://nubf.org/event/sunday-service/2027-12-05/
LOCATION:North Umpqua Bible Fellowship\, 1547 Wild River Dr\, Roseburg\, OR\, 97470\, United States
CATEGORIES:For All
ATTACH;FMTTYPE=image/jpeg:https://nubf.org/wp-content/uploads/2025/11/joshua-background.jpg
END:VEVENT
BEGIN:VEVENT
DTSTART;TZID=America/Los_Angeles:20271208T100000
DTEND;TZID=America/Los_Angeles:20271208T110000
DTSTAMP:20260425T173153
CREATED:20260113T212543Z
LAST-MODIFIED:20260115T233512Z
UID:10002889-1828260000-1828263600@nubf.org
SUMMARY:Wednesday Morning Prayer
DESCRIPTION:
URL:https://nubf.org/event/wednesday-morning-prayer/2027-12-08/
LOCATION:North Umpqua Bible Fellowship – Northroom\, 1547 Wild River Dr\, Roseburg\, OR\, 97470\, United States
CATEGORIES:For All
ATTACH;FMTTYPE=image/png:https://nubf.org/wp-content/uploads/2020/10/Artboard-1Web.png
END:VEVENT
BEGIN:VEVENT
DTSTART;TZID=America/Los_Angeles:20271208T180000
DTEND;TZID=America/Los_Angeles:20271208T203000
DTSTAMP:20260425T173153
CREATED:20260107T074147Z
LAST-MODIFIED:20260112T180058Z
UID:10001582-1828288800-1828297800@nubf.org
SUMMARY:Youth Group
DESCRIPTION:
URL:https://nubf.org/event/youth-group/2027-12-08/
LOCATION:North Umpqua Bible Fellowship\, 1547 Wild River Dr\, Roseburg\, OR\, 97470\, United States
CATEGORIES:Youth
ATTACH;FMTTYPE=image/jpeg:https://nubf.org/wp-content/uploads/2026/01/Sunday-Service-Powerpoint-copy.jpg
END:VEVENT
BEGIN:VEVENT
DTSTART;TZID=America/Los_Angeles:20271208T183000
DTEND;TZID=America/Los_Angeles:20271208T200000
DTSTAMP:20260425T173153
CREATED:20260108T211810Z
LAST-MODIFIED:20260112T175001Z
UID:10002104-1828290600-1828296000@nubf.org
SUMMARY:Men's Bible Study
DESCRIPTION:
URL:https://nubf.org/event/mens-bible-study/2027-12-08/
LOCATION:North Umpqua Bible Fellowship – Northroom\, 1547 Wild River Dr\, Roseburg\, OR\, 97470\, United States
CATEGORIES:Men's Ministry
ATTACH;FMTTYPE=image/jpeg:https://nubf.org/wp-content/uploads/2026/01/Sunday-Service-Powerpoint-Presentation.jpg
END:VEVENT
BEGIN:VEVENT
DTSTART;TZID=America/Los_Angeles:20271208T183000
DTEND;TZID=America/Los_Angeles:20271208T200000
DTSTAMP:20260425T173153
CREATED:20260108T213001Z
LAST-MODIFIED:20260129T194137Z
UID:10002627-1828290600-1828296000@nubf.org
SUMMARY:Wednesday Night Women's Bible Study
DESCRIPTION:Author is Lysa Terkeurst\n \nDates: February 25th/26th – April 1st/2nd\nWednesday: 6:30 PM\nThursday:10:00 AM\nCost: $2.50\nRegistration: February 1st – 15th\nChild Care Available\n 
URL:https://nubf.org/event/wednesday-night-womens-bible-study/2027-12-08/
LOCATION:North Umpqua Bible Fellowship – Library\, 1547 Wild River Dr\, Roseburg\, OR\, 97470\, United States
CATEGORIES:Women's Ministry
ATTACH;FMTTYPE=image/jpeg:https://nubf.org/wp-content/uploads/2026/01/Sunday-Service-Powerpoint.jpg
END:VEVENT
BEGIN:VEVENT
DTSTART;TZID=America/Los_Angeles:20271209T100000
DTEND;TZID=America/Los_Angeles:20271209T113000
DTSTAMP:20260425T173153
CREATED:20260108T212602Z
LAST-MODIFIED:20260129T194214Z
UID:10002366-1828346400-1828351800@nubf.org
SUMMARY:Thursday Morning Women's Bible Study
DESCRIPTION:Author is Lysa Terkeurst\n \nDates: February 25th/26th – April 1st/2nd\nWednesday: 6:30 PM\nThursday:10:00 AM\nCost: $2.50\nRegistration: February 1st – 15th\nChild Care Available
URL:https://nubf.org/event/thursday-morning-womens-bible-study/2027-12-09/
LOCATION:North Umpqua Bible Fellowship – Northroom\, 1547 Wild River Dr\, Roseburg\, OR\, 97470\, United States
CATEGORIES:Women's Ministry
ATTACH;FMTTYPE=image/png:https://nubf.org/wp-content/uploads/2026/01/4.png
END:VEVENT
BEGIN:VEVENT
DTSTART;TZID=America/Los_Angeles:20271212T100000
DTEND;TZID=America/Los_Angeles:20271212T113000
DTSTAMP:20260425T173153
CREATED:20260108T203659Z
LAST-MODIFIED:20260118T161517Z
UID:10001844-1828605600-1828611000@nubf.org
SUMMARY:Sunday Service
DESCRIPTION:Join us for worship\, a message from God’s Word\, and fellowship.
URL:https://nubf.org/event/sunday-service/2027-12-12/
LOCATION:North Umpqua Bible Fellowship\, 1547 Wild River Dr\, Roseburg\, OR\, 97470\, United States
CATEGORIES:For All
ATTACH;FMTTYPE=image/jpeg:https://nubf.org/wp-content/uploads/2025/11/joshua-background.jpg
END:VEVENT
BEGIN:VEVENT
DTSTART;TZID=America/Los_Angeles:20271212T120000
DTEND;TZID=America/Los_Angeles:20271212T133000
DTSTAMP:20260425T173153
CREATED:20260122T171758Z
LAST-MODIFIED:20260122T174513Z
UID:10003079-1828612800-1828618200@nubf.org
SUMMARY:Ministry Leaders Meeting
DESCRIPTION:To connect\, coordinate\, and share concerns in regards to NUBF’s ministries.
URL:https://nubf.org/event/ministry-leaders/2027-12-12/
LOCATION:North Umpqua Bible Fellowship – Northroom\, 1547 Wild River Dr\, Roseburg\, OR\, 97470\, United States
CATEGORIES:For All
ATTACH;FMTTYPE=image/png:https://nubf.org/wp-content/uploads/2026/01/2-copy.png
END:VEVENT
BEGIN:VEVENT
DTSTART;TZID=America/Los_Angeles:20271215T100000
DTEND;TZID=America/Los_Angeles:20271215T110000
DTSTAMP:20260425T173153
CREATED:20260113T212543Z
LAST-MODIFIED:20260115T233512Z
UID:10002890-1828864800-1828868400@nubf.org
SUMMARY:Wednesday Morning Prayer
DESCRIPTION:
URL:https://nubf.org/event/wednesday-morning-prayer/2027-12-15/
LOCATION:North Umpqua Bible Fellowship – Northroom\, 1547 Wild River Dr\, Roseburg\, OR\, 97470\, United States
CATEGORIES:For All
ATTACH;FMTTYPE=image/png:https://nubf.org/wp-content/uploads/2020/10/Artboard-1Web.png
END:VEVENT
BEGIN:VEVENT
DTSTART;TZID=America/Los_Angeles:20271215T180000
DTEND;TZID=America/Los_Angeles:20271215T203000
DTSTAMP:20260425T173153
CREATED:20260107T074147Z
LAST-MODIFIED:20260112T180058Z
UID:10001583-1828893600-1828902600@nubf.org
SUMMARY:Youth Group
DESCRIPTION:
URL:https://nubf.org/event/youth-group/2027-12-15/
LOCATION:North Umpqua Bible Fellowship\, 1547 Wild River Dr\, Roseburg\, OR\, 97470\, United States
CATEGORIES:Youth
ATTACH;FMTTYPE=image/jpeg:https://nubf.org/wp-content/uploads/2026/01/Sunday-Service-Powerpoint-copy.jpg
END:VEVENT
BEGIN:VEVENT
DTSTART;TZID=America/Los_Angeles:20271215T183000
DTEND;TZID=America/Los_Angeles:20271215T200000
DTSTAMP:20260425T173153
CREATED:20260108T211810Z
LAST-MODIFIED:20260112T175001Z
UID:10002105-1828895400-1828900800@nubf.org
SUMMARY:Men's Bible Study
DESCRIPTION:
URL:https://nubf.org/event/mens-bible-study/2027-12-15/
LOCATION:North Umpqua Bible Fellowship – Northroom\, 1547 Wild River Dr\, Roseburg\, OR\, 97470\, United States
CATEGORIES:Men's Ministry
ATTACH;FMTTYPE=image/jpeg:https://nubf.org/wp-content/uploads/2026/01/Sunday-Service-Powerpoint-Presentation.jpg
END:VEVENT
BEGIN:VEVENT
DTSTART;TZID=America/Los_Angeles:20271215T183000
DTEND;TZID=America/Los_Angeles:20271215T200000
DTSTAMP:20260425T173153
CREATED:20260108T213001Z
LAST-MODIFIED:20260129T194137Z
UID:10002628-1828895400-1828900800@nubf.org
SUMMARY:Wednesday Night Women's Bible Study
DESCRIPTION:Author is Lysa Terkeurst\n \nDates: February 25th/26th – April 1st/2nd\nWednesday: 6:30 PM\nThursday:10:00 AM\nCost: $2.50\nRegistration: February 1st – 15th\nChild Care Available\n 
URL:https://nubf.org/event/wednesday-night-womens-bible-study/2027-12-15/
LOCATION:North Umpqua Bible Fellowship – Library\, 1547 Wild River Dr\, Roseburg\, OR\, 97470\, United States
CATEGORIES:Women's Ministry
ATTACH;FMTTYPE=image/jpeg:https://nubf.org/wp-content/uploads/2026/01/Sunday-Service-Powerpoint.jpg
END:VEVENT
BEGIN:VEVENT
DTSTART;TZID=America/Los_Angeles:20271216T100000
DTEND;TZID=America/Los_Angeles:20271216T113000
DTSTAMP:20260425T173153
CREATED:20260108T212602Z
LAST-MODIFIED:20260129T194214Z
UID:10002367-1828951200-1828956600@nubf.org
SUMMARY:Thursday Morning Women's Bible Study
DESCRIPTION:Author is Lysa Terkeurst\n \nDates: February 25th/26th – April 1st/2nd\nWednesday: 6:30 PM\nThursday:10:00 AM\nCost: $2.50\nRegistration: February 1st – 15th\nChild Care Available
URL:https://nubf.org/event/thursday-morning-womens-bible-study/2027-12-16/
LOCATION:North Umpqua Bible Fellowship – Northroom\, 1547 Wild River Dr\, Roseburg\, OR\, 97470\, United States
CATEGORIES:Women's Ministry
ATTACH;FMTTYPE=image/png:https://nubf.org/wp-content/uploads/2026/01/4.png
END:VEVENT
BEGIN:VEVENT
DTSTART;TZID=America/Los_Angeles:20271219T100000
DTEND;TZID=America/Los_Angeles:20271219T113000
DTSTAMP:20260425T173153
CREATED:20260108T203659Z
LAST-MODIFIED:20260118T161517Z
UID:10001845-1829210400-1829215800@nubf.org
SUMMARY:Sunday Service
DESCRIPTION:Join us for worship\, a message from God’s Word\, and fellowship.
URL:https://nubf.org/event/sunday-service/2027-12-19/
LOCATION:North Umpqua Bible Fellowship\, 1547 Wild River Dr\, Roseburg\, OR\, 97470\, United States
CATEGORIES:For All
ATTACH;FMTTYPE=image/jpeg:https://nubf.org/wp-content/uploads/2025/11/joshua-background.jpg
END:VEVENT
BEGIN:VEVENT
DTSTART;TZID=America/Los_Angeles:20271219T120000
DTEND;TZID=America/Los_Angeles:20271219T133000
DTSTAMP:20260425T173153
CREATED:20260122T171924Z
LAST-MODIFIED:20260122T174557Z
UID:10003139-1829217600-1829223000@nubf.org
SUMMARY:Senders Meeting
DESCRIPTION:To connect\, coordinate\, and share concerns in regards to NUBF’s mission partners.
URL:https://nubf.org/event/senders-meeting/2027-12-19/
LOCATION:North Umpqua Bible Fellowship\, 1547 Wild River Dr\, Roseburg\, OR\, 97470\, United States
CATEGORIES:For All
ATTACH;FMTTYPE=image/png:https://nubf.org/wp-content/uploads/2026/01/1-1.png
END:VEVENT
BEGIN:VEVENT
DTSTART;TZID=America/Los_Angeles:20271222T100000
DTEND;TZID=America/Los_Angeles:20271222T110000
DTSTAMP:20260425T173153
CREATED:20260113T212543Z
LAST-MODIFIED:20260115T233512Z
UID:10002891-1829469600-1829473200@nubf.org
SUMMARY:Wednesday Morning Prayer
DESCRIPTION:
URL:https://nubf.org/event/wednesday-morning-prayer/2027-12-22/
LOCATION:North Umpqua Bible Fellowship – Northroom\, 1547 Wild River Dr\, Roseburg\, OR\, 97470\, United States
CATEGORIES:For All
ATTACH;FMTTYPE=image/png:https://nubf.org/wp-content/uploads/2020/10/Artboard-1Web.png
END:VEVENT
BEGIN:VEVENT
DTSTART;TZID=America/Los_Angeles:20271222T180000
DTEND;TZID=America/Los_Angeles:20271222T203000
DTSTAMP:20260425T173153
CREATED:20260107T074147Z
LAST-MODIFIED:20260112T180058Z
UID:10001584-1829498400-1829507400@nubf.org
SUMMARY:Youth Group
DESCRIPTION:
URL:https://nubf.org/event/youth-group/2027-12-22/
LOCATION:North Umpqua Bible Fellowship\, 1547 Wild River Dr\, Roseburg\, OR\, 97470\, United States
CATEGORIES:Youth
ATTACH;FMTTYPE=image/jpeg:https://nubf.org/wp-content/uploads/2026/01/Sunday-Service-Powerpoint-copy.jpg
END:VEVENT
BEGIN:VEVENT
DTSTART;TZID=America/Los_Angeles:20271222T183000
DTEND;TZID=America/Los_Angeles:20271222T200000
DTSTAMP:20260425T173153
CREATED:20260108T211810Z
LAST-MODIFIED:20260112T175001Z
UID:10002106-1829500200-1829505600@nubf.org
SUMMARY:Men's Bible Study
DESCRIPTION:
URL:https://nubf.org/event/mens-bible-study/2027-12-22/
LOCATION:North Umpqua Bible Fellowship – Northroom\, 1547 Wild River Dr\, Roseburg\, OR\, 97470\, United States
CATEGORIES:Men's Ministry
ATTACH;FMTTYPE=image/jpeg:https://nubf.org/wp-content/uploads/2026/01/Sunday-Service-Powerpoint-Presentation.jpg
END:VEVENT
BEGIN:VEVENT
DTSTART;TZID=America/Los_Angeles:20271222T183000
DTEND;TZID=America/Los_Angeles:20271222T200000
DTSTAMP:20260425T173153
CREATED:20260108T213001Z
LAST-MODIFIED:20260129T194137Z
UID:10002629-1829500200-1829505600@nubf.org
SUMMARY:Wednesday Night Women's Bible Study
DESCRIPTION:Author is Lysa Terkeurst\n \nDates: February 25th/26th – April 1st/2nd\nWednesday: 6:30 PM\nThursday:10:00 AM\nCost: $2.50\nRegistration: February 1st – 15th\nChild Care Available\n 
URL:https://nubf.org/event/wednesday-night-womens-bible-study/2027-12-22/
LOCATION:North Umpqua Bible Fellowship – Library\, 1547 Wild River Dr\, Roseburg\, OR\, 97470\, United States
CATEGORIES:Women's Ministry
ATTACH;FMTTYPE=image/jpeg:https://nubf.org/wp-content/uploads/2026/01/Sunday-Service-Powerpoint.jpg
END:VEVENT
BEGIN:VEVENT
DTSTART;TZID=America/Los_Angeles:20271223T100000
DTEND;TZID=America/Los_Angeles:20271223T113000
DTSTAMP:20260425T173153
CREATED:20260108T212602Z
LAST-MODIFIED:20260129T194214Z
UID:10002368-1829556000-1829561400@nubf.org
SUMMARY:Thursday Morning Women's Bible Study
DESCRIPTION:Author is Lysa Terkeurst\n \nDates: February 25th/26th – April 1st/2nd\nWednesday: 6:30 PM\nThursday:10:00 AM\nCost: $2.50\nRegistration: February 1st – 15th\nChild Care Available
URL:https://nubf.org/event/thursday-morning-womens-bible-study/2027-12-23/
LOCATION:North Umpqua Bible Fellowship – Northroom\, 1547 Wild River Dr\, Roseburg\, OR\, 97470\, United States
CATEGORIES:Women's Ministry
ATTACH;FMTTYPE=image/png:https://nubf.org/wp-content/uploads/2026/01/4.png
END:VEVENT
BEGIN:VEVENT
DTSTART;TZID=America/Los_Angeles:20271226T100000
DTEND;TZID=America/Los_Angeles:20271226T113000
DTSTAMP:20260425T173153
CREATED:20260108T203659Z
LAST-MODIFIED:20260118T161517Z
UID:10001846-1829815200-1829820600@nubf.org
SUMMARY:Sunday Service
DESCRIPTION:Join us for worship\, a message from God’s Word\, and fellowship.
URL:https://nubf.org/event/sunday-service/2027-12-26/
LOCATION:North Umpqua Bible Fellowship\, 1547 Wild River Dr\, Roseburg\, OR\, 97470\, United States
CATEGORIES:For All
ATTACH;FMTTYPE=image/jpeg:https://nubf.org/wp-content/uploads/2025/11/joshua-background.jpg
END:VEVENT
END:VCALENDAR