BEGIN:VCALENDAR
VERSION:2.0
PRODID:-//North Umpqua Bible Fellowship - ECPv6.15.20//NONSGML v1.0//EN
CALSCALE:GREGORIAN
METHOD:PUBLISH
X-WR-CALNAME:North Umpqua Bible Fellowship
X-ORIGINAL-URL:https://nubf.org
X-WR-CALDESC:Events for North Umpqua Bible Fellowship
REFRESH-INTERVAL;VALUE=DURATION:PT1H
X-Robots-Tag:noindex
X-PUBLISHED-TTL:PT1H
BEGIN:VTIMEZONE
TZID:America/Los_Angeles
BEGIN:DAYLIGHT
TZOFFSETFROM:-0800
TZOFFSETTO:-0700
TZNAME:PDT
DTSTART:20290311T100000
END:DAYLIGHT
BEGIN:STANDARD
TZOFFSETFROM:-0700
TZOFFSETTO:-0800
TZNAME:PST
DTSTART:20291104T090000
END:STANDARD
BEGIN:DAYLIGHT
TZOFFSETFROM:-0800
TZOFFSETTO:-0700
TZNAME:PDT
DTSTART:20300310T100000
END:DAYLIGHT
BEGIN:STANDARD
TZOFFSETFROM:-0700
TZOFFSETTO:-0800
TZNAME:PST
DTSTART:20301103T090000
END:STANDARD
BEGIN:DAYLIGHT
TZOFFSETFROM:-0800
TZOFFSETTO:-0700
TZNAME:PDT
DTSTART:20310309T100000
END:DAYLIGHT
BEGIN:STANDARD
TZOFFSETFROM:-0700
TZOFFSETTO:-0800
TZNAME:PST
DTSTART:20311102T090000
END:STANDARD
END:VTIMEZONE
BEGIN:VEVENT
DTSTART;TZID=America/Los_Angeles:20301023T183000
DTEND;TZID=America/Los_Angeles:20301023T200000
DTSTAMP:20260425T034617
CREATED:20260108T213001Z
LAST-MODIFIED:20260129T194137Z
UID:10002777-1919010600-1919016000@nubf.org
SUMMARY:Wednesday Night Women's Bible Study
DESCRIPTION:Author is Lysa Terkeurst\n \nDates: February 25th/26th – April 1st/2nd\nWednesday: 6:30 PM\nThursday:10:00 AM\nCost: $2.50\nRegistration: February 1st – 15th\nChild Care Available\n 
URL:https://nubf.org/event/wednesday-night-womens-bible-study/2030-10-23/
LOCATION:North Umpqua Bible Fellowship – Library\, 1547 Wild River Dr\, Roseburg\, OR\, 97470\, United States
CATEGORIES:Women's Ministry
ATTACH;FMTTYPE=image/jpeg:https://nubf.org/wp-content/uploads/2026/01/Sunday-Service-Powerpoint.jpg
END:VEVENT
BEGIN:VEVENT
DTSTART;TZID=America/Los_Angeles:20301024T100000
DTEND;TZID=America/Los_Angeles:20301024T113000
DTSTAMP:20260425T034617
CREATED:20260108T212602Z
LAST-MODIFIED:20260129T194214Z
UID:10002516-1919066400-1919071800@nubf.org
SUMMARY:Thursday Morning Women's Bible Study
DESCRIPTION:Author is Lysa Terkeurst\n \nDates: February 25th/26th – April 1st/2nd\nWednesday: 6:30 PM\nThursday:10:00 AM\nCost: $2.50\nRegistration: February 1st – 15th\nChild Care Available
URL:https://nubf.org/event/thursday-morning-womens-bible-study/2030-10-24/
LOCATION:North Umpqua Bible Fellowship – Northroom\, 1547 Wild River Dr\, Roseburg\, OR\, 97470\, United States
CATEGORIES:Women's Ministry
ATTACH;FMTTYPE=image/png:https://nubf.org/wp-content/uploads/2026/01/4.png
END:VEVENT
BEGIN:VEVENT
DTSTART;TZID=America/Los_Angeles:20301027T100000
DTEND;TZID=America/Los_Angeles:20301027T113000
DTSTAMP:20260425T034617
CREATED:20260108T203659Z
LAST-MODIFIED:20260118T161517Z
UID:10001994-1919325600-1919331000@nubf.org
SUMMARY:Sunday Service
DESCRIPTION:Join us for worship\, a message from God’s Word\, and fellowship.
URL:https://nubf.org/event/sunday-service/2030-10-27/
LOCATION:North Umpqua Bible Fellowship\, 1547 Wild River Dr\, Roseburg\, OR\, 97470\, United States
CATEGORIES:For All
ATTACH;FMTTYPE=image/jpeg:https://nubf.org/wp-content/uploads/2025/11/joshua-background.jpg
END:VEVENT
BEGIN:VEVENT
DTSTART;TZID=America/Los_Angeles:20301030T100000
DTEND;TZID=America/Los_Angeles:20301030T110000
DTSTAMP:20260425T034617
CREATED:20260113T212543Z
LAST-MODIFIED:20260115T233512Z
UID:10003040-1919584800-1919588400@nubf.org
SUMMARY:Wednesday Morning Prayer
DESCRIPTION:
URL:https://nubf.org/event/wednesday-morning-prayer/2030-10-30/
LOCATION:North Umpqua Bible Fellowship – Northroom\, 1547 Wild River Dr\, Roseburg\, OR\, 97470\, United States
CATEGORIES:For All
ATTACH;FMTTYPE=image/png:https://nubf.org/wp-content/uploads/2020/10/Artboard-1Web.png
END:VEVENT
BEGIN:VEVENT
DTSTART;TZID=America/Los_Angeles:20301030T180000
DTEND;TZID=America/Los_Angeles:20301030T203000
DTSTAMP:20260425T034617
CREATED:20260107T074147Z
LAST-MODIFIED:20260112T180058Z
UID:10001733-1919613600-1919622600@nubf.org
SUMMARY:Youth Group
DESCRIPTION:
URL:https://nubf.org/event/youth-group/2030-10-30/
LOCATION:North Umpqua Bible Fellowship\, 1547 Wild River Dr\, Roseburg\, OR\, 97470\, United States
CATEGORIES:Youth
ATTACH;FMTTYPE=image/jpeg:https://nubf.org/wp-content/uploads/2026/01/Sunday-Service-Powerpoint-copy.jpg
END:VEVENT
BEGIN:VEVENT
DTSTART;TZID=America/Los_Angeles:20301030T183000
DTEND;TZID=America/Los_Angeles:20301030T200000
DTSTAMP:20260425T034617
CREATED:20260108T211810Z
LAST-MODIFIED:20260112T175001Z
UID:10002255-1919615400-1919620800@nubf.org
SUMMARY:Men's Bible Study
DESCRIPTION:
URL:https://nubf.org/event/mens-bible-study/2030-10-30/
LOCATION:North Umpqua Bible Fellowship – Northroom\, 1547 Wild River Dr\, Roseburg\, OR\, 97470\, United States
CATEGORIES:Men's Ministry
ATTACH;FMTTYPE=image/jpeg:https://nubf.org/wp-content/uploads/2026/01/Sunday-Service-Powerpoint-Presentation.jpg
END:VEVENT
BEGIN:VEVENT
DTSTART;TZID=America/Los_Angeles:20301030T183000
DTEND;TZID=America/Los_Angeles:20301030T200000
DTSTAMP:20260425T034617
CREATED:20260108T213001Z
LAST-MODIFIED:20260129T194137Z
UID:10002778-1919615400-1919620800@nubf.org
SUMMARY:Wednesday Night Women's Bible Study
DESCRIPTION:Author is Lysa Terkeurst\n \nDates: February 25th/26th – April 1st/2nd\nWednesday: 6:30 PM\nThursday:10:00 AM\nCost: $2.50\nRegistration: February 1st – 15th\nChild Care Available\n 
URL:https://nubf.org/event/wednesday-night-womens-bible-study/2030-10-30/
LOCATION:North Umpqua Bible Fellowship – Library\, 1547 Wild River Dr\, Roseburg\, OR\, 97470\, United States
CATEGORIES:Women's Ministry
ATTACH;FMTTYPE=image/jpeg:https://nubf.org/wp-content/uploads/2026/01/Sunday-Service-Powerpoint.jpg
END:VEVENT
BEGIN:VEVENT
DTSTART;TZID=America/Los_Angeles:20301031T100000
DTEND;TZID=America/Los_Angeles:20301031T113000
DTSTAMP:20260425T034617
CREATED:20260108T212602Z
LAST-MODIFIED:20260129T194214Z
UID:10002517-1919671200-1919676600@nubf.org
SUMMARY:Thursday Morning Women's Bible Study
DESCRIPTION:Author is Lysa Terkeurst\n \nDates: February 25th/26th – April 1st/2nd\nWednesday: 6:30 PM\nThursday:10:00 AM\nCost: $2.50\nRegistration: February 1st – 15th\nChild Care Available
URL:https://nubf.org/event/thursday-morning-womens-bible-study/2030-10-31/
LOCATION:North Umpqua Bible Fellowship – Northroom\, 1547 Wild River Dr\, Roseburg\, OR\, 97470\, United States
CATEGORIES:Women's Ministry
ATTACH;FMTTYPE=image/png:https://nubf.org/wp-content/uploads/2026/01/4.png
END:VEVENT
BEGIN:VEVENT
DTSTART;TZID=America/Los_Angeles:20301103T100000
DTEND;TZID=America/Los_Angeles:20301103T113000
DTSTAMP:20260425T034617
CREATED:20260108T203659Z
LAST-MODIFIED:20260118T161517Z
UID:10001995-1919930400-1919935800@nubf.org
SUMMARY:Sunday Service
DESCRIPTION:Join us for worship\, a message from God’s Word\, and fellowship.
URL:https://nubf.org/event/sunday-service/2030-11-03/
LOCATION:North Umpqua Bible Fellowship\, 1547 Wild River Dr\, Roseburg\, OR\, 97470\, United States
CATEGORIES:For All
ATTACH;FMTTYPE=image/jpeg:https://nubf.org/wp-content/uploads/2025/11/joshua-background.jpg
END:VEVENT
BEGIN:VEVENT
DTSTART;TZID=America/Los_Angeles:20301106T100000
DTEND;TZID=America/Los_Angeles:20301106T110000
DTSTAMP:20260425T034617
CREATED:20260113T212543Z
LAST-MODIFIED:20260115T233512Z
UID:10003041-1920189600-1920193200@nubf.org
SUMMARY:Wednesday Morning Prayer
DESCRIPTION:
URL:https://nubf.org/event/wednesday-morning-prayer/2030-11-06/
LOCATION:North Umpqua Bible Fellowship – Northroom\, 1547 Wild River Dr\, Roseburg\, OR\, 97470\, United States
CATEGORIES:For All
ATTACH;FMTTYPE=image/png:https://nubf.org/wp-content/uploads/2020/10/Artboard-1Web.png
END:VEVENT
BEGIN:VEVENT
DTSTART;TZID=America/Los_Angeles:20301106T180000
DTEND;TZID=America/Los_Angeles:20301106T203000
DTSTAMP:20260425T034617
CREATED:20260107T074147Z
LAST-MODIFIED:20260112T180058Z
UID:10001734-1920218400-1920227400@nubf.org
SUMMARY:Youth Group
DESCRIPTION:
URL:https://nubf.org/event/youth-group/2030-11-06/
LOCATION:North Umpqua Bible Fellowship\, 1547 Wild River Dr\, Roseburg\, OR\, 97470\, United States
CATEGORIES:Youth
ATTACH;FMTTYPE=image/jpeg:https://nubf.org/wp-content/uploads/2026/01/Sunday-Service-Powerpoint-copy.jpg
END:VEVENT
BEGIN:VEVENT
DTSTART;TZID=America/Los_Angeles:20301106T183000
DTEND;TZID=America/Los_Angeles:20301106T200000
DTSTAMP:20260425T034617
CREATED:20260108T211810Z
LAST-MODIFIED:20260112T175001Z
UID:10002256-1920220200-1920225600@nubf.org
SUMMARY:Men's Bible Study
DESCRIPTION:
URL:https://nubf.org/event/mens-bible-study/2030-11-06/
LOCATION:North Umpqua Bible Fellowship – Northroom\, 1547 Wild River Dr\, Roseburg\, OR\, 97470\, United States
CATEGORIES:Men's Ministry
ATTACH;FMTTYPE=image/jpeg:https://nubf.org/wp-content/uploads/2026/01/Sunday-Service-Powerpoint-Presentation.jpg
END:VEVENT
BEGIN:VEVENT
DTSTART;TZID=America/Los_Angeles:20301106T183000
DTEND;TZID=America/Los_Angeles:20301106T200000
DTSTAMP:20260425T034617
CREATED:20260108T213001Z
LAST-MODIFIED:20260129T194137Z
UID:10002779-1920220200-1920225600@nubf.org
SUMMARY:Wednesday Night Women's Bible Study
DESCRIPTION:Author is Lysa Terkeurst\n \nDates: February 25th/26th – April 1st/2nd\nWednesday: 6:30 PM\nThursday:10:00 AM\nCost: $2.50\nRegistration: February 1st – 15th\nChild Care Available\n 
URL:https://nubf.org/event/wednesday-night-womens-bible-study/2030-11-06/
LOCATION:North Umpqua Bible Fellowship – Library\, 1547 Wild River Dr\, Roseburg\, OR\, 97470\, United States
CATEGORIES:Women's Ministry
ATTACH;FMTTYPE=image/jpeg:https://nubf.org/wp-content/uploads/2026/01/Sunday-Service-Powerpoint.jpg
END:VEVENT
BEGIN:VEVENT
DTSTART;TZID=America/Los_Angeles:20301107T100000
DTEND;TZID=America/Los_Angeles:20301107T113000
DTSTAMP:20260425T034617
CREATED:20260108T212602Z
LAST-MODIFIED:20260129T194214Z
UID:10002518-1920276000-1920281400@nubf.org
SUMMARY:Thursday Morning Women's Bible Study
DESCRIPTION:Author is Lysa Terkeurst\n \nDates: February 25th/26th – April 1st/2nd\nWednesday: 6:30 PM\nThursday:10:00 AM\nCost: $2.50\nRegistration: February 1st – 15th\nChild Care Available
URL:https://nubf.org/event/thursday-morning-womens-bible-study/2030-11-07/
LOCATION:North Umpqua Bible Fellowship – Northroom\, 1547 Wild River Dr\, Roseburg\, OR\, 97470\, United States
CATEGORIES:Women's Ministry
ATTACH;FMTTYPE=image/png:https://nubf.org/wp-content/uploads/2026/01/4.png
END:VEVENT
BEGIN:VEVENT
DTSTART;TZID=America/Los_Angeles:20301110T100000
DTEND;TZID=America/Los_Angeles:20301110T113000
DTSTAMP:20260425T034617
CREATED:20260108T203659Z
LAST-MODIFIED:20260118T161517Z
UID:10001996-1920535200-1920540600@nubf.org
SUMMARY:Sunday Service
DESCRIPTION:Join us for worship\, a message from God’s Word\, and fellowship.
URL:https://nubf.org/event/sunday-service/2030-11-10/
LOCATION:North Umpqua Bible Fellowship\, 1547 Wild River Dr\, Roseburg\, OR\, 97470\, United States
CATEGORIES:For All
ATTACH;FMTTYPE=image/jpeg:https://nubf.org/wp-content/uploads/2025/11/joshua-background.jpg
END:VEVENT
BEGIN:VEVENT
DTSTART;TZID=America/Los_Angeles:20301110T120000
DTEND;TZID=America/Los_Angeles:20301110T133000
DTSTAMP:20260425T034617
CREATED:20260122T171758Z
LAST-MODIFIED:20260122T174513Z
UID:10003114-1920542400-1920547800@nubf.org
SUMMARY:Ministry Leaders Meeting
DESCRIPTION:To connect\, coordinate\, and share concerns in regards to NUBF’s ministries.
URL:https://nubf.org/event/ministry-leaders/2030-11-10/
LOCATION:North Umpqua Bible Fellowship – Northroom\, 1547 Wild River Dr\, Roseburg\, OR\, 97470\, United States
CATEGORIES:For All
ATTACH;FMTTYPE=image/png:https://nubf.org/wp-content/uploads/2026/01/2-copy.png
END:VEVENT
BEGIN:VEVENT
DTSTART;TZID=America/Los_Angeles:20301113T100000
DTEND;TZID=America/Los_Angeles:20301113T110000
DTSTAMP:20260425T034617
CREATED:20260113T212543Z
LAST-MODIFIED:20260115T233512Z
UID:10003042-1920794400-1920798000@nubf.org
SUMMARY:Wednesday Morning Prayer
DESCRIPTION:
URL:https://nubf.org/event/wednesday-morning-prayer/2030-11-13/
LOCATION:North Umpqua Bible Fellowship – Northroom\, 1547 Wild River Dr\, Roseburg\, OR\, 97470\, United States
CATEGORIES:For All
ATTACH;FMTTYPE=image/png:https://nubf.org/wp-content/uploads/2020/10/Artboard-1Web.png
END:VEVENT
BEGIN:VEVENT
DTSTART;TZID=America/Los_Angeles:20301113T180000
DTEND;TZID=America/Los_Angeles:20301113T203000
DTSTAMP:20260425T034617
CREATED:20260107T074147Z
LAST-MODIFIED:20260112T180058Z
UID:10001735-1920823200-1920832200@nubf.org
SUMMARY:Youth Group
DESCRIPTION:
URL:https://nubf.org/event/youth-group/2030-11-13/
LOCATION:North Umpqua Bible Fellowship\, 1547 Wild River Dr\, Roseburg\, OR\, 97470\, United States
CATEGORIES:Youth
ATTACH;FMTTYPE=image/jpeg:https://nubf.org/wp-content/uploads/2026/01/Sunday-Service-Powerpoint-copy.jpg
END:VEVENT
BEGIN:VEVENT
DTSTART;TZID=America/Los_Angeles:20301113T183000
DTEND;TZID=America/Los_Angeles:20301113T200000
DTSTAMP:20260425T034617
CREATED:20260108T211810Z
LAST-MODIFIED:20260112T175001Z
UID:10002257-1920825000-1920830400@nubf.org
SUMMARY:Men's Bible Study
DESCRIPTION:
URL:https://nubf.org/event/mens-bible-study/2030-11-13/
LOCATION:North Umpqua Bible Fellowship – Northroom\, 1547 Wild River Dr\, Roseburg\, OR\, 97470\, United States
CATEGORIES:Men's Ministry
ATTACH;FMTTYPE=image/jpeg:https://nubf.org/wp-content/uploads/2026/01/Sunday-Service-Powerpoint-Presentation.jpg
END:VEVENT
BEGIN:VEVENT
DTSTART;TZID=America/Los_Angeles:20301113T183000
DTEND;TZID=America/Los_Angeles:20301113T200000
DTSTAMP:20260425T034617
CREATED:20260108T213001Z
LAST-MODIFIED:20260129T194137Z
UID:10002780-1920825000-1920830400@nubf.org
SUMMARY:Wednesday Night Women's Bible Study
DESCRIPTION:Author is Lysa Terkeurst\n \nDates: February 25th/26th – April 1st/2nd\nWednesday: 6:30 PM\nThursday:10:00 AM\nCost: $2.50\nRegistration: February 1st – 15th\nChild Care Available\n 
URL:https://nubf.org/event/wednesday-night-womens-bible-study/2030-11-13/
LOCATION:North Umpqua Bible Fellowship – Library\, 1547 Wild River Dr\, Roseburg\, OR\, 97470\, United States
CATEGORIES:Women's Ministry
ATTACH;FMTTYPE=image/jpeg:https://nubf.org/wp-content/uploads/2026/01/Sunday-Service-Powerpoint.jpg
END:VEVENT
BEGIN:VEVENT
DTSTART;TZID=America/Los_Angeles:20301114T100000
DTEND;TZID=America/Los_Angeles:20301114T113000
DTSTAMP:20260425T034617
CREATED:20260108T212602Z
LAST-MODIFIED:20260129T194214Z
UID:10002519-1920880800-1920886200@nubf.org
SUMMARY:Thursday Morning Women's Bible Study
DESCRIPTION:Author is Lysa Terkeurst\n \nDates: February 25th/26th – April 1st/2nd\nWednesday: 6:30 PM\nThursday:10:00 AM\nCost: $2.50\nRegistration: February 1st – 15th\nChild Care Available
URL:https://nubf.org/event/thursday-morning-womens-bible-study/2030-11-14/
LOCATION:North Umpqua Bible Fellowship – Northroom\, 1547 Wild River Dr\, Roseburg\, OR\, 97470\, United States
CATEGORIES:Women's Ministry
ATTACH;FMTTYPE=image/png:https://nubf.org/wp-content/uploads/2026/01/4.png
END:VEVENT
BEGIN:VEVENT
DTSTART;TZID=America/Los_Angeles:20301117T100000
DTEND;TZID=America/Los_Angeles:20301117T113000
DTSTAMP:20260425T034617
CREATED:20260108T203659Z
LAST-MODIFIED:20260118T161517Z
UID:10001997-1921140000-1921145400@nubf.org
SUMMARY:Sunday Service
DESCRIPTION:Join us for worship\, a message from God’s Word\, and fellowship.
URL:https://nubf.org/event/sunday-service/2030-11-17/
LOCATION:North Umpqua Bible Fellowship\, 1547 Wild River Dr\, Roseburg\, OR\, 97470\, United States
CATEGORIES:For All
ATTACH;FMTTYPE=image/jpeg:https://nubf.org/wp-content/uploads/2025/11/joshua-background.jpg
END:VEVENT
BEGIN:VEVENT
DTSTART;TZID=America/Los_Angeles:20301117T120000
DTEND;TZID=America/Los_Angeles:20301117T133000
DTSTAMP:20260425T034617
CREATED:20260122T171924Z
LAST-MODIFIED:20260122T174557Z
UID:10003174-1921147200-1921152600@nubf.org
SUMMARY:Senders Meeting
DESCRIPTION:To connect\, coordinate\, and share concerns in regards to NUBF’s mission partners.
URL:https://nubf.org/event/senders-meeting/2030-11-17/
LOCATION:North Umpqua Bible Fellowship\, 1547 Wild River Dr\, Roseburg\, OR\, 97470\, United States
CATEGORIES:For All
ATTACH;FMTTYPE=image/png:https://nubf.org/wp-content/uploads/2026/01/1-1.png
END:VEVENT
BEGIN:VEVENT
DTSTART;TZID=America/Los_Angeles:20301120T100000
DTEND;TZID=America/Los_Angeles:20301120T110000
DTSTAMP:20260425T034617
CREATED:20260113T212543Z
LAST-MODIFIED:20260115T233512Z
UID:10003043-1921399200-1921402800@nubf.org
SUMMARY:Wednesday Morning Prayer
DESCRIPTION:
URL:https://nubf.org/event/wednesday-morning-prayer/2030-11-20/
LOCATION:North Umpqua Bible Fellowship – Northroom\, 1547 Wild River Dr\, Roseburg\, OR\, 97470\, United States
CATEGORIES:For All
ATTACH;FMTTYPE=image/png:https://nubf.org/wp-content/uploads/2020/10/Artboard-1Web.png
END:VEVENT
BEGIN:VEVENT
DTSTART;TZID=America/Los_Angeles:20301120T180000
DTEND;TZID=America/Los_Angeles:20301120T203000
DTSTAMP:20260425T034617
CREATED:20260107T074147Z
LAST-MODIFIED:20260112T180058Z
UID:10001736-1921428000-1921437000@nubf.org
SUMMARY:Youth Group
DESCRIPTION:
URL:https://nubf.org/event/youth-group/2030-11-20/
LOCATION:North Umpqua Bible Fellowship\, 1547 Wild River Dr\, Roseburg\, OR\, 97470\, United States
CATEGORIES:Youth
ATTACH;FMTTYPE=image/jpeg:https://nubf.org/wp-content/uploads/2026/01/Sunday-Service-Powerpoint-copy.jpg
END:VEVENT
BEGIN:VEVENT
DTSTART;TZID=America/Los_Angeles:20301120T183000
DTEND;TZID=America/Los_Angeles:20301120T200000
DTSTAMP:20260425T034617
CREATED:20260108T211810Z
LAST-MODIFIED:20260112T175001Z
UID:10002258-1921429800-1921435200@nubf.org
SUMMARY:Men's Bible Study
DESCRIPTION:
URL:https://nubf.org/event/mens-bible-study/2030-11-20/
LOCATION:North Umpqua Bible Fellowship – Northroom\, 1547 Wild River Dr\, Roseburg\, OR\, 97470\, United States
CATEGORIES:Men's Ministry
ATTACH;FMTTYPE=image/jpeg:https://nubf.org/wp-content/uploads/2026/01/Sunday-Service-Powerpoint-Presentation.jpg
END:VEVENT
BEGIN:VEVENT
DTSTART;TZID=America/Los_Angeles:20301120T183000
DTEND;TZID=America/Los_Angeles:20301120T200000
DTSTAMP:20260425T034617
CREATED:20260108T213001Z
LAST-MODIFIED:20260129T194137Z
UID:10002781-1921429800-1921435200@nubf.org
SUMMARY:Wednesday Night Women's Bible Study
DESCRIPTION:Author is Lysa Terkeurst\n \nDates: February 25th/26th – April 1st/2nd\nWednesday: 6:30 PM\nThursday:10:00 AM\nCost: $2.50\nRegistration: February 1st – 15th\nChild Care Available\n 
URL:https://nubf.org/event/wednesday-night-womens-bible-study/2030-11-20/
LOCATION:North Umpqua Bible Fellowship – Library\, 1547 Wild River Dr\, Roseburg\, OR\, 97470\, United States
CATEGORIES:Women's Ministry
ATTACH;FMTTYPE=image/jpeg:https://nubf.org/wp-content/uploads/2026/01/Sunday-Service-Powerpoint.jpg
END:VEVENT
BEGIN:VEVENT
DTSTART;TZID=America/Los_Angeles:20301121T100000
DTEND;TZID=America/Los_Angeles:20301121T113000
DTSTAMP:20260425T034617
CREATED:20260108T212602Z
LAST-MODIFIED:20260129T194214Z
UID:10002520-1921485600-1921491000@nubf.org
SUMMARY:Thursday Morning Women's Bible Study
DESCRIPTION:Author is Lysa Terkeurst\n \nDates: February 25th/26th – April 1st/2nd\nWednesday: 6:30 PM\nThursday:10:00 AM\nCost: $2.50\nRegistration: February 1st – 15th\nChild Care Available
URL:https://nubf.org/event/thursday-morning-womens-bible-study/2030-11-21/
LOCATION:North Umpqua Bible Fellowship – Northroom\, 1547 Wild River Dr\, Roseburg\, OR\, 97470\, United States
CATEGORIES:Women's Ministry
ATTACH;FMTTYPE=image/png:https://nubf.org/wp-content/uploads/2026/01/4.png
END:VEVENT
BEGIN:VEVENT
DTSTART;TZID=America/Los_Angeles:20301124T100000
DTEND;TZID=America/Los_Angeles:20301124T113000
DTSTAMP:20260425T034617
CREATED:20260108T203659Z
LAST-MODIFIED:20260118T161517Z
UID:10001998-1921744800-1921750200@nubf.org
SUMMARY:Sunday Service
DESCRIPTION:Join us for worship\, a message from God’s Word\, and fellowship.
URL:https://nubf.org/event/sunday-service/2030-11-24/
LOCATION:North Umpqua Bible Fellowship\, 1547 Wild River Dr\, Roseburg\, OR\, 97470\, United States
CATEGORIES:For All
ATTACH;FMTTYPE=image/jpeg:https://nubf.org/wp-content/uploads/2025/11/joshua-background.jpg
END:VEVENT
BEGIN:VEVENT
DTSTART;TZID=America/Los_Angeles:20301127T100000
DTEND;TZID=America/Los_Angeles:20301127T110000
DTSTAMP:20260425T034618
CREATED:20260113T212543Z
LAST-MODIFIED:20260115T233512Z
UID:10003044-1922004000-1922007600@nubf.org
SUMMARY:Wednesday Morning Prayer
DESCRIPTION:
URL:https://nubf.org/event/wednesday-morning-prayer/2030-11-27/
LOCATION:North Umpqua Bible Fellowship – Northroom\, 1547 Wild River Dr\, Roseburg\, OR\, 97470\, United States
CATEGORIES:For All
ATTACH;FMTTYPE=image/png:https://nubf.org/wp-content/uploads/2020/10/Artboard-1Web.png
END:VEVENT
END:VCALENDAR