BEGIN:VCALENDAR
VERSION:2.0
PRODID:-//North Umpqua Bible Fellowship - ECPv6.15.20//NONSGML v1.0//EN
CALSCALE:GREGORIAN
METHOD:PUBLISH
X-WR-CALNAME:North Umpqua Bible Fellowship
X-ORIGINAL-URL:https://nubf.org
X-WR-CALDESC:Events for North Umpqua Bible Fellowship
REFRESH-INTERVAL;VALUE=DURATION:PT1H
X-Robots-Tag:noindex
X-PUBLISHED-TTL:PT1H
BEGIN:VTIMEZONE
TZID:America/Los_Angeles
BEGIN:DAYLIGHT
TZOFFSETFROM:-0800
TZOFFSETTO:-0700
TZNAME:PDT
DTSTART:20280312T100000
END:DAYLIGHT
BEGIN:STANDARD
TZOFFSETFROM:-0700
TZOFFSETTO:-0800
TZNAME:PST
DTSTART:20281105T090000
END:STANDARD
BEGIN:DAYLIGHT
TZOFFSETFROM:-0800
TZOFFSETTO:-0700
TZNAME:PDT
DTSTART:20290311T100000
END:DAYLIGHT
BEGIN:STANDARD
TZOFFSETFROM:-0700
TZOFFSETTO:-0800
TZNAME:PST
DTSTART:20291104T090000
END:STANDARD
BEGIN:DAYLIGHT
TZOFFSETFROM:-0800
TZOFFSETTO:-0700
TZNAME:PDT
DTSTART:20300310T100000
END:DAYLIGHT
BEGIN:STANDARD
TZOFFSETFROM:-0700
TZOFFSETTO:-0800
TZNAME:PST
DTSTART:20301103T090000
END:STANDARD
END:VTIMEZONE
BEGIN:VEVENT
DTSTART;TZID=America/Los_Angeles:20290425T180000
DTEND;TZID=America/Los_Angeles:20290425T203000
DTSTAMP:20260425T092026
CREATED:20260107T074147Z
LAST-MODIFIED:20260112T180058Z
UID:10001654-1871834400-1871843400@nubf.org
SUMMARY:Youth Group
DESCRIPTION:
URL:https://nubf.org/event/youth-group/2029-04-25/
LOCATION:North Umpqua Bible Fellowship\, 1547 Wild River Dr\, Roseburg\, OR\, 97470\, United States
CATEGORIES:Youth
ATTACH;FMTTYPE=image/jpeg:https://nubf.org/wp-content/uploads/2026/01/Sunday-Service-Powerpoint-copy.jpg
END:VEVENT
BEGIN:VEVENT
DTSTART;TZID=America/Los_Angeles:20290502T180000
DTEND;TZID=America/Los_Angeles:20290502T203000
DTSTAMP:20260425T092026
CREATED:20260107T074147Z
LAST-MODIFIED:20260112T180058Z
UID:10001655-1872439200-1872448200@nubf.org
SUMMARY:Youth Group
DESCRIPTION:
URL:https://nubf.org/event/youth-group/2029-05-02/
LOCATION:North Umpqua Bible Fellowship\, 1547 Wild River Dr\, Roseburg\, OR\, 97470\, United States
CATEGORIES:Youth
ATTACH;FMTTYPE=image/jpeg:https://nubf.org/wp-content/uploads/2026/01/Sunday-Service-Powerpoint-copy.jpg
END:VEVENT
BEGIN:VEVENT
DTSTART;TZID=America/Los_Angeles:20290509T180000
DTEND;TZID=America/Los_Angeles:20290509T203000
DTSTAMP:20260425T092026
CREATED:20260107T074147Z
LAST-MODIFIED:20260112T180058Z
UID:10001656-1873044000-1873053000@nubf.org
SUMMARY:Youth Group
DESCRIPTION:
URL:https://nubf.org/event/youth-group/2029-05-09/
LOCATION:North Umpqua Bible Fellowship\, 1547 Wild River Dr\, Roseburg\, OR\, 97470\, United States
CATEGORIES:Youth
ATTACH;FMTTYPE=image/jpeg:https://nubf.org/wp-content/uploads/2026/01/Sunday-Service-Powerpoint-copy.jpg
END:VEVENT
BEGIN:VEVENT
DTSTART;TZID=America/Los_Angeles:20290516T180000
DTEND;TZID=America/Los_Angeles:20290516T203000
DTSTAMP:20260425T092026
CREATED:20260107T074147Z
LAST-MODIFIED:20260112T180058Z
UID:10001657-1873648800-1873657800@nubf.org
SUMMARY:Youth Group
DESCRIPTION:
URL:https://nubf.org/event/youth-group/2029-05-16/
LOCATION:North Umpqua Bible Fellowship\, 1547 Wild River Dr\, Roseburg\, OR\, 97470\, United States
CATEGORIES:Youth
ATTACH;FMTTYPE=image/jpeg:https://nubf.org/wp-content/uploads/2026/01/Sunday-Service-Powerpoint-copy.jpg
END:VEVENT
BEGIN:VEVENT
DTSTART;TZID=America/Los_Angeles:20290523T180000
DTEND;TZID=America/Los_Angeles:20290523T203000
DTSTAMP:20260425T092026
CREATED:20260107T074147Z
LAST-MODIFIED:20260112T180058Z
UID:10001658-1874253600-1874262600@nubf.org
SUMMARY:Youth Group
DESCRIPTION:
URL:https://nubf.org/event/youth-group/2029-05-23/
LOCATION:North Umpqua Bible Fellowship\, 1547 Wild River Dr\, Roseburg\, OR\, 97470\, United States
CATEGORIES:Youth
ATTACH;FMTTYPE=image/jpeg:https://nubf.org/wp-content/uploads/2026/01/Sunday-Service-Powerpoint-copy.jpg
END:VEVENT
BEGIN:VEVENT
DTSTART;TZID=America/Los_Angeles:20290530T180000
DTEND;TZID=America/Los_Angeles:20290530T203000
DTSTAMP:20260425T092026
CREATED:20260107T074147Z
LAST-MODIFIED:20260112T180058Z
UID:10001659-1874858400-1874867400@nubf.org
SUMMARY:Youth Group
DESCRIPTION:
URL:https://nubf.org/event/youth-group/2029-05-30/
LOCATION:North Umpqua Bible Fellowship\, 1547 Wild River Dr\, Roseburg\, OR\, 97470\, United States
CATEGORIES:Youth
ATTACH;FMTTYPE=image/jpeg:https://nubf.org/wp-content/uploads/2026/01/Sunday-Service-Powerpoint-copy.jpg
END:VEVENT
BEGIN:VEVENT
DTSTART;TZID=America/Los_Angeles:20290606T180000
DTEND;TZID=America/Los_Angeles:20290606T203000
DTSTAMP:20260425T092026
CREATED:20260107T074147Z
LAST-MODIFIED:20260112T180058Z
UID:10001660-1875463200-1875472200@nubf.org
SUMMARY:Youth Group
DESCRIPTION:
URL:https://nubf.org/event/youth-group/2029-06-06/
LOCATION:North Umpqua Bible Fellowship\, 1547 Wild River Dr\, Roseburg\, OR\, 97470\, United States
CATEGORIES:Youth
ATTACH;FMTTYPE=image/jpeg:https://nubf.org/wp-content/uploads/2026/01/Sunday-Service-Powerpoint-copy.jpg
END:VEVENT
BEGIN:VEVENT
DTSTART;TZID=America/Los_Angeles:20290613T180000
DTEND;TZID=America/Los_Angeles:20290613T203000
DTSTAMP:20260425T092026
CREATED:20260107T074147Z
LAST-MODIFIED:20260112T180058Z
UID:10001661-1876068000-1876077000@nubf.org
SUMMARY:Youth Group
DESCRIPTION:
URL:https://nubf.org/event/youth-group/2029-06-13/
LOCATION:North Umpqua Bible Fellowship\, 1547 Wild River Dr\, Roseburg\, OR\, 97470\, United States
CATEGORIES:Youth
ATTACH;FMTTYPE=image/jpeg:https://nubf.org/wp-content/uploads/2026/01/Sunday-Service-Powerpoint-copy.jpg
END:VEVENT
BEGIN:VEVENT
DTSTART;TZID=America/Los_Angeles:20290620T180000
DTEND;TZID=America/Los_Angeles:20290620T203000
DTSTAMP:20260425T092026
CREATED:20260107T074147Z
LAST-MODIFIED:20260112T180058Z
UID:10001662-1876672800-1876681800@nubf.org
SUMMARY:Youth Group
DESCRIPTION:
URL:https://nubf.org/event/youth-group/2029-06-20/
LOCATION:North Umpqua Bible Fellowship\, 1547 Wild River Dr\, Roseburg\, OR\, 97470\, United States
CATEGORIES:Youth
ATTACH;FMTTYPE=image/jpeg:https://nubf.org/wp-content/uploads/2026/01/Sunday-Service-Powerpoint-copy.jpg
END:VEVENT
BEGIN:VEVENT
DTSTART;TZID=America/Los_Angeles:20290627T180000
DTEND;TZID=America/Los_Angeles:20290627T203000
DTSTAMP:20260425T092026
CREATED:20260107T074147Z
LAST-MODIFIED:20260112T180058Z
UID:10001663-1877277600-1877286600@nubf.org
SUMMARY:Youth Group
DESCRIPTION:
URL:https://nubf.org/event/youth-group/2029-06-27/
LOCATION:North Umpqua Bible Fellowship\, 1547 Wild River Dr\, Roseburg\, OR\, 97470\, United States
CATEGORIES:Youth
ATTACH;FMTTYPE=image/jpeg:https://nubf.org/wp-content/uploads/2026/01/Sunday-Service-Powerpoint-copy.jpg
END:VEVENT
BEGIN:VEVENT
DTSTART;TZID=America/Los_Angeles:20290704T180000
DTEND;TZID=America/Los_Angeles:20290704T203000
DTSTAMP:20260425T092026
CREATED:20260107T074147Z
LAST-MODIFIED:20260112T180058Z
UID:10001664-1877882400-1877891400@nubf.org
SUMMARY:Youth Group
DESCRIPTION:
URL:https://nubf.org/event/youth-group/2029-07-04/
LOCATION:North Umpqua Bible Fellowship\, 1547 Wild River Dr\, Roseburg\, OR\, 97470\, United States
CATEGORIES:Youth
ATTACH;FMTTYPE=image/jpeg:https://nubf.org/wp-content/uploads/2026/01/Sunday-Service-Powerpoint-copy.jpg
END:VEVENT
BEGIN:VEVENT
DTSTART;TZID=America/Los_Angeles:20290711T180000
DTEND;TZID=America/Los_Angeles:20290711T203000
DTSTAMP:20260425T092026
CREATED:20260107T074147Z
LAST-MODIFIED:20260112T180058Z
UID:10001665-1878487200-1878496200@nubf.org
SUMMARY:Youth Group
DESCRIPTION:
URL:https://nubf.org/event/youth-group/2029-07-11/
LOCATION:North Umpqua Bible Fellowship\, 1547 Wild River Dr\, Roseburg\, OR\, 97470\, United States
CATEGORIES:Youth
ATTACH;FMTTYPE=image/jpeg:https://nubf.org/wp-content/uploads/2026/01/Sunday-Service-Powerpoint-copy.jpg
END:VEVENT
BEGIN:VEVENT
DTSTART;TZID=America/Los_Angeles:20290718T180000
DTEND;TZID=America/Los_Angeles:20290718T203000
DTSTAMP:20260425T092026
CREATED:20260107T074147Z
LAST-MODIFIED:20260112T180058Z
UID:10001666-1879092000-1879101000@nubf.org
SUMMARY:Youth Group
DESCRIPTION:
URL:https://nubf.org/event/youth-group/2029-07-18/
LOCATION:North Umpqua Bible Fellowship\, 1547 Wild River Dr\, Roseburg\, OR\, 97470\, United States
CATEGORIES:Youth
ATTACH;FMTTYPE=image/jpeg:https://nubf.org/wp-content/uploads/2026/01/Sunday-Service-Powerpoint-copy.jpg
END:VEVENT
BEGIN:VEVENT
DTSTART;TZID=America/Los_Angeles:20290725T180000
DTEND;TZID=America/Los_Angeles:20290725T203000
DTSTAMP:20260425T092026
CREATED:20260107T074147Z
LAST-MODIFIED:20260112T180058Z
UID:10001667-1879696800-1879705800@nubf.org
SUMMARY:Youth Group
DESCRIPTION:
URL:https://nubf.org/event/youth-group/2029-07-25/
LOCATION:North Umpqua Bible Fellowship\, 1547 Wild River Dr\, Roseburg\, OR\, 97470\, United States
CATEGORIES:Youth
ATTACH;FMTTYPE=image/jpeg:https://nubf.org/wp-content/uploads/2026/01/Sunday-Service-Powerpoint-copy.jpg
END:VEVENT
BEGIN:VEVENT
DTSTART;TZID=America/Los_Angeles:20290801T180000
DTEND;TZID=America/Los_Angeles:20290801T203000
DTSTAMP:20260425T092026
CREATED:20260107T074147Z
LAST-MODIFIED:20260112T180058Z
UID:10001668-1880301600-1880310600@nubf.org
SUMMARY:Youth Group
DESCRIPTION:
URL:https://nubf.org/event/youth-group/2029-08-01/
LOCATION:North Umpqua Bible Fellowship\, 1547 Wild River Dr\, Roseburg\, OR\, 97470\, United States
CATEGORIES:Youth
ATTACH;FMTTYPE=image/jpeg:https://nubf.org/wp-content/uploads/2026/01/Sunday-Service-Powerpoint-copy.jpg
END:VEVENT
BEGIN:VEVENT
DTSTART;TZID=America/Los_Angeles:20290808T180000
DTEND;TZID=America/Los_Angeles:20290808T203000
DTSTAMP:20260425T092026
CREATED:20260107T074147Z
LAST-MODIFIED:20260112T180058Z
UID:10001669-1880906400-1880915400@nubf.org
SUMMARY:Youth Group
DESCRIPTION:
URL:https://nubf.org/event/youth-group/2029-08-08/
LOCATION:North Umpqua Bible Fellowship\, 1547 Wild River Dr\, Roseburg\, OR\, 97470\, United States
CATEGORIES:Youth
ATTACH;FMTTYPE=image/jpeg:https://nubf.org/wp-content/uploads/2026/01/Sunday-Service-Powerpoint-copy.jpg
END:VEVENT
BEGIN:VEVENT
DTSTART;TZID=America/Los_Angeles:20290815T180000
DTEND;TZID=America/Los_Angeles:20290815T203000
DTSTAMP:20260425T092026
CREATED:20260107T074147Z
LAST-MODIFIED:20260112T180058Z
UID:10001670-1881511200-1881520200@nubf.org
SUMMARY:Youth Group
DESCRIPTION:
URL:https://nubf.org/event/youth-group/2029-08-15/
LOCATION:North Umpqua Bible Fellowship\, 1547 Wild River Dr\, Roseburg\, OR\, 97470\, United States
CATEGORIES:Youth
ATTACH;FMTTYPE=image/jpeg:https://nubf.org/wp-content/uploads/2026/01/Sunday-Service-Powerpoint-copy.jpg
END:VEVENT
BEGIN:VEVENT
DTSTART;TZID=America/Los_Angeles:20290822T180000
DTEND;TZID=America/Los_Angeles:20290822T203000
DTSTAMP:20260425T092026
CREATED:20260107T074147Z
LAST-MODIFIED:20260112T180058Z
UID:10001671-1882116000-1882125000@nubf.org
SUMMARY:Youth Group
DESCRIPTION:
URL:https://nubf.org/event/youth-group/2029-08-22/
LOCATION:North Umpqua Bible Fellowship\, 1547 Wild River Dr\, Roseburg\, OR\, 97470\, United States
CATEGORIES:Youth
ATTACH;FMTTYPE=image/jpeg:https://nubf.org/wp-content/uploads/2026/01/Sunday-Service-Powerpoint-copy.jpg
END:VEVENT
BEGIN:VEVENT
DTSTART;TZID=America/Los_Angeles:20290829T180000
DTEND;TZID=America/Los_Angeles:20290829T203000
DTSTAMP:20260425T092026
CREATED:20260107T074147Z
LAST-MODIFIED:20260112T180058Z
UID:10001672-1882720800-1882729800@nubf.org
SUMMARY:Youth Group
DESCRIPTION:
URL:https://nubf.org/event/youth-group/2029-08-29/
LOCATION:North Umpqua Bible Fellowship\, 1547 Wild River Dr\, Roseburg\, OR\, 97470\, United States
CATEGORIES:Youth
ATTACH;FMTTYPE=image/jpeg:https://nubf.org/wp-content/uploads/2026/01/Sunday-Service-Powerpoint-copy.jpg
END:VEVENT
BEGIN:VEVENT
DTSTART;TZID=America/Los_Angeles:20290905T180000
DTEND;TZID=America/Los_Angeles:20290905T203000
DTSTAMP:20260425T092026
CREATED:20260107T074147Z
LAST-MODIFIED:20260112T180058Z
UID:10001673-1883325600-1883334600@nubf.org
SUMMARY:Youth Group
DESCRIPTION:
URL:https://nubf.org/event/youth-group/2029-09-05/
LOCATION:North Umpqua Bible Fellowship\, 1547 Wild River Dr\, Roseburg\, OR\, 97470\, United States
CATEGORIES:Youth
ATTACH;FMTTYPE=image/jpeg:https://nubf.org/wp-content/uploads/2026/01/Sunday-Service-Powerpoint-copy.jpg
END:VEVENT
BEGIN:VEVENT
DTSTART;TZID=America/Los_Angeles:20290912T180000
DTEND;TZID=America/Los_Angeles:20290912T203000
DTSTAMP:20260425T092026
CREATED:20260107T074147Z
LAST-MODIFIED:20260112T180058Z
UID:10001674-1883930400-1883939400@nubf.org
SUMMARY:Youth Group
DESCRIPTION:
URL:https://nubf.org/event/youth-group/2029-09-12/
LOCATION:North Umpqua Bible Fellowship\, 1547 Wild River Dr\, Roseburg\, OR\, 97470\, United States
CATEGORIES:Youth
ATTACH;FMTTYPE=image/jpeg:https://nubf.org/wp-content/uploads/2026/01/Sunday-Service-Powerpoint-copy.jpg
END:VEVENT
BEGIN:VEVENT
DTSTART;TZID=America/Los_Angeles:20290919T180000
DTEND;TZID=America/Los_Angeles:20290919T203000
DTSTAMP:20260425T092026
CREATED:20260107T074147Z
LAST-MODIFIED:20260112T180058Z
UID:10001675-1884535200-1884544200@nubf.org
SUMMARY:Youth Group
DESCRIPTION:
URL:https://nubf.org/event/youth-group/2029-09-19/
LOCATION:North Umpqua Bible Fellowship\, 1547 Wild River Dr\, Roseburg\, OR\, 97470\, United States
CATEGORIES:Youth
ATTACH;FMTTYPE=image/jpeg:https://nubf.org/wp-content/uploads/2026/01/Sunday-Service-Powerpoint-copy.jpg
END:VEVENT
BEGIN:VEVENT
DTSTART;TZID=America/Los_Angeles:20290926T180000
DTEND;TZID=America/Los_Angeles:20290926T203000
DTSTAMP:20260425T092026
CREATED:20260107T074147Z
LAST-MODIFIED:20260112T180058Z
UID:10001676-1885140000-1885149000@nubf.org
SUMMARY:Youth Group
DESCRIPTION:
URL:https://nubf.org/event/youth-group/2029-09-26/
LOCATION:North Umpqua Bible Fellowship\, 1547 Wild River Dr\, Roseburg\, OR\, 97470\, United States
CATEGORIES:Youth
ATTACH;FMTTYPE=image/jpeg:https://nubf.org/wp-content/uploads/2026/01/Sunday-Service-Powerpoint-copy.jpg
END:VEVENT
BEGIN:VEVENT
DTSTART;TZID=America/Los_Angeles:20291003T180000
DTEND;TZID=America/Los_Angeles:20291003T203000
DTSTAMP:20260425T092026
CREATED:20260107T074147Z
LAST-MODIFIED:20260112T180058Z
UID:10001677-1885744800-1885753800@nubf.org
SUMMARY:Youth Group
DESCRIPTION:
URL:https://nubf.org/event/youth-group/2029-10-03/
LOCATION:North Umpqua Bible Fellowship\, 1547 Wild River Dr\, Roseburg\, OR\, 97470\, United States
CATEGORIES:Youth
ATTACH;FMTTYPE=image/jpeg:https://nubf.org/wp-content/uploads/2026/01/Sunday-Service-Powerpoint-copy.jpg
END:VEVENT
BEGIN:VEVENT
DTSTART;TZID=America/Los_Angeles:20291010T180000
DTEND;TZID=America/Los_Angeles:20291010T203000
DTSTAMP:20260425T092026
CREATED:20260107T074147Z
LAST-MODIFIED:20260112T180058Z
UID:10001678-1886349600-1886358600@nubf.org
SUMMARY:Youth Group
DESCRIPTION:
URL:https://nubf.org/event/youth-group/2029-10-10/
LOCATION:North Umpqua Bible Fellowship\, 1547 Wild River Dr\, Roseburg\, OR\, 97470\, United States
CATEGORIES:Youth
ATTACH;FMTTYPE=image/jpeg:https://nubf.org/wp-content/uploads/2026/01/Sunday-Service-Powerpoint-copy.jpg
END:VEVENT
BEGIN:VEVENT
DTSTART;TZID=America/Los_Angeles:20291017T180000
DTEND;TZID=America/Los_Angeles:20291017T203000
DTSTAMP:20260425T092026
CREATED:20260107T074147Z
LAST-MODIFIED:20260112T180058Z
UID:10001679-1886954400-1886963400@nubf.org
SUMMARY:Youth Group
DESCRIPTION:
URL:https://nubf.org/event/youth-group/2029-10-17/
LOCATION:North Umpqua Bible Fellowship\, 1547 Wild River Dr\, Roseburg\, OR\, 97470\, United States
CATEGORIES:Youth
ATTACH;FMTTYPE=image/jpeg:https://nubf.org/wp-content/uploads/2026/01/Sunday-Service-Powerpoint-copy.jpg
END:VEVENT
BEGIN:VEVENT
DTSTART;TZID=America/Los_Angeles:20291024T180000
DTEND;TZID=America/Los_Angeles:20291024T203000
DTSTAMP:20260425T092026
CREATED:20260107T074147Z
LAST-MODIFIED:20260112T180058Z
UID:10001680-1887559200-1887568200@nubf.org
SUMMARY:Youth Group
DESCRIPTION:
URL:https://nubf.org/event/youth-group/2029-10-24/
LOCATION:North Umpqua Bible Fellowship\, 1547 Wild River Dr\, Roseburg\, OR\, 97470\, United States
CATEGORIES:Youth
ATTACH;FMTTYPE=image/jpeg:https://nubf.org/wp-content/uploads/2026/01/Sunday-Service-Powerpoint-copy.jpg
END:VEVENT
BEGIN:VEVENT
DTSTART;TZID=America/Los_Angeles:20291031T180000
DTEND;TZID=America/Los_Angeles:20291031T203000
DTSTAMP:20260425T092026
CREATED:20260107T074147Z
LAST-MODIFIED:20260112T180058Z
UID:10001681-1888164000-1888173000@nubf.org
SUMMARY:Youth Group
DESCRIPTION:
URL:https://nubf.org/event/youth-group/2029-10-31/
LOCATION:North Umpqua Bible Fellowship\, 1547 Wild River Dr\, Roseburg\, OR\, 97470\, United States
CATEGORIES:Youth
ATTACH;FMTTYPE=image/jpeg:https://nubf.org/wp-content/uploads/2026/01/Sunday-Service-Powerpoint-copy.jpg
END:VEVENT
BEGIN:VEVENT
DTSTART;TZID=America/Los_Angeles:20291107T180000
DTEND;TZID=America/Los_Angeles:20291107T203000
DTSTAMP:20260425T092026
CREATED:20260107T074147Z
LAST-MODIFIED:20260112T180058Z
UID:10001682-1888768800-1888777800@nubf.org
SUMMARY:Youth Group
DESCRIPTION:
URL:https://nubf.org/event/youth-group/2029-11-07/
LOCATION:North Umpqua Bible Fellowship\, 1547 Wild River Dr\, Roseburg\, OR\, 97470\, United States
CATEGORIES:Youth
ATTACH;FMTTYPE=image/jpeg:https://nubf.org/wp-content/uploads/2026/01/Sunday-Service-Powerpoint-copy.jpg
END:VEVENT
BEGIN:VEVENT
DTSTART;TZID=America/Los_Angeles:20291114T180000
DTEND;TZID=America/Los_Angeles:20291114T203000
DTSTAMP:20260425T092026
CREATED:20260107T074147Z
LAST-MODIFIED:20260112T180058Z
UID:10001683-1889373600-1889382600@nubf.org
SUMMARY:Youth Group
DESCRIPTION:
URL:https://nubf.org/event/youth-group/2029-11-14/
LOCATION:North Umpqua Bible Fellowship\, 1547 Wild River Dr\, Roseburg\, OR\, 97470\, United States
CATEGORIES:Youth
ATTACH;FMTTYPE=image/jpeg:https://nubf.org/wp-content/uploads/2026/01/Sunday-Service-Powerpoint-copy.jpg
END:VEVENT
END:VCALENDAR