BEGIN:VCALENDAR
VERSION:2.0
PRODID:-//North Umpqua Bible Fellowship - ECPv6.15.20//NONSGML v1.0//EN
CALSCALE:GREGORIAN
METHOD:PUBLISH
X-WR-CALNAME:North Umpqua Bible Fellowship
X-ORIGINAL-URL:https://nubf.org
X-WR-CALDESC:Events for North Umpqua Bible Fellowship
REFRESH-INTERVAL;VALUE=DURATION:PT1H
X-Robots-Tag:noindex
X-PUBLISHED-TTL:PT1H
BEGIN:VTIMEZONE
TZID:America/Los_Angeles
BEGIN:DAYLIGHT
TZOFFSETFROM:-0800
TZOFFSETTO:-0700
TZNAME:PDT
DTSTART:20270314T100000
END:DAYLIGHT
BEGIN:STANDARD
TZOFFSETFROM:-0700
TZOFFSETTO:-0800
TZNAME:PST
DTSTART:20271107T090000
END:STANDARD
BEGIN:DAYLIGHT
TZOFFSETFROM:-0800
TZOFFSETTO:-0700
TZNAME:PDT
DTSTART:20280312T100000
END:DAYLIGHT
BEGIN:STANDARD
TZOFFSETFROM:-0700
TZOFFSETTO:-0800
TZNAME:PST
DTSTART:20281105T090000
END:STANDARD
BEGIN:DAYLIGHT
TZOFFSETFROM:-0800
TZOFFSETTO:-0700
TZNAME:PDT
DTSTART:20290311T100000
END:DAYLIGHT
BEGIN:STANDARD
TZOFFSETFROM:-0700
TZOFFSETTO:-0800
TZNAME:PST
DTSTART:20291104T090000
END:STANDARD
END:VTIMEZONE
BEGIN:VEVENT
DTSTART;TZID=America/Los_Angeles:20280510T180000
DTEND;TZID=America/Los_Angeles:20280510T203000
DTSTAMP:20260425T091321
CREATED:20260107T074147Z
LAST-MODIFIED:20260112T180058Z
UID:10001604-1841594400-1841603400@nubf.org
SUMMARY:Youth Group
DESCRIPTION:
URL:https://nubf.org/event/youth-group/2028-05-10/
LOCATION:North Umpqua Bible Fellowship\, 1547 Wild River Dr\, Roseburg\, OR\, 97470\, United States
CATEGORIES:Youth
ATTACH;FMTTYPE=image/jpeg:https://nubf.org/wp-content/uploads/2026/01/Sunday-Service-Powerpoint-copy.jpg
END:VEVENT
BEGIN:VEVENT
DTSTART;TZID=America/Los_Angeles:20280517T180000
DTEND;TZID=America/Los_Angeles:20280517T203000
DTSTAMP:20260425T091321
CREATED:20260107T074147Z
LAST-MODIFIED:20260112T180058Z
UID:10001605-1842199200-1842208200@nubf.org
SUMMARY:Youth Group
DESCRIPTION:
URL:https://nubf.org/event/youth-group/2028-05-17/
LOCATION:North Umpqua Bible Fellowship\, 1547 Wild River Dr\, Roseburg\, OR\, 97470\, United States
CATEGORIES:Youth
ATTACH;FMTTYPE=image/jpeg:https://nubf.org/wp-content/uploads/2026/01/Sunday-Service-Powerpoint-copy.jpg
END:VEVENT
BEGIN:VEVENT
DTSTART;TZID=America/Los_Angeles:20280524T180000
DTEND;TZID=America/Los_Angeles:20280524T203000
DTSTAMP:20260425T091321
CREATED:20260107T074147Z
LAST-MODIFIED:20260112T180058Z
UID:10001606-1842804000-1842813000@nubf.org
SUMMARY:Youth Group
DESCRIPTION:
URL:https://nubf.org/event/youth-group/2028-05-24/
LOCATION:North Umpqua Bible Fellowship\, 1547 Wild River Dr\, Roseburg\, OR\, 97470\, United States
CATEGORIES:Youth
ATTACH;FMTTYPE=image/jpeg:https://nubf.org/wp-content/uploads/2026/01/Sunday-Service-Powerpoint-copy.jpg
END:VEVENT
BEGIN:VEVENT
DTSTART;TZID=America/Los_Angeles:20280531T180000
DTEND;TZID=America/Los_Angeles:20280531T203000
DTSTAMP:20260425T091321
CREATED:20260107T074147Z
LAST-MODIFIED:20260112T180058Z
UID:10001607-1843408800-1843417800@nubf.org
SUMMARY:Youth Group
DESCRIPTION:
URL:https://nubf.org/event/youth-group/2028-05-31/
LOCATION:North Umpqua Bible Fellowship\, 1547 Wild River Dr\, Roseburg\, OR\, 97470\, United States
CATEGORIES:Youth
ATTACH;FMTTYPE=image/jpeg:https://nubf.org/wp-content/uploads/2026/01/Sunday-Service-Powerpoint-copy.jpg
END:VEVENT
BEGIN:VEVENT
DTSTART;TZID=America/Los_Angeles:20280607T180000
DTEND;TZID=America/Los_Angeles:20280607T203000
DTSTAMP:20260425T091321
CREATED:20260107T074147Z
LAST-MODIFIED:20260112T180058Z
UID:10001608-1844013600-1844022600@nubf.org
SUMMARY:Youth Group
DESCRIPTION:
URL:https://nubf.org/event/youth-group/2028-06-07/
LOCATION:North Umpqua Bible Fellowship\, 1547 Wild River Dr\, Roseburg\, OR\, 97470\, United States
CATEGORIES:Youth
ATTACH;FMTTYPE=image/jpeg:https://nubf.org/wp-content/uploads/2026/01/Sunday-Service-Powerpoint-copy.jpg
END:VEVENT
BEGIN:VEVENT
DTSTART;TZID=America/Los_Angeles:20280614T180000
DTEND;TZID=America/Los_Angeles:20280614T203000
DTSTAMP:20260425T091321
CREATED:20260107T074147Z
LAST-MODIFIED:20260112T180058Z
UID:10001609-1844618400-1844627400@nubf.org
SUMMARY:Youth Group
DESCRIPTION:
URL:https://nubf.org/event/youth-group/2028-06-14/
LOCATION:North Umpqua Bible Fellowship\, 1547 Wild River Dr\, Roseburg\, OR\, 97470\, United States
CATEGORIES:Youth
ATTACH;FMTTYPE=image/jpeg:https://nubf.org/wp-content/uploads/2026/01/Sunday-Service-Powerpoint-copy.jpg
END:VEVENT
BEGIN:VEVENT
DTSTART;TZID=America/Los_Angeles:20280621T180000
DTEND;TZID=America/Los_Angeles:20280621T203000
DTSTAMP:20260425T091321
CREATED:20260107T074147Z
LAST-MODIFIED:20260112T180058Z
UID:10001610-1845223200-1845232200@nubf.org
SUMMARY:Youth Group
DESCRIPTION:
URL:https://nubf.org/event/youth-group/2028-06-21/
LOCATION:North Umpqua Bible Fellowship\, 1547 Wild River Dr\, Roseburg\, OR\, 97470\, United States
CATEGORIES:Youth
ATTACH;FMTTYPE=image/jpeg:https://nubf.org/wp-content/uploads/2026/01/Sunday-Service-Powerpoint-copy.jpg
END:VEVENT
BEGIN:VEVENT
DTSTART;TZID=America/Los_Angeles:20280628T180000
DTEND;TZID=America/Los_Angeles:20280628T203000
DTSTAMP:20260425T091321
CREATED:20260107T074147Z
LAST-MODIFIED:20260112T180058Z
UID:10001611-1845828000-1845837000@nubf.org
SUMMARY:Youth Group
DESCRIPTION:
URL:https://nubf.org/event/youth-group/2028-06-28/
LOCATION:North Umpqua Bible Fellowship\, 1547 Wild River Dr\, Roseburg\, OR\, 97470\, United States
CATEGORIES:Youth
ATTACH;FMTTYPE=image/jpeg:https://nubf.org/wp-content/uploads/2026/01/Sunday-Service-Powerpoint-copy.jpg
END:VEVENT
BEGIN:VEVENT
DTSTART;TZID=America/Los_Angeles:20280705T180000
DTEND;TZID=America/Los_Angeles:20280705T203000
DTSTAMP:20260425T091321
CREATED:20260107T074147Z
LAST-MODIFIED:20260112T180058Z
UID:10001612-1846432800-1846441800@nubf.org
SUMMARY:Youth Group
DESCRIPTION:
URL:https://nubf.org/event/youth-group/2028-07-05/
LOCATION:North Umpqua Bible Fellowship\, 1547 Wild River Dr\, Roseburg\, OR\, 97470\, United States
CATEGORIES:Youth
ATTACH;FMTTYPE=image/jpeg:https://nubf.org/wp-content/uploads/2026/01/Sunday-Service-Powerpoint-copy.jpg
END:VEVENT
BEGIN:VEVENT
DTSTART;TZID=America/Los_Angeles:20280712T180000
DTEND;TZID=America/Los_Angeles:20280712T203000
DTSTAMP:20260425T091321
CREATED:20260107T074147Z
LAST-MODIFIED:20260112T180058Z
UID:10001613-1847037600-1847046600@nubf.org
SUMMARY:Youth Group
DESCRIPTION:
URL:https://nubf.org/event/youth-group/2028-07-12/
LOCATION:North Umpqua Bible Fellowship\, 1547 Wild River Dr\, Roseburg\, OR\, 97470\, United States
CATEGORIES:Youth
ATTACH;FMTTYPE=image/jpeg:https://nubf.org/wp-content/uploads/2026/01/Sunday-Service-Powerpoint-copy.jpg
END:VEVENT
BEGIN:VEVENT
DTSTART;TZID=America/Los_Angeles:20280719T180000
DTEND;TZID=America/Los_Angeles:20280719T203000
DTSTAMP:20260425T091321
CREATED:20260107T074147Z
LAST-MODIFIED:20260112T180058Z
UID:10001614-1847642400-1847651400@nubf.org
SUMMARY:Youth Group
DESCRIPTION:
URL:https://nubf.org/event/youth-group/2028-07-19/
LOCATION:North Umpqua Bible Fellowship\, 1547 Wild River Dr\, Roseburg\, OR\, 97470\, United States
CATEGORIES:Youth
ATTACH;FMTTYPE=image/jpeg:https://nubf.org/wp-content/uploads/2026/01/Sunday-Service-Powerpoint-copy.jpg
END:VEVENT
BEGIN:VEVENT
DTSTART;TZID=America/Los_Angeles:20280726T180000
DTEND;TZID=America/Los_Angeles:20280726T203000
DTSTAMP:20260425T091321
CREATED:20260107T074147Z
LAST-MODIFIED:20260112T180058Z
UID:10001615-1848247200-1848256200@nubf.org
SUMMARY:Youth Group
DESCRIPTION:
URL:https://nubf.org/event/youth-group/2028-07-26/
LOCATION:North Umpqua Bible Fellowship\, 1547 Wild River Dr\, Roseburg\, OR\, 97470\, United States
CATEGORIES:Youth
ATTACH;FMTTYPE=image/jpeg:https://nubf.org/wp-content/uploads/2026/01/Sunday-Service-Powerpoint-copy.jpg
END:VEVENT
BEGIN:VEVENT
DTSTART;TZID=America/Los_Angeles:20280802T180000
DTEND;TZID=America/Los_Angeles:20280802T203000
DTSTAMP:20260425T091321
CREATED:20260107T074147Z
LAST-MODIFIED:20260112T180058Z
UID:10001616-1848852000-1848861000@nubf.org
SUMMARY:Youth Group
DESCRIPTION:
URL:https://nubf.org/event/youth-group/2028-08-02/
LOCATION:North Umpqua Bible Fellowship\, 1547 Wild River Dr\, Roseburg\, OR\, 97470\, United States
CATEGORIES:Youth
ATTACH;FMTTYPE=image/jpeg:https://nubf.org/wp-content/uploads/2026/01/Sunday-Service-Powerpoint-copy.jpg
END:VEVENT
BEGIN:VEVENT
DTSTART;TZID=America/Los_Angeles:20280809T180000
DTEND;TZID=America/Los_Angeles:20280809T203000
DTSTAMP:20260425T091321
CREATED:20260107T074147Z
LAST-MODIFIED:20260112T180058Z
UID:10001617-1849456800-1849465800@nubf.org
SUMMARY:Youth Group
DESCRIPTION:
URL:https://nubf.org/event/youth-group/2028-08-09/
LOCATION:North Umpqua Bible Fellowship\, 1547 Wild River Dr\, Roseburg\, OR\, 97470\, United States
CATEGORIES:Youth
ATTACH;FMTTYPE=image/jpeg:https://nubf.org/wp-content/uploads/2026/01/Sunday-Service-Powerpoint-copy.jpg
END:VEVENT
BEGIN:VEVENT
DTSTART;TZID=America/Los_Angeles:20280816T180000
DTEND;TZID=America/Los_Angeles:20280816T203000
DTSTAMP:20260425T091321
CREATED:20260107T074147Z
LAST-MODIFIED:20260112T180058Z
UID:10001618-1850061600-1850070600@nubf.org
SUMMARY:Youth Group
DESCRIPTION:
URL:https://nubf.org/event/youth-group/2028-08-16/
LOCATION:North Umpqua Bible Fellowship\, 1547 Wild River Dr\, Roseburg\, OR\, 97470\, United States
CATEGORIES:Youth
ATTACH;FMTTYPE=image/jpeg:https://nubf.org/wp-content/uploads/2026/01/Sunday-Service-Powerpoint-copy.jpg
END:VEVENT
BEGIN:VEVENT
DTSTART;TZID=America/Los_Angeles:20280823T180000
DTEND;TZID=America/Los_Angeles:20280823T203000
DTSTAMP:20260425T091321
CREATED:20260107T074147Z
LAST-MODIFIED:20260112T180058Z
UID:10001619-1850666400-1850675400@nubf.org
SUMMARY:Youth Group
DESCRIPTION:
URL:https://nubf.org/event/youth-group/2028-08-23/
LOCATION:North Umpqua Bible Fellowship\, 1547 Wild River Dr\, Roseburg\, OR\, 97470\, United States
CATEGORIES:Youth
ATTACH;FMTTYPE=image/jpeg:https://nubf.org/wp-content/uploads/2026/01/Sunday-Service-Powerpoint-copy.jpg
END:VEVENT
BEGIN:VEVENT
DTSTART;TZID=America/Los_Angeles:20280830T180000
DTEND;TZID=America/Los_Angeles:20280830T203000
DTSTAMP:20260425T091321
CREATED:20260107T074147Z
LAST-MODIFIED:20260112T180058Z
UID:10001620-1851271200-1851280200@nubf.org
SUMMARY:Youth Group
DESCRIPTION:
URL:https://nubf.org/event/youth-group/2028-08-30/
LOCATION:North Umpqua Bible Fellowship\, 1547 Wild River Dr\, Roseburg\, OR\, 97470\, United States
CATEGORIES:Youth
ATTACH;FMTTYPE=image/jpeg:https://nubf.org/wp-content/uploads/2026/01/Sunday-Service-Powerpoint-copy.jpg
END:VEVENT
BEGIN:VEVENT
DTSTART;TZID=America/Los_Angeles:20280906T180000
DTEND;TZID=America/Los_Angeles:20280906T203000
DTSTAMP:20260425T091321
CREATED:20260107T074147Z
LAST-MODIFIED:20260112T180058Z
UID:10001621-1851876000-1851885000@nubf.org
SUMMARY:Youth Group
DESCRIPTION:
URL:https://nubf.org/event/youth-group/2028-09-06/
LOCATION:North Umpqua Bible Fellowship\, 1547 Wild River Dr\, Roseburg\, OR\, 97470\, United States
CATEGORIES:Youth
ATTACH;FMTTYPE=image/jpeg:https://nubf.org/wp-content/uploads/2026/01/Sunday-Service-Powerpoint-copy.jpg
END:VEVENT
BEGIN:VEVENT
DTSTART;TZID=America/Los_Angeles:20280913T180000
DTEND;TZID=America/Los_Angeles:20280913T203000
DTSTAMP:20260425T091321
CREATED:20260107T074147Z
LAST-MODIFIED:20260112T180058Z
UID:10001622-1852480800-1852489800@nubf.org
SUMMARY:Youth Group
DESCRIPTION:
URL:https://nubf.org/event/youth-group/2028-09-13/
LOCATION:North Umpqua Bible Fellowship\, 1547 Wild River Dr\, Roseburg\, OR\, 97470\, United States
CATEGORIES:Youth
ATTACH;FMTTYPE=image/jpeg:https://nubf.org/wp-content/uploads/2026/01/Sunday-Service-Powerpoint-copy.jpg
END:VEVENT
BEGIN:VEVENT
DTSTART;TZID=America/Los_Angeles:20280920T180000
DTEND;TZID=America/Los_Angeles:20280920T203000
DTSTAMP:20260425T091321
CREATED:20260107T074147Z
LAST-MODIFIED:20260112T180058Z
UID:10001623-1853085600-1853094600@nubf.org
SUMMARY:Youth Group
DESCRIPTION:
URL:https://nubf.org/event/youth-group/2028-09-20/
LOCATION:North Umpqua Bible Fellowship\, 1547 Wild River Dr\, Roseburg\, OR\, 97470\, United States
CATEGORIES:Youth
ATTACH;FMTTYPE=image/jpeg:https://nubf.org/wp-content/uploads/2026/01/Sunday-Service-Powerpoint-copy.jpg
END:VEVENT
BEGIN:VEVENT
DTSTART;TZID=America/Los_Angeles:20280927T180000
DTEND;TZID=America/Los_Angeles:20280927T203000
DTSTAMP:20260425T091321
CREATED:20260107T074147Z
LAST-MODIFIED:20260112T180058Z
UID:10001624-1853690400-1853699400@nubf.org
SUMMARY:Youth Group
DESCRIPTION:
URL:https://nubf.org/event/youth-group/2028-09-27/
LOCATION:North Umpqua Bible Fellowship\, 1547 Wild River Dr\, Roseburg\, OR\, 97470\, United States
CATEGORIES:Youth
ATTACH;FMTTYPE=image/jpeg:https://nubf.org/wp-content/uploads/2026/01/Sunday-Service-Powerpoint-copy.jpg
END:VEVENT
BEGIN:VEVENT
DTSTART;TZID=America/Los_Angeles:20281004T180000
DTEND;TZID=America/Los_Angeles:20281004T203000
DTSTAMP:20260425T091322
CREATED:20260107T074147Z
LAST-MODIFIED:20260112T180058Z
UID:10001625-1854295200-1854304200@nubf.org
SUMMARY:Youth Group
DESCRIPTION:
URL:https://nubf.org/event/youth-group/2028-10-04/
LOCATION:North Umpqua Bible Fellowship\, 1547 Wild River Dr\, Roseburg\, OR\, 97470\, United States
CATEGORIES:Youth
ATTACH;FMTTYPE=image/jpeg:https://nubf.org/wp-content/uploads/2026/01/Sunday-Service-Powerpoint-copy.jpg
END:VEVENT
BEGIN:VEVENT
DTSTART;TZID=America/Los_Angeles:20281011T180000
DTEND;TZID=America/Los_Angeles:20281011T203000
DTSTAMP:20260425T091322
CREATED:20260107T074147Z
LAST-MODIFIED:20260112T180058Z
UID:10001626-1854900000-1854909000@nubf.org
SUMMARY:Youth Group
DESCRIPTION:
URL:https://nubf.org/event/youth-group/2028-10-11/
LOCATION:North Umpqua Bible Fellowship\, 1547 Wild River Dr\, Roseburg\, OR\, 97470\, United States
CATEGORIES:Youth
ATTACH;FMTTYPE=image/jpeg:https://nubf.org/wp-content/uploads/2026/01/Sunday-Service-Powerpoint-copy.jpg
END:VEVENT
BEGIN:VEVENT
DTSTART;TZID=America/Los_Angeles:20281018T180000
DTEND;TZID=America/Los_Angeles:20281018T203000
DTSTAMP:20260425T091322
CREATED:20260107T074147Z
LAST-MODIFIED:20260112T180058Z
UID:10001627-1855504800-1855513800@nubf.org
SUMMARY:Youth Group
DESCRIPTION:
URL:https://nubf.org/event/youth-group/2028-10-18/
LOCATION:North Umpqua Bible Fellowship\, 1547 Wild River Dr\, Roseburg\, OR\, 97470\, United States
CATEGORIES:Youth
ATTACH;FMTTYPE=image/jpeg:https://nubf.org/wp-content/uploads/2026/01/Sunday-Service-Powerpoint-copy.jpg
END:VEVENT
BEGIN:VEVENT
DTSTART;TZID=America/Los_Angeles:20281025T180000
DTEND;TZID=America/Los_Angeles:20281025T203000
DTSTAMP:20260425T091322
CREATED:20260107T074147Z
LAST-MODIFIED:20260112T180058Z
UID:10001628-1856109600-1856118600@nubf.org
SUMMARY:Youth Group
DESCRIPTION:
URL:https://nubf.org/event/youth-group/2028-10-25/
LOCATION:North Umpqua Bible Fellowship\, 1547 Wild River Dr\, Roseburg\, OR\, 97470\, United States
CATEGORIES:Youth
ATTACH;FMTTYPE=image/jpeg:https://nubf.org/wp-content/uploads/2026/01/Sunday-Service-Powerpoint-copy.jpg
END:VEVENT
BEGIN:VEVENT
DTSTART;TZID=America/Los_Angeles:20281101T180000
DTEND;TZID=America/Los_Angeles:20281101T203000
DTSTAMP:20260425T091322
CREATED:20260107T074147Z
LAST-MODIFIED:20260112T180058Z
UID:10001629-1856714400-1856723400@nubf.org
SUMMARY:Youth Group
DESCRIPTION:
URL:https://nubf.org/event/youth-group/2028-11-01/
LOCATION:North Umpqua Bible Fellowship\, 1547 Wild River Dr\, Roseburg\, OR\, 97470\, United States
CATEGORIES:Youth
ATTACH;FMTTYPE=image/jpeg:https://nubf.org/wp-content/uploads/2026/01/Sunday-Service-Powerpoint-copy.jpg
END:VEVENT
BEGIN:VEVENT
DTSTART;TZID=America/Los_Angeles:20281108T180000
DTEND;TZID=America/Los_Angeles:20281108T203000
DTSTAMP:20260425T091322
CREATED:20260107T074147Z
LAST-MODIFIED:20260112T180058Z
UID:10001630-1857319200-1857328200@nubf.org
SUMMARY:Youth Group
DESCRIPTION:
URL:https://nubf.org/event/youth-group/2028-11-08/
LOCATION:North Umpqua Bible Fellowship\, 1547 Wild River Dr\, Roseburg\, OR\, 97470\, United States
CATEGORIES:Youth
ATTACH;FMTTYPE=image/jpeg:https://nubf.org/wp-content/uploads/2026/01/Sunday-Service-Powerpoint-copy.jpg
END:VEVENT
BEGIN:VEVENT
DTSTART;TZID=America/Los_Angeles:20281115T180000
DTEND;TZID=America/Los_Angeles:20281115T203000
DTSTAMP:20260425T091322
CREATED:20260107T074147Z
LAST-MODIFIED:20260112T180058Z
UID:10001631-1857924000-1857933000@nubf.org
SUMMARY:Youth Group
DESCRIPTION:
URL:https://nubf.org/event/youth-group/2028-11-15/
LOCATION:North Umpqua Bible Fellowship\, 1547 Wild River Dr\, Roseburg\, OR\, 97470\, United States
CATEGORIES:Youth
ATTACH;FMTTYPE=image/jpeg:https://nubf.org/wp-content/uploads/2026/01/Sunday-Service-Powerpoint-copy.jpg
END:VEVENT
BEGIN:VEVENT
DTSTART;TZID=America/Los_Angeles:20281122T180000
DTEND;TZID=America/Los_Angeles:20281122T203000
DTSTAMP:20260425T091322
CREATED:20260107T074147Z
LAST-MODIFIED:20260112T180058Z
UID:10001632-1858528800-1858537800@nubf.org
SUMMARY:Youth Group
DESCRIPTION:
URL:https://nubf.org/event/youth-group/2028-11-22/
LOCATION:North Umpqua Bible Fellowship\, 1547 Wild River Dr\, Roseburg\, OR\, 97470\, United States
CATEGORIES:Youth
ATTACH;FMTTYPE=image/jpeg:https://nubf.org/wp-content/uploads/2026/01/Sunday-Service-Powerpoint-copy.jpg
END:VEVENT
BEGIN:VEVENT
DTSTART;TZID=America/Los_Angeles:20281129T180000
DTEND;TZID=America/Los_Angeles:20281129T203000
DTSTAMP:20260425T091322
CREATED:20260107T074147Z
LAST-MODIFIED:20260112T180058Z
UID:10001633-1859133600-1859142600@nubf.org
SUMMARY:Youth Group
DESCRIPTION:
URL:https://nubf.org/event/youth-group/2028-11-29/
LOCATION:North Umpqua Bible Fellowship\, 1547 Wild River Dr\, Roseburg\, OR\, 97470\, United States
CATEGORIES:Youth
ATTACH;FMTTYPE=image/jpeg:https://nubf.org/wp-content/uploads/2026/01/Sunday-Service-Powerpoint-copy.jpg
END:VEVENT
END:VCALENDAR