BEGIN:VCALENDAR
VERSION:2.0
PRODID:-//North Umpqua Bible Fellowship - ECPv6.15.20//NONSGML v1.0//EN
CALSCALE:GREGORIAN
METHOD:PUBLISH
X-WR-CALNAME:North Umpqua Bible Fellowship
X-ORIGINAL-URL:https://nubf.org
X-WR-CALDESC:Events for North Umpqua Bible Fellowship
REFRESH-INTERVAL;VALUE=DURATION:PT1H
X-Robots-Tag:noindex
X-PUBLISHED-TTL:PT1H
BEGIN:VTIMEZONE
TZID:America/Los_Angeles
BEGIN:DAYLIGHT
TZOFFSETFROM:-0800
TZOFFSETTO:-0700
TZNAME:PDT
DTSTART:20290311T100000
END:DAYLIGHT
BEGIN:STANDARD
TZOFFSETFROM:-0700
TZOFFSETTO:-0800
TZNAME:PST
DTSTART:20291104T090000
END:STANDARD
BEGIN:DAYLIGHT
TZOFFSETFROM:-0800
TZOFFSETTO:-0700
TZNAME:PDT
DTSTART:20300310T100000
END:DAYLIGHT
BEGIN:STANDARD
TZOFFSETFROM:-0700
TZOFFSETTO:-0800
TZNAME:PST
DTSTART:20301103T090000
END:STANDARD
BEGIN:DAYLIGHT
TZOFFSETFROM:-0800
TZOFFSETTO:-0700
TZNAME:PDT
DTSTART:20310309T100000
END:DAYLIGHT
BEGIN:STANDARD
TZOFFSETFROM:-0700
TZOFFSETTO:-0800
TZNAME:PST
DTSTART:20311102T090000
END:STANDARD
END:VTIMEZONE
BEGIN:VEVENT
DTSTART;TZID=America/Los_Angeles:20300911T183000
DTEND;TZID=America/Los_Angeles:20300911T200000
DTSTAMP:20260425T083659
CREATED:20260108T213001Z
LAST-MODIFIED:20260129T194137Z
UID:10002771-1915381800-1915387200@nubf.org
SUMMARY:Wednesday Night Women's Bible Study
DESCRIPTION:Author is Lysa Terkeurst\n \nDates: February 25th/26th – April 1st/2nd\nWednesday: 6:30 PM\nThursday:10:00 AM\nCost: $2.50\nRegistration: February 1st – 15th\nChild Care Available\n 
URL:https://nubf.org/event/wednesday-night-womens-bible-study/2030-09-11/
LOCATION:North Umpqua Bible Fellowship – Library\, 1547 Wild River Dr\, Roseburg\, OR\, 97470\, United States
CATEGORIES:Women's Ministry
ATTACH;FMTTYPE=image/jpeg:https://nubf.org/wp-content/uploads/2026/01/Sunday-Service-Powerpoint.jpg
END:VEVENT
BEGIN:VEVENT
DTSTART;TZID=America/Los_Angeles:20300912T100000
DTEND;TZID=America/Los_Angeles:20300912T113000
DTSTAMP:20260425T083659
CREATED:20260108T212602Z
LAST-MODIFIED:20260129T194214Z
UID:10002510-1915437600-1915443000@nubf.org
SUMMARY:Thursday Morning Women's Bible Study
DESCRIPTION:Author is Lysa Terkeurst\n \nDates: February 25th/26th – April 1st/2nd\nWednesday: 6:30 PM\nThursday:10:00 AM\nCost: $2.50\nRegistration: February 1st – 15th\nChild Care Available
URL:https://nubf.org/event/thursday-morning-womens-bible-study/2030-09-12/
LOCATION:North Umpqua Bible Fellowship – Northroom\, 1547 Wild River Dr\, Roseburg\, OR\, 97470\, United States
CATEGORIES:Women's Ministry
ATTACH;FMTTYPE=image/png:https://nubf.org/wp-content/uploads/2026/01/4.png
END:VEVENT
BEGIN:VEVENT
DTSTART;TZID=America/Los_Angeles:20300918T183000
DTEND;TZID=America/Los_Angeles:20300918T200000
DTSTAMP:20260425T083659
CREATED:20260108T213001Z
LAST-MODIFIED:20260129T194137Z
UID:10002772-1915986600-1915992000@nubf.org
SUMMARY:Wednesday Night Women's Bible Study
DESCRIPTION:Author is Lysa Terkeurst\n \nDates: February 25th/26th – April 1st/2nd\nWednesday: 6:30 PM\nThursday:10:00 AM\nCost: $2.50\nRegistration: February 1st – 15th\nChild Care Available\n 
URL:https://nubf.org/event/wednesday-night-womens-bible-study/2030-09-18/
LOCATION:North Umpqua Bible Fellowship – Library\, 1547 Wild River Dr\, Roseburg\, OR\, 97470\, United States
CATEGORIES:Women's Ministry
ATTACH;FMTTYPE=image/jpeg:https://nubf.org/wp-content/uploads/2026/01/Sunday-Service-Powerpoint.jpg
END:VEVENT
BEGIN:VEVENT
DTSTART;TZID=America/Los_Angeles:20300919T100000
DTEND;TZID=America/Los_Angeles:20300919T113000
DTSTAMP:20260425T083659
CREATED:20260108T212602Z
LAST-MODIFIED:20260129T194214Z
UID:10002511-1916042400-1916047800@nubf.org
SUMMARY:Thursday Morning Women's Bible Study
DESCRIPTION:Author is Lysa Terkeurst\n \nDates: February 25th/26th – April 1st/2nd\nWednesday: 6:30 PM\nThursday:10:00 AM\nCost: $2.50\nRegistration: February 1st – 15th\nChild Care Available
URL:https://nubf.org/event/thursday-morning-womens-bible-study/2030-09-19/
LOCATION:North Umpqua Bible Fellowship – Northroom\, 1547 Wild River Dr\, Roseburg\, OR\, 97470\, United States
CATEGORIES:Women's Ministry
ATTACH;FMTTYPE=image/png:https://nubf.org/wp-content/uploads/2026/01/4.png
END:VEVENT
BEGIN:VEVENT
DTSTART;TZID=America/Los_Angeles:20300925T183000
DTEND;TZID=America/Los_Angeles:20300925T200000
DTSTAMP:20260425T083659
CREATED:20260108T213001Z
LAST-MODIFIED:20260129T194137Z
UID:10002773-1916591400-1916596800@nubf.org
SUMMARY:Wednesday Night Women's Bible Study
DESCRIPTION:Author is Lysa Terkeurst\n \nDates: February 25th/26th – April 1st/2nd\nWednesday: 6:30 PM\nThursday:10:00 AM\nCost: $2.50\nRegistration: February 1st – 15th\nChild Care Available\n 
URL:https://nubf.org/event/wednesday-night-womens-bible-study/2030-09-25/
LOCATION:North Umpqua Bible Fellowship – Library\, 1547 Wild River Dr\, Roseburg\, OR\, 97470\, United States
CATEGORIES:Women's Ministry
ATTACH;FMTTYPE=image/jpeg:https://nubf.org/wp-content/uploads/2026/01/Sunday-Service-Powerpoint.jpg
END:VEVENT
BEGIN:VEVENT
DTSTART;TZID=America/Los_Angeles:20300926T100000
DTEND;TZID=America/Los_Angeles:20300926T113000
DTSTAMP:20260425T083659
CREATED:20260108T212602Z
LAST-MODIFIED:20260129T194214Z
UID:10002512-1916647200-1916652600@nubf.org
SUMMARY:Thursday Morning Women's Bible Study
DESCRIPTION:Author is Lysa Terkeurst\n \nDates: February 25th/26th – April 1st/2nd\nWednesday: 6:30 PM\nThursday:10:00 AM\nCost: $2.50\nRegistration: February 1st – 15th\nChild Care Available
URL:https://nubf.org/event/thursday-morning-womens-bible-study/2030-09-26/
LOCATION:North Umpqua Bible Fellowship – Northroom\, 1547 Wild River Dr\, Roseburg\, OR\, 97470\, United States
CATEGORIES:Women's Ministry
ATTACH;FMTTYPE=image/png:https://nubf.org/wp-content/uploads/2026/01/4.png
END:VEVENT
BEGIN:VEVENT
DTSTART;TZID=America/Los_Angeles:20301002T183000
DTEND;TZID=America/Los_Angeles:20301002T200000
DTSTAMP:20260425T083659
CREATED:20260108T213001Z
LAST-MODIFIED:20260129T194137Z
UID:10002774-1917196200-1917201600@nubf.org
SUMMARY:Wednesday Night Women's Bible Study
DESCRIPTION:Author is Lysa Terkeurst\n \nDates: February 25th/26th – April 1st/2nd\nWednesday: 6:30 PM\nThursday:10:00 AM\nCost: $2.50\nRegistration: February 1st – 15th\nChild Care Available\n 
URL:https://nubf.org/event/wednesday-night-womens-bible-study/2030-10-02/
LOCATION:North Umpqua Bible Fellowship – Library\, 1547 Wild River Dr\, Roseburg\, OR\, 97470\, United States
CATEGORIES:Women's Ministry
ATTACH;FMTTYPE=image/jpeg:https://nubf.org/wp-content/uploads/2026/01/Sunday-Service-Powerpoint.jpg
END:VEVENT
BEGIN:VEVENT
DTSTART;TZID=America/Los_Angeles:20301003T100000
DTEND;TZID=America/Los_Angeles:20301003T113000
DTSTAMP:20260425T083659
CREATED:20260108T212602Z
LAST-MODIFIED:20260129T194214Z
UID:10002513-1917252000-1917257400@nubf.org
SUMMARY:Thursday Morning Women's Bible Study
DESCRIPTION:Author is Lysa Terkeurst\n \nDates: February 25th/26th – April 1st/2nd\nWednesday: 6:30 PM\nThursday:10:00 AM\nCost: $2.50\nRegistration: February 1st – 15th\nChild Care Available
URL:https://nubf.org/event/thursday-morning-womens-bible-study/2030-10-03/
LOCATION:North Umpqua Bible Fellowship – Northroom\, 1547 Wild River Dr\, Roseburg\, OR\, 97470\, United States
CATEGORIES:Women's Ministry
ATTACH;FMTTYPE=image/png:https://nubf.org/wp-content/uploads/2026/01/4.png
END:VEVENT
BEGIN:VEVENT
DTSTART;TZID=America/Los_Angeles:20301009T183000
DTEND;TZID=America/Los_Angeles:20301009T200000
DTSTAMP:20260425T083659
CREATED:20260108T213001Z
LAST-MODIFIED:20260129T194137Z
UID:10002775-1917801000-1917806400@nubf.org
SUMMARY:Wednesday Night Women's Bible Study
DESCRIPTION:Author is Lysa Terkeurst\n \nDates: February 25th/26th – April 1st/2nd\nWednesday: 6:30 PM\nThursday:10:00 AM\nCost: $2.50\nRegistration: February 1st – 15th\nChild Care Available\n 
URL:https://nubf.org/event/wednesday-night-womens-bible-study/2030-10-09/
LOCATION:North Umpqua Bible Fellowship – Library\, 1547 Wild River Dr\, Roseburg\, OR\, 97470\, United States
CATEGORIES:Women's Ministry
ATTACH;FMTTYPE=image/jpeg:https://nubf.org/wp-content/uploads/2026/01/Sunday-Service-Powerpoint.jpg
END:VEVENT
BEGIN:VEVENT
DTSTART;TZID=America/Los_Angeles:20301010T100000
DTEND;TZID=America/Los_Angeles:20301010T113000
DTSTAMP:20260425T083659
CREATED:20260108T212602Z
LAST-MODIFIED:20260129T194214Z
UID:10002514-1917856800-1917862200@nubf.org
SUMMARY:Thursday Morning Women's Bible Study
DESCRIPTION:Author is Lysa Terkeurst\n \nDates: February 25th/26th – April 1st/2nd\nWednesday: 6:30 PM\nThursday:10:00 AM\nCost: $2.50\nRegistration: February 1st – 15th\nChild Care Available
URL:https://nubf.org/event/thursday-morning-womens-bible-study/2030-10-10/
LOCATION:North Umpqua Bible Fellowship – Northroom\, 1547 Wild River Dr\, Roseburg\, OR\, 97470\, United States
CATEGORIES:Women's Ministry
ATTACH;FMTTYPE=image/png:https://nubf.org/wp-content/uploads/2026/01/4.png
END:VEVENT
BEGIN:VEVENT
DTSTART;TZID=America/Los_Angeles:20301016T183000
DTEND;TZID=America/Los_Angeles:20301016T200000
DTSTAMP:20260425T083659
CREATED:20260108T213001Z
LAST-MODIFIED:20260129T194137Z
UID:10002776-1918405800-1918411200@nubf.org
SUMMARY:Wednesday Night Women's Bible Study
DESCRIPTION:Author is Lysa Terkeurst\n \nDates: February 25th/26th – April 1st/2nd\nWednesday: 6:30 PM\nThursday:10:00 AM\nCost: $2.50\nRegistration: February 1st – 15th\nChild Care Available\n 
URL:https://nubf.org/event/wednesday-night-womens-bible-study/2030-10-16/
LOCATION:North Umpqua Bible Fellowship – Library\, 1547 Wild River Dr\, Roseburg\, OR\, 97470\, United States
CATEGORIES:Women's Ministry
ATTACH;FMTTYPE=image/jpeg:https://nubf.org/wp-content/uploads/2026/01/Sunday-Service-Powerpoint.jpg
END:VEVENT
BEGIN:VEVENT
DTSTART;TZID=America/Los_Angeles:20301017T100000
DTEND;TZID=America/Los_Angeles:20301017T113000
DTSTAMP:20260425T083659
CREATED:20260108T212602Z
LAST-MODIFIED:20260129T194214Z
UID:10002515-1918461600-1918467000@nubf.org
SUMMARY:Thursday Morning Women's Bible Study
DESCRIPTION:Author is Lysa Terkeurst\n \nDates: February 25th/26th – April 1st/2nd\nWednesday: 6:30 PM\nThursday:10:00 AM\nCost: $2.50\nRegistration: February 1st – 15th\nChild Care Available
URL:https://nubf.org/event/thursday-morning-womens-bible-study/2030-10-17/
LOCATION:North Umpqua Bible Fellowship – Northroom\, 1547 Wild River Dr\, Roseburg\, OR\, 97470\, United States
CATEGORIES:Women's Ministry
ATTACH;FMTTYPE=image/png:https://nubf.org/wp-content/uploads/2026/01/4.png
END:VEVENT
BEGIN:VEVENT
DTSTART;TZID=America/Los_Angeles:20301023T183000
DTEND;TZID=America/Los_Angeles:20301023T200000
DTSTAMP:20260425T083659
CREATED:20260108T213001Z
LAST-MODIFIED:20260129T194137Z
UID:10002777-1919010600-1919016000@nubf.org
SUMMARY:Wednesday Night Women's Bible Study
DESCRIPTION:Author is Lysa Terkeurst\n \nDates: February 25th/26th – April 1st/2nd\nWednesday: 6:30 PM\nThursday:10:00 AM\nCost: $2.50\nRegistration: February 1st – 15th\nChild Care Available\n 
URL:https://nubf.org/event/wednesday-night-womens-bible-study/2030-10-23/
LOCATION:North Umpqua Bible Fellowship – Library\, 1547 Wild River Dr\, Roseburg\, OR\, 97470\, United States
CATEGORIES:Women's Ministry
ATTACH;FMTTYPE=image/jpeg:https://nubf.org/wp-content/uploads/2026/01/Sunday-Service-Powerpoint.jpg
END:VEVENT
BEGIN:VEVENT
DTSTART;TZID=America/Los_Angeles:20301024T100000
DTEND;TZID=America/Los_Angeles:20301024T113000
DTSTAMP:20260425T083659
CREATED:20260108T212602Z
LAST-MODIFIED:20260129T194214Z
UID:10002516-1919066400-1919071800@nubf.org
SUMMARY:Thursday Morning Women's Bible Study
DESCRIPTION:Author is Lysa Terkeurst\n \nDates: February 25th/26th – April 1st/2nd\nWednesday: 6:30 PM\nThursday:10:00 AM\nCost: $2.50\nRegistration: February 1st – 15th\nChild Care Available
URL:https://nubf.org/event/thursday-morning-womens-bible-study/2030-10-24/
LOCATION:North Umpqua Bible Fellowship – Northroom\, 1547 Wild River Dr\, Roseburg\, OR\, 97470\, United States
CATEGORIES:Women's Ministry
ATTACH;FMTTYPE=image/png:https://nubf.org/wp-content/uploads/2026/01/4.png
END:VEVENT
BEGIN:VEVENT
DTSTART;TZID=America/Los_Angeles:20301030T183000
DTEND;TZID=America/Los_Angeles:20301030T200000
DTSTAMP:20260425T083659
CREATED:20260108T213001Z
LAST-MODIFIED:20260129T194137Z
UID:10002778-1919615400-1919620800@nubf.org
SUMMARY:Wednesday Night Women's Bible Study
DESCRIPTION:Author is Lysa Terkeurst\n \nDates: February 25th/26th – April 1st/2nd\nWednesday: 6:30 PM\nThursday:10:00 AM\nCost: $2.50\nRegistration: February 1st – 15th\nChild Care Available\n 
URL:https://nubf.org/event/wednesday-night-womens-bible-study/2030-10-30/
LOCATION:North Umpqua Bible Fellowship – Library\, 1547 Wild River Dr\, Roseburg\, OR\, 97470\, United States
CATEGORIES:Women's Ministry
ATTACH;FMTTYPE=image/jpeg:https://nubf.org/wp-content/uploads/2026/01/Sunday-Service-Powerpoint.jpg
END:VEVENT
BEGIN:VEVENT
DTSTART;TZID=America/Los_Angeles:20301031T100000
DTEND;TZID=America/Los_Angeles:20301031T113000
DTSTAMP:20260425T083659
CREATED:20260108T212602Z
LAST-MODIFIED:20260129T194214Z
UID:10002517-1919671200-1919676600@nubf.org
SUMMARY:Thursday Morning Women's Bible Study
DESCRIPTION:Author is Lysa Terkeurst\n \nDates: February 25th/26th – April 1st/2nd\nWednesday: 6:30 PM\nThursday:10:00 AM\nCost: $2.50\nRegistration: February 1st – 15th\nChild Care Available
URL:https://nubf.org/event/thursday-morning-womens-bible-study/2030-10-31/
LOCATION:North Umpqua Bible Fellowship – Northroom\, 1547 Wild River Dr\, Roseburg\, OR\, 97470\, United States
CATEGORIES:Women's Ministry
ATTACH;FMTTYPE=image/png:https://nubf.org/wp-content/uploads/2026/01/4.png
END:VEVENT
BEGIN:VEVENT
DTSTART;TZID=America/Los_Angeles:20301106T183000
DTEND;TZID=America/Los_Angeles:20301106T200000
DTSTAMP:20260425T083659
CREATED:20260108T213001Z
LAST-MODIFIED:20260129T194137Z
UID:10002779-1920220200-1920225600@nubf.org
SUMMARY:Wednesday Night Women's Bible Study
DESCRIPTION:Author is Lysa Terkeurst\n \nDates: February 25th/26th – April 1st/2nd\nWednesday: 6:30 PM\nThursday:10:00 AM\nCost: $2.50\nRegistration: February 1st – 15th\nChild Care Available\n 
URL:https://nubf.org/event/wednesday-night-womens-bible-study/2030-11-06/
LOCATION:North Umpqua Bible Fellowship – Library\, 1547 Wild River Dr\, Roseburg\, OR\, 97470\, United States
CATEGORIES:Women's Ministry
ATTACH;FMTTYPE=image/jpeg:https://nubf.org/wp-content/uploads/2026/01/Sunday-Service-Powerpoint.jpg
END:VEVENT
BEGIN:VEVENT
DTSTART;TZID=America/Los_Angeles:20301107T100000
DTEND;TZID=America/Los_Angeles:20301107T113000
DTSTAMP:20260425T083659
CREATED:20260108T212602Z
LAST-MODIFIED:20260129T194214Z
UID:10002518-1920276000-1920281400@nubf.org
SUMMARY:Thursday Morning Women's Bible Study
DESCRIPTION:Author is Lysa Terkeurst\n \nDates: February 25th/26th – April 1st/2nd\nWednesday: 6:30 PM\nThursday:10:00 AM\nCost: $2.50\nRegistration: February 1st – 15th\nChild Care Available
URL:https://nubf.org/event/thursday-morning-womens-bible-study/2030-11-07/
LOCATION:North Umpqua Bible Fellowship – Northroom\, 1547 Wild River Dr\, Roseburg\, OR\, 97470\, United States
CATEGORIES:Women's Ministry
ATTACH;FMTTYPE=image/png:https://nubf.org/wp-content/uploads/2026/01/4.png
END:VEVENT
BEGIN:VEVENT
DTSTART;TZID=America/Los_Angeles:20301113T183000
DTEND;TZID=America/Los_Angeles:20301113T200000
DTSTAMP:20260425T083659
CREATED:20260108T213001Z
LAST-MODIFIED:20260129T194137Z
UID:10002780-1920825000-1920830400@nubf.org
SUMMARY:Wednesday Night Women's Bible Study
DESCRIPTION:Author is Lysa Terkeurst\n \nDates: February 25th/26th – April 1st/2nd\nWednesday: 6:30 PM\nThursday:10:00 AM\nCost: $2.50\nRegistration: February 1st – 15th\nChild Care Available\n 
URL:https://nubf.org/event/wednesday-night-womens-bible-study/2030-11-13/
LOCATION:North Umpqua Bible Fellowship – Library\, 1547 Wild River Dr\, Roseburg\, OR\, 97470\, United States
CATEGORIES:Women's Ministry
ATTACH;FMTTYPE=image/jpeg:https://nubf.org/wp-content/uploads/2026/01/Sunday-Service-Powerpoint.jpg
END:VEVENT
BEGIN:VEVENT
DTSTART;TZID=America/Los_Angeles:20301114T100000
DTEND;TZID=America/Los_Angeles:20301114T113000
DTSTAMP:20260425T083659
CREATED:20260108T212602Z
LAST-MODIFIED:20260129T194214Z
UID:10002519-1920880800-1920886200@nubf.org
SUMMARY:Thursday Morning Women's Bible Study
DESCRIPTION:Author is Lysa Terkeurst\n \nDates: February 25th/26th – April 1st/2nd\nWednesday: 6:30 PM\nThursday:10:00 AM\nCost: $2.50\nRegistration: February 1st – 15th\nChild Care Available
URL:https://nubf.org/event/thursday-morning-womens-bible-study/2030-11-14/
LOCATION:North Umpqua Bible Fellowship – Northroom\, 1547 Wild River Dr\, Roseburg\, OR\, 97470\, United States
CATEGORIES:Women's Ministry
ATTACH;FMTTYPE=image/png:https://nubf.org/wp-content/uploads/2026/01/4.png
END:VEVENT
BEGIN:VEVENT
DTSTART;TZID=America/Los_Angeles:20301120T183000
DTEND;TZID=America/Los_Angeles:20301120T200000
DTSTAMP:20260425T083659
CREATED:20260108T213001Z
LAST-MODIFIED:20260129T194137Z
UID:10002781-1921429800-1921435200@nubf.org
SUMMARY:Wednesday Night Women's Bible Study
DESCRIPTION:Author is Lysa Terkeurst\n \nDates: February 25th/26th – April 1st/2nd\nWednesday: 6:30 PM\nThursday:10:00 AM\nCost: $2.50\nRegistration: February 1st – 15th\nChild Care Available\n 
URL:https://nubf.org/event/wednesday-night-womens-bible-study/2030-11-20/
LOCATION:North Umpqua Bible Fellowship – Library\, 1547 Wild River Dr\, Roseburg\, OR\, 97470\, United States
CATEGORIES:Women's Ministry
ATTACH;FMTTYPE=image/jpeg:https://nubf.org/wp-content/uploads/2026/01/Sunday-Service-Powerpoint.jpg
END:VEVENT
BEGIN:VEVENT
DTSTART;TZID=America/Los_Angeles:20301121T100000
DTEND;TZID=America/Los_Angeles:20301121T113000
DTSTAMP:20260425T083659
CREATED:20260108T212602Z
LAST-MODIFIED:20260129T194214Z
UID:10002520-1921485600-1921491000@nubf.org
SUMMARY:Thursday Morning Women's Bible Study
DESCRIPTION:Author is Lysa Terkeurst\n \nDates: February 25th/26th – April 1st/2nd\nWednesday: 6:30 PM\nThursday:10:00 AM\nCost: $2.50\nRegistration: February 1st – 15th\nChild Care Available
URL:https://nubf.org/event/thursday-morning-womens-bible-study/2030-11-21/
LOCATION:North Umpqua Bible Fellowship – Northroom\, 1547 Wild River Dr\, Roseburg\, OR\, 97470\, United States
CATEGORIES:Women's Ministry
ATTACH;FMTTYPE=image/png:https://nubf.org/wp-content/uploads/2026/01/4.png
END:VEVENT
BEGIN:VEVENT
DTSTART;TZID=America/Los_Angeles:20301127T183000
DTEND;TZID=America/Los_Angeles:20301127T200000
DTSTAMP:20260425T083659
CREATED:20260108T213001Z
LAST-MODIFIED:20260129T194137Z
UID:10002782-1922034600-1922040000@nubf.org
SUMMARY:Wednesday Night Women's Bible Study
DESCRIPTION:Author is Lysa Terkeurst\n \nDates: February 25th/26th – April 1st/2nd\nWednesday: 6:30 PM\nThursday:10:00 AM\nCost: $2.50\nRegistration: February 1st – 15th\nChild Care Available\n 
URL:https://nubf.org/event/wednesday-night-womens-bible-study/2030-11-27/
LOCATION:North Umpqua Bible Fellowship – Library\, 1547 Wild River Dr\, Roseburg\, OR\, 97470\, United States
CATEGORIES:Women's Ministry
ATTACH;FMTTYPE=image/jpeg:https://nubf.org/wp-content/uploads/2026/01/Sunday-Service-Powerpoint.jpg
END:VEVENT
BEGIN:VEVENT
DTSTART;TZID=America/Los_Angeles:20301128T100000
DTEND;TZID=America/Los_Angeles:20301128T113000
DTSTAMP:20260425T083659
CREATED:20260108T212602Z
LAST-MODIFIED:20260129T194214Z
UID:10002521-1922090400-1922095800@nubf.org
SUMMARY:Thursday Morning Women's Bible Study
DESCRIPTION:Author is Lysa Terkeurst\n \nDates: February 25th/26th – April 1st/2nd\nWednesday: 6:30 PM\nThursday:10:00 AM\nCost: $2.50\nRegistration: February 1st – 15th\nChild Care Available
URL:https://nubf.org/event/thursday-morning-womens-bible-study/2030-11-28/
LOCATION:North Umpqua Bible Fellowship – Northroom\, 1547 Wild River Dr\, Roseburg\, OR\, 97470\, United States
CATEGORIES:Women's Ministry
ATTACH;FMTTYPE=image/png:https://nubf.org/wp-content/uploads/2026/01/4.png
END:VEVENT
BEGIN:VEVENT
DTSTART;TZID=America/Los_Angeles:20301204T183000
DTEND;TZID=America/Los_Angeles:20301204T200000
DTSTAMP:20260425T083659
CREATED:20260108T213001Z
LAST-MODIFIED:20260129T194137Z
UID:10002783-1922639400-1922644800@nubf.org
SUMMARY:Wednesday Night Women's Bible Study
DESCRIPTION:Author is Lysa Terkeurst\n \nDates: February 25th/26th – April 1st/2nd\nWednesday: 6:30 PM\nThursday:10:00 AM\nCost: $2.50\nRegistration: February 1st – 15th\nChild Care Available\n 
URL:https://nubf.org/event/wednesday-night-womens-bible-study/2030-12-04/
LOCATION:North Umpqua Bible Fellowship – Library\, 1547 Wild River Dr\, Roseburg\, OR\, 97470\, United States
CATEGORIES:Women's Ministry
ATTACH;FMTTYPE=image/jpeg:https://nubf.org/wp-content/uploads/2026/01/Sunday-Service-Powerpoint.jpg
END:VEVENT
BEGIN:VEVENT
DTSTART;TZID=America/Los_Angeles:20301205T100000
DTEND;TZID=America/Los_Angeles:20301205T113000
DTSTAMP:20260425T083659
CREATED:20260108T212602Z
LAST-MODIFIED:20260129T194214Z
UID:10002522-1922695200-1922700600@nubf.org
SUMMARY:Thursday Morning Women's Bible Study
DESCRIPTION:Author is Lysa Terkeurst\n \nDates: February 25th/26th – April 1st/2nd\nWednesday: 6:30 PM\nThursday:10:00 AM\nCost: $2.50\nRegistration: February 1st – 15th\nChild Care Available
URL:https://nubf.org/event/thursday-morning-womens-bible-study/2030-12-05/
LOCATION:North Umpqua Bible Fellowship – Northroom\, 1547 Wild River Dr\, Roseburg\, OR\, 97470\, United States
CATEGORIES:Women's Ministry
ATTACH;FMTTYPE=image/png:https://nubf.org/wp-content/uploads/2026/01/4.png
END:VEVENT
BEGIN:VEVENT
DTSTART;TZID=America/Los_Angeles:20301211T183000
DTEND;TZID=America/Los_Angeles:20301211T200000
DTSTAMP:20260425T083659
CREATED:20260108T213001Z
LAST-MODIFIED:20260129T194137Z
UID:10002784-1923244200-1923249600@nubf.org
SUMMARY:Wednesday Night Women's Bible Study
DESCRIPTION:Author is Lysa Terkeurst\n \nDates: February 25th/26th – April 1st/2nd\nWednesday: 6:30 PM\nThursday:10:00 AM\nCost: $2.50\nRegistration: February 1st – 15th\nChild Care Available\n 
URL:https://nubf.org/event/wednesday-night-womens-bible-study/2030-12-11/
LOCATION:North Umpqua Bible Fellowship – Library\, 1547 Wild River Dr\, Roseburg\, OR\, 97470\, United States
CATEGORIES:Women's Ministry
ATTACH;FMTTYPE=image/jpeg:https://nubf.org/wp-content/uploads/2026/01/Sunday-Service-Powerpoint.jpg
END:VEVENT
BEGIN:VEVENT
DTSTART;TZID=America/Los_Angeles:20301212T100000
DTEND;TZID=America/Los_Angeles:20301212T113000
DTSTAMP:20260425T083659
CREATED:20260108T212602Z
LAST-MODIFIED:20260129T194214Z
UID:10002523-1923300000-1923305400@nubf.org
SUMMARY:Thursday Morning Women's Bible Study
DESCRIPTION:Author is Lysa Terkeurst\n \nDates: February 25th/26th – April 1st/2nd\nWednesday: 6:30 PM\nThursday:10:00 AM\nCost: $2.50\nRegistration: February 1st – 15th\nChild Care Available
URL:https://nubf.org/event/thursday-morning-womens-bible-study/2030-12-12/
LOCATION:North Umpqua Bible Fellowship – Northroom\, 1547 Wild River Dr\, Roseburg\, OR\, 97470\, United States
CATEGORIES:Women's Ministry
ATTACH;FMTTYPE=image/png:https://nubf.org/wp-content/uploads/2026/01/4.png
END:VEVENT
BEGIN:VEVENT
DTSTART;TZID=America/Los_Angeles:20301218T183000
DTEND;TZID=America/Los_Angeles:20301218T200000
DTSTAMP:20260425T083659
CREATED:20260108T213001Z
LAST-MODIFIED:20260129T194137Z
UID:10002785-1923849000-1923854400@nubf.org
SUMMARY:Wednesday Night Women's Bible Study
DESCRIPTION:Author is Lysa Terkeurst\n \nDates: February 25th/26th – April 1st/2nd\nWednesday: 6:30 PM\nThursday:10:00 AM\nCost: $2.50\nRegistration: February 1st – 15th\nChild Care Available\n 
URL:https://nubf.org/event/wednesday-night-womens-bible-study/2030-12-18/
LOCATION:North Umpqua Bible Fellowship – Library\, 1547 Wild River Dr\, Roseburg\, OR\, 97470\, United States
CATEGORIES:Women's Ministry
ATTACH;FMTTYPE=image/jpeg:https://nubf.org/wp-content/uploads/2026/01/Sunday-Service-Powerpoint.jpg
END:VEVENT
BEGIN:VEVENT
DTSTART;TZID=America/Los_Angeles:20301219T100000
DTEND;TZID=America/Los_Angeles:20301219T113000
DTSTAMP:20260425T083659
CREATED:20260108T212602Z
LAST-MODIFIED:20260129T194214Z
UID:10002524-1923904800-1923910200@nubf.org
SUMMARY:Thursday Morning Women's Bible Study
DESCRIPTION:Author is Lysa Terkeurst\n \nDates: February 25th/26th – April 1st/2nd\nWednesday: 6:30 PM\nThursday:10:00 AM\nCost: $2.50\nRegistration: February 1st – 15th\nChild Care Available
URL:https://nubf.org/event/thursday-morning-womens-bible-study/2030-12-19/
LOCATION:North Umpqua Bible Fellowship – Northroom\, 1547 Wild River Dr\, Roseburg\, OR\, 97470\, United States
CATEGORIES:Women's Ministry
ATTACH;FMTTYPE=image/png:https://nubf.org/wp-content/uploads/2026/01/4.png
END:VEVENT
END:VCALENDAR