BEGIN:VCALENDAR
VERSION:2.0
PRODID:-//North Umpqua Bible Fellowship - ECPv6.15.20//NONSGML v1.0//EN
CALSCALE:GREGORIAN
METHOD:PUBLISH
X-ORIGINAL-URL:https://nubf.org
X-WR-CALDESC:Events for North Umpqua Bible Fellowship
REFRESH-INTERVAL;VALUE=DURATION:PT1H
X-Robots-Tag:noindex
X-PUBLISHED-TTL:PT1H
BEGIN:VTIMEZONE
TZID:America/Los_Angeles
BEGIN:DAYLIGHT
TZOFFSETFROM:-0800
TZOFFSETTO:-0700
TZNAME:PDT
DTSTART:20280312T100000
END:DAYLIGHT
BEGIN:STANDARD
TZOFFSETFROM:-0700
TZOFFSETTO:-0800
TZNAME:PST
DTSTART:20281105T090000
END:STANDARD
BEGIN:DAYLIGHT
TZOFFSETFROM:-0800
TZOFFSETTO:-0700
TZNAME:PDT
DTSTART:20290311T100000
END:DAYLIGHT
BEGIN:STANDARD
TZOFFSETFROM:-0700
TZOFFSETTO:-0800
TZNAME:PST
DTSTART:20291104T090000
END:STANDARD
BEGIN:DAYLIGHT
TZOFFSETFROM:-0800
TZOFFSETTO:-0700
TZNAME:PDT
DTSTART:20300310T100000
END:DAYLIGHT
BEGIN:STANDARD
TZOFFSETFROM:-0700
TZOFFSETTO:-0800
TZNAME:PST
DTSTART:20301103T090000
END:STANDARD
END:VTIMEZONE
BEGIN:VEVENT
DTSTART;TZID=America/Los_Angeles:20290418T183000
DTEND;TZID=America/Los_Angeles:20290418T200000
DTSTAMP:20260425T201447
CREATED:20260108T213001Z
LAST-MODIFIED:20260129T194137Z
UID:10002698-1871231400-1871236800@nubf.org
SUMMARY:Wednesday Night Women's Bible Study
DESCRIPTION:Author is Lysa Terkeurst\n \nDates: February 25th/26th – April 1st/2nd\nWednesday: 6:30 PM\nThursday:10:00 AM\nCost: $2.50\nRegistration: February 1st – 15th\nChild Care Available\n 
URL:https://nubf.org/event/wednesday-night-womens-bible-study/2029-04-18/
LOCATION:North Umpqua Bible Fellowship – Library\, 1547 Wild River Dr\, Roseburg\, OR\, 97470\, United States
CATEGORIES:Women's Ministry
ATTACH;FMTTYPE=image/jpeg:https://nubf.org/wp-content/uploads/2026/01/Sunday-Service-Powerpoint.jpg
END:VEVENT
BEGIN:VEVENT
DTSTART;TZID=America/Los_Angeles:20290419T100000
DTEND;TZID=America/Los_Angeles:20290419T113000
DTSTAMP:20260425T201447
CREATED:20260108T212602Z
LAST-MODIFIED:20260129T194214Z
UID:10002437-1871287200-1871292600@nubf.org
SUMMARY:Thursday Morning Women's Bible Study
DESCRIPTION:Author is Lysa Terkeurst\n \nDates: February 25th/26th – April 1st/2nd\nWednesday: 6:30 PM\nThursday:10:00 AM\nCost: $2.50\nRegistration: February 1st – 15th\nChild Care Available
URL:https://nubf.org/event/thursday-morning-womens-bible-study/2029-04-19/
LOCATION:North Umpqua Bible Fellowship – Northroom\, 1547 Wild River Dr\, Roseburg\, OR\, 97470\, United States
CATEGORIES:Women's Ministry
ATTACH;FMTTYPE=image/png:https://nubf.org/wp-content/uploads/2026/01/4.png
END:VEVENT
BEGIN:VEVENT
DTSTART;TZID=America/Los_Angeles:20290425T183000
DTEND;TZID=America/Los_Angeles:20290425T200000
DTSTAMP:20260425T201447
CREATED:20260108T213001Z
LAST-MODIFIED:20260129T194137Z
UID:10002699-1871836200-1871841600@nubf.org
SUMMARY:Wednesday Night Women's Bible Study
DESCRIPTION:Author is Lysa Terkeurst\n \nDates: February 25th/26th – April 1st/2nd\nWednesday: 6:30 PM\nThursday:10:00 AM\nCost: $2.50\nRegistration: February 1st – 15th\nChild Care Available\n 
URL:https://nubf.org/event/wednesday-night-womens-bible-study/2029-04-25/
LOCATION:North Umpqua Bible Fellowship – Library\, 1547 Wild River Dr\, Roseburg\, OR\, 97470\, United States
CATEGORIES:Women's Ministry
ATTACH;FMTTYPE=image/jpeg:https://nubf.org/wp-content/uploads/2026/01/Sunday-Service-Powerpoint.jpg
END:VEVENT
BEGIN:VEVENT
DTSTART;TZID=America/Los_Angeles:20290426T100000
DTEND;TZID=America/Los_Angeles:20290426T113000
DTSTAMP:20260425T201447
CREATED:20260108T212602Z
LAST-MODIFIED:20260129T194214Z
UID:10002438-1871892000-1871897400@nubf.org
SUMMARY:Thursday Morning Women's Bible Study
DESCRIPTION:Author is Lysa Terkeurst\n \nDates: February 25th/26th – April 1st/2nd\nWednesday: 6:30 PM\nThursday:10:00 AM\nCost: $2.50\nRegistration: February 1st – 15th\nChild Care Available
URL:https://nubf.org/event/thursday-morning-womens-bible-study/2029-04-26/
LOCATION:North Umpqua Bible Fellowship – Northroom\, 1547 Wild River Dr\, Roseburg\, OR\, 97470\, United States
CATEGORIES:Women's Ministry
ATTACH;FMTTYPE=image/png:https://nubf.org/wp-content/uploads/2026/01/4.png
END:VEVENT
BEGIN:VEVENT
DTSTART;TZID=America/Los_Angeles:20290502T183000
DTEND;TZID=America/Los_Angeles:20290502T200000
DTSTAMP:20260425T201447
CREATED:20260108T213001Z
LAST-MODIFIED:20260129T194137Z
UID:10002700-1872441000-1872446400@nubf.org
SUMMARY:Wednesday Night Women's Bible Study
DESCRIPTION:Author is Lysa Terkeurst\n \nDates: February 25th/26th – April 1st/2nd\nWednesday: 6:30 PM\nThursday:10:00 AM\nCost: $2.50\nRegistration: February 1st – 15th\nChild Care Available\n 
URL:https://nubf.org/event/wednesday-night-womens-bible-study/2029-05-02/
LOCATION:North Umpqua Bible Fellowship – Library\, 1547 Wild River Dr\, Roseburg\, OR\, 97470\, United States
CATEGORIES:Women's Ministry
ATTACH;FMTTYPE=image/jpeg:https://nubf.org/wp-content/uploads/2026/01/Sunday-Service-Powerpoint.jpg
END:VEVENT
BEGIN:VEVENT
DTSTART;TZID=America/Los_Angeles:20290503T100000
DTEND;TZID=America/Los_Angeles:20290503T113000
DTSTAMP:20260425T201447
CREATED:20260108T212602Z
LAST-MODIFIED:20260129T194214Z
UID:10002439-1872496800-1872502200@nubf.org
SUMMARY:Thursday Morning Women's Bible Study
DESCRIPTION:Author is Lysa Terkeurst\n \nDates: February 25th/26th – April 1st/2nd\nWednesday: 6:30 PM\nThursday:10:00 AM\nCost: $2.50\nRegistration: February 1st – 15th\nChild Care Available
URL:https://nubf.org/event/thursday-morning-womens-bible-study/2029-05-03/
LOCATION:North Umpqua Bible Fellowship – Northroom\, 1547 Wild River Dr\, Roseburg\, OR\, 97470\, United States
CATEGORIES:Women's Ministry
ATTACH;FMTTYPE=image/png:https://nubf.org/wp-content/uploads/2026/01/4.png
END:VEVENT
BEGIN:VEVENT
DTSTART;TZID=America/Los_Angeles:20290509T183000
DTEND;TZID=America/Los_Angeles:20290509T200000
DTSTAMP:20260425T201447
CREATED:20260108T213001Z
LAST-MODIFIED:20260129T194137Z
UID:10002701-1873045800-1873051200@nubf.org
SUMMARY:Wednesday Night Women's Bible Study
DESCRIPTION:Author is Lysa Terkeurst\n \nDates: February 25th/26th – April 1st/2nd\nWednesday: 6:30 PM\nThursday:10:00 AM\nCost: $2.50\nRegistration: February 1st – 15th\nChild Care Available\n 
URL:https://nubf.org/event/wednesday-night-womens-bible-study/2029-05-09/
LOCATION:North Umpqua Bible Fellowship – Library\, 1547 Wild River Dr\, Roseburg\, OR\, 97470\, United States
CATEGORIES:Women's Ministry
ATTACH;FMTTYPE=image/jpeg:https://nubf.org/wp-content/uploads/2026/01/Sunday-Service-Powerpoint.jpg
END:VEVENT
BEGIN:VEVENT
DTSTART;TZID=America/Los_Angeles:20290510T100000
DTEND;TZID=America/Los_Angeles:20290510T113000
DTSTAMP:20260425T201447
CREATED:20260108T212602Z
LAST-MODIFIED:20260129T194214Z
UID:10002440-1873101600-1873107000@nubf.org
SUMMARY:Thursday Morning Women's Bible Study
DESCRIPTION:Author is Lysa Terkeurst\n \nDates: February 25th/26th – April 1st/2nd\nWednesday: 6:30 PM\nThursday:10:00 AM\nCost: $2.50\nRegistration: February 1st – 15th\nChild Care Available
URL:https://nubf.org/event/thursday-morning-womens-bible-study/2029-05-10/
LOCATION:North Umpqua Bible Fellowship – Northroom\, 1547 Wild River Dr\, Roseburg\, OR\, 97470\, United States
CATEGORIES:Women's Ministry
ATTACH;FMTTYPE=image/png:https://nubf.org/wp-content/uploads/2026/01/4.png
END:VEVENT
BEGIN:VEVENT
DTSTART;TZID=America/Los_Angeles:20290516T183000
DTEND;TZID=America/Los_Angeles:20290516T200000
DTSTAMP:20260425T201447
CREATED:20260108T213001Z
LAST-MODIFIED:20260129T194137Z
UID:10002702-1873650600-1873656000@nubf.org
SUMMARY:Wednesday Night Women's Bible Study
DESCRIPTION:Author is Lysa Terkeurst\n \nDates: February 25th/26th – April 1st/2nd\nWednesday: 6:30 PM\nThursday:10:00 AM\nCost: $2.50\nRegistration: February 1st – 15th\nChild Care Available\n 
URL:https://nubf.org/event/wednesday-night-womens-bible-study/2029-05-16/
LOCATION:North Umpqua Bible Fellowship – Library\, 1547 Wild River Dr\, Roseburg\, OR\, 97470\, United States
CATEGORIES:Women's Ministry
ATTACH;FMTTYPE=image/jpeg:https://nubf.org/wp-content/uploads/2026/01/Sunday-Service-Powerpoint.jpg
END:VEVENT
BEGIN:VEVENT
DTSTART;TZID=America/Los_Angeles:20290517T100000
DTEND;TZID=America/Los_Angeles:20290517T113000
DTSTAMP:20260425T201447
CREATED:20260108T212602Z
LAST-MODIFIED:20260129T194214Z
UID:10002441-1873706400-1873711800@nubf.org
SUMMARY:Thursday Morning Women's Bible Study
DESCRIPTION:Author is Lysa Terkeurst\n \nDates: February 25th/26th – April 1st/2nd\nWednesday: 6:30 PM\nThursday:10:00 AM\nCost: $2.50\nRegistration: February 1st – 15th\nChild Care Available
URL:https://nubf.org/event/thursday-morning-womens-bible-study/2029-05-17/
LOCATION:North Umpqua Bible Fellowship – Northroom\, 1547 Wild River Dr\, Roseburg\, OR\, 97470\, United States
CATEGORIES:Women's Ministry
ATTACH;FMTTYPE=image/png:https://nubf.org/wp-content/uploads/2026/01/4.png
END:VEVENT
BEGIN:VEVENT
DTSTART;TZID=America/Los_Angeles:20290523T183000
DTEND;TZID=America/Los_Angeles:20290523T200000
DTSTAMP:20260425T201447
CREATED:20260108T213001Z
LAST-MODIFIED:20260129T194137Z
UID:10002703-1874255400-1874260800@nubf.org
SUMMARY:Wednesday Night Women's Bible Study
DESCRIPTION:Author is Lysa Terkeurst\n \nDates: February 25th/26th – April 1st/2nd\nWednesday: 6:30 PM\nThursday:10:00 AM\nCost: $2.50\nRegistration: February 1st – 15th\nChild Care Available\n 
URL:https://nubf.org/event/wednesday-night-womens-bible-study/2029-05-23/
LOCATION:North Umpqua Bible Fellowship – Library\, 1547 Wild River Dr\, Roseburg\, OR\, 97470\, United States
CATEGORIES:Women's Ministry
ATTACH;FMTTYPE=image/jpeg:https://nubf.org/wp-content/uploads/2026/01/Sunday-Service-Powerpoint.jpg
END:VEVENT
BEGIN:VEVENT
DTSTART;TZID=America/Los_Angeles:20290524T100000
DTEND;TZID=America/Los_Angeles:20290524T113000
DTSTAMP:20260425T201447
CREATED:20260108T212602Z
LAST-MODIFIED:20260129T194214Z
UID:10002442-1874311200-1874316600@nubf.org
SUMMARY:Thursday Morning Women's Bible Study
DESCRIPTION:Author is Lysa Terkeurst\n \nDates: February 25th/26th – April 1st/2nd\nWednesday: 6:30 PM\nThursday:10:00 AM\nCost: $2.50\nRegistration: February 1st – 15th\nChild Care Available
URL:https://nubf.org/event/thursday-morning-womens-bible-study/2029-05-24/
LOCATION:North Umpqua Bible Fellowship – Northroom\, 1547 Wild River Dr\, Roseburg\, OR\, 97470\, United States
CATEGORIES:Women's Ministry
ATTACH;FMTTYPE=image/png:https://nubf.org/wp-content/uploads/2026/01/4.png
END:VEVENT
BEGIN:VEVENT
DTSTART;TZID=America/Los_Angeles:20290530T183000
DTEND;TZID=America/Los_Angeles:20290530T200000
DTSTAMP:20260425T201447
CREATED:20260108T213001Z
LAST-MODIFIED:20260129T194137Z
UID:10002704-1874860200-1874865600@nubf.org
SUMMARY:Wednesday Night Women's Bible Study
DESCRIPTION:Author is Lysa Terkeurst\n \nDates: February 25th/26th – April 1st/2nd\nWednesday: 6:30 PM\nThursday:10:00 AM\nCost: $2.50\nRegistration: February 1st – 15th\nChild Care Available\n 
URL:https://nubf.org/event/wednesday-night-womens-bible-study/2029-05-30/
LOCATION:North Umpqua Bible Fellowship – Library\, 1547 Wild River Dr\, Roseburg\, OR\, 97470\, United States
CATEGORIES:Women's Ministry
ATTACH;FMTTYPE=image/jpeg:https://nubf.org/wp-content/uploads/2026/01/Sunday-Service-Powerpoint.jpg
END:VEVENT
BEGIN:VEVENT
DTSTART;TZID=America/Los_Angeles:20290531T100000
DTEND;TZID=America/Los_Angeles:20290531T113000
DTSTAMP:20260425T201447
CREATED:20260108T212602Z
LAST-MODIFIED:20260129T194214Z
UID:10002443-1874916000-1874921400@nubf.org
SUMMARY:Thursday Morning Women's Bible Study
DESCRIPTION:Author is Lysa Terkeurst\n \nDates: February 25th/26th – April 1st/2nd\nWednesday: 6:30 PM\nThursday:10:00 AM\nCost: $2.50\nRegistration: February 1st – 15th\nChild Care Available
URL:https://nubf.org/event/thursday-morning-womens-bible-study/2029-05-31/
LOCATION:North Umpqua Bible Fellowship – Northroom\, 1547 Wild River Dr\, Roseburg\, OR\, 97470\, United States
CATEGORIES:Women's Ministry
ATTACH;FMTTYPE=image/png:https://nubf.org/wp-content/uploads/2026/01/4.png
END:VEVENT
BEGIN:VEVENT
DTSTART;TZID=America/Los_Angeles:20290606T183000
DTEND;TZID=America/Los_Angeles:20290606T200000
DTSTAMP:20260425T201447
CREATED:20260108T213001Z
LAST-MODIFIED:20260129T194137Z
UID:10002705-1875465000-1875470400@nubf.org
SUMMARY:Wednesday Night Women's Bible Study
DESCRIPTION:Author is Lysa Terkeurst\n \nDates: February 25th/26th – April 1st/2nd\nWednesday: 6:30 PM\nThursday:10:00 AM\nCost: $2.50\nRegistration: February 1st – 15th\nChild Care Available\n 
URL:https://nubf.org/event/wednesday-night-womens-bible-study/2029-06-06/
LOCATION:North Umpqua Bible Fellowship – Library\, 1547 Wild River Dr\, Roseburg\, OR\, 97470\, United States
CATEGORIES:Women's Ministry
ATTACH;FMTTYPE=image/jpeg:https://nubf.org/wp-content/uploads/2026/01/Sunday-Service-Powerpoint.jpg
END:VEVENT
BEGIN:VEVENT
DTSTART;TZID=America/Los_Angeles:20290607T100000
DTEND;TZID=America/Los_Angeles:20290607T113000
DTSTAMP:20260425T201447
CREATED:20260108T212602Z
LAST-MODIFIED:20260129T194214Z
UID:10002444-1875520800-1875526200@nubf.org
SUMMARY:Thursday Morning Women's Bible Study
DESCRIPTION:Author is Lysa Terkeurst\n \nDates: February 25th/26th – April 1st/2nd\nWednesday: 6:30 PM\nThursday:10:00 AM\nCost: $2.50\nRegistration: February 1st – 15th\nChild Care Available
URL:https://nubf.org/event/thursday-morning-womens-bible-study/2029-06-07/
LOCATION:North Umpqua Bible Fellowship – Northroom\, 1547 Wild River Dr\, Roseburg\, OR\, 97470\, United States
CATEGORIES:Women's Ministry
ATTACH;FMTTYPE=image/png:https://nubf.org/wp-content/uploads/2026/01/4.png
END:VEVENT
BEGIN:VEVENT
DTSTART;TZID=America/Los_Angeles:20290613T183000
DTEND;TZID=America/Los_Angeles:20290613T200000
DTSTAMP:20260425T201447
CREATED:20260108T213001Z
LAST-MODIFIED:20260129T194137Z
UID:10002706-1876069800-1876075200@nubf.org
SUMMARY:Wednesday Night Women's Bible Study
DESCRIPTION:Author is Lysa Terkeurst\n \nDates: February 25th/26th – April 1st/2nd\nWednesday: 6:30 PM\nThursday:10:00 AM\nCost: $2.50\nRegistration: February 1st – 15th\nChild Care Available\n 
URL:https://nubf.org/event/wednesday-night-womens-bible-study/2029-06-13/
LOCATION:North Umpqua Bible Fellowship – Library\, 1547 Wild River Dr\, Roseburg\, OR\, 97470\, United States
CATEGORIES:Women's Ministry
ATTACH;FMTTYPE=image/jpeg:https://nubf.org/wp-content/uploads/2026/01/Sunday-Service-Powerpoint.jpg
END:VEVENT
BEGIN:VEVENT
DTSTART;TZID=America/Los_Angeles:20290614T100000
DTEND;TZID=America/Los_Angeles:20290614T113000
DTSTAMP:20260425T201447
CREATED:20260108T212602Z
LAST-MODIFIED:20260129T194214Z
UID:10002445-1876125600-1876131000@nubf.org
SUMMARY:Thursday Morning Women's Bible Study
DESCRIPTION:Author is Lysa Terkeurst\n \nDates: February 25th/26th – April 1st/2nd\nWednesday: 6:30 PM\nThursday:10:00 AM\nCost: $2.50\nRegistration: February 1st – 15th\nChild Care Available
URL:https://nubf.org/event/thursday-morning-womens-bible-study/2029-06-14/
LOCATION:North Umpqua Bible Fellowship – Northroom\, 1547 Wild River Dr\, Roseburg\, OR\, 97470\, United States
CATEGORIES:Women's Ministry
ATTACH;FMTTYPE=image/png:https://nubf.org/wp-content/uploads/2026/01/4.png
END:VEVENT
BEGIN:VEVENT
DTSTART;TZID=America/Los_Angeles:20290620T183000
DTEND;TZID=America/Los_Angeles:20290620T200000
DTSTAMP:20260425T201447
CREATED:20260108T213001Z
LAST-MODIFIED:20260129T194137Z
UID:10002707-1876674600-1876680000@nubf.org
SUMMARY:Wednesday Night Women's Bible Study
DESCRIPTION:Author is Lysa Terkeurst\n \nDates: February 25th/26th – April 1st/2nd\nWednesday: 6:30 PM\nThursday:10:00 AM\nCost: $2.50\nRegistration: February 1st – 15th\nChild Care Available\n 
URL:https://nubf.org/event/wednesday-night-womens-bible-study/2029-06-20/
LOCATION:North Umpqua Bible Fellowship – Library\, 1547 Wild River Dr\, Roseburg\, OR\, 97470\, United States
CATEGORIES:Women's Ministry
ATTACH;FMTTYPE=image/jpeg:https://nubf.org/wp-content/uploads/2026/01/Sunday-Service-Powerpoint.jpg
END:VEVENT
BEGIN:VEVENT
DTSTART;TZID=America/Los_Angeles:20290621T100000
DTEND;TZID=America/Los_Angeles:20290621T113000
DTSTAMP:20260425T201447
CREATED:20260108T212602Z
LAST-MODIFIED:20260129T194214Z
UID:10002446-1876730400-1876735800@nubf.org
SUMMARY:Thursday Morning Women's Bible Study
DESCRIPTION:Author is Lysa Terkeurst\n \nDates: February 25th/26th – April 1st/2nd\nWednesday: 6:30 PM\nThursday:10:00 AM\nCost: $2.50\nRegistration: February 1st – 15th\nChild Care Available
URL:https://nubf.org/event/thursday-morning-womens-bible-study/2029-06-21/
LOCATION:North Umpqua Bible Fellowship – Northroom\, 1547 Wild River Dr\, Roseburg\, OR\, 97470\, United States
CATEGORIES:Women's Ministry
ATTACH;FMTTYPE=image/png:https://nubf.org/wp-content/uploads/2026/01/4.png
END:VEVENT
BEGIN:VEVENT
DTSTART;TZID=America/Los_Angeles:20290627T183000
DTEND;TZID=America/Los_Angeles:20290627T200000
DTSTAMP:20260425T201447
CREATED:20260108T213001Z
LAST-MODIFIED:20260129T194137Z
UID:10002708-1877279400-1877284800@nubf.org
SUMMARY:Wednesday Night Women's Bible Study
DESCRIPTION:Author is Lysa Terkeurst\n \nDates: February 25th/26th – April 1st/2nd\nWednesday: 6:30 PM\nThursday:10:00 AM\nCost: $2.50\nRegistration: February 1st – 15th\nChild Care Available\n 
URL:https://nubf.org/event/wednesday-night-womens-bible-study/2029-06-27/
LOCATION:North Umpqua Bible Fellowship – Library\, 1547 Wild River Dr\, Roseburg\, OR\, 97470\, United States
CATEGORIES:Women's Ministry
ATTACH;FMTTYPE=image/jpeg:https://nubf.org/wp-content/uploads/2026/01/Sunday-Service-Powerpoint.jpg
END:VEVENT
BEGIN:VEVENT
DTSTART;TZID=America/Los_Angeles:20290628T100000
DTEND;TZID=America/Los_Angeles:20290628T113000
DTSTAMP:20260425T201447
CREATED:20260108T212602Z
LAST-MODIFIED:20260129T194214Z
UID:10002447-1877335200-1877340600@nubf.org
SUMMARY:Thursday Morning Women's Bible Study
DESCRIPTION:Author is Lysa Terkeurst\n \nDates: February 25th/26th – April 1st/2nd\nWednesday: 6:30 PM\nThursday:10:00 AM\nCost: $2.50\nRegistration: February 1st – 15th\nChild Care Available
URL:https://nubf.org/event/thursday-morning-womens-bible-study/2029-06-28/
LOCATION:North Umpqua Bible Fellowship – Northroom\, 1547 Wild River Dr\, Roseburg\, OR\, 97470\, United States
CATEGORIES:Women's Ministry
ATTACH;FMTTYPE=image/png:https://nubf.org/wp-content/uploads/2026/01/4.png
END:VEVENT
BEGIN:VEVENT
DTSTART;TZID=America/Los_Angeles:20290704T183000
DTEND;TZID=America/Los_Angeles:20290704T200000
DTSTAMP:20260425T201447
CREATED:20260108T213001Z
LAST-MODIFIED:20260129T194137Z
UID:10002709-1877884200-1877889600@nubf.org
SUMMARY:Wednesday Night Women's Bible Study
DESCRIPTION:Author is Lysa Terkeurst\n \nDates: February 25th/26th – April 1st/2nd\nWednesday: 6:30 PM\nThursday:10:00 AM\nCost: $2.50\nRegistration: February 1st – 15th\nChild Care Available\n 
URL:https://nubf.org/event/wednesday-night-womens-bible-study/2029-07-04/
LOCATION:North Umpqua Bible Fellowship – Library\, 1547 Wild River Dr\, Roseburg\, OR\, 97470\, United States
CATEGORIES:Women's Ministry
ATTACH;FMTTYPE=image/jpeg:https://nubf.org/wp-content/uploads/2026/01/Sunday-Service-Powerpoint.jpg
END:VEVENT
BEGIN:VEVENT
DTSTART;TZID=America/Los_Angeles:20290705T100000
DTEND;TZID=America/Los_Angeles:20290705T113000
DTSTAMP:20260425T201447
CREATED:20260108T212602Z
LAST-MODIFIED:20260129T194214Z
UID:10002448-1877940000-1877945400@nubf.org
SUMMARY:Thursday Morning Women's Bible Study
DESCRIPTION:Author is Lysa Terkeurst\n \nDates: February 25th/26th – April 1st/2nd\nWednesday: 6:30 PM\nThursday:10:00 AM\nCost: $2.50\nRegistration: February 1st – 15th\nChild Care Available
URL:https://nubf.org/event/thursday-morning-womens-bible-study/2029-07-05/
LOCATION:North Umpqua Bible Fellowship – Northroom\, 1547 Wild River Dr\, Roseburg\, OR\, 97470\, United States
CATEGORIES:Women's Ministry
ATTACH;FMTTYPE=image/png:https://nubf.org/wp-content/uploads/2026/01/4.png
END:VEVENT
BEGIN:VEVENT
DTSTART;TZID=America/Los_Angeles:20290711T183000
DTEND;TZID=America/Los_Angeles:20290711T200000
DTSTAMP:20260425T201447
CREATED:20260108T213001Z
LAST-MODIFIED:20260129T194137Z
UID:10002710-1878489000-1878494400@nubf.org
SUMMARY:Wednesday Night Women's Bible Study
DESCRIPTION:Author is Lysa Terkeurst\n \nDates: February 25th/26th – April 1st/2nd\nWednesday: 6:30 PM\nThursday:10:00 AM\nCost: $2.50\nRegistration: February 1st – 15th\nChild Care Available\n 
URL:https://nubf.org/event/wednesday-night-womens-bible-study/2029-07-11/
LOCATION:North Umpqua Bible Fellowship – Library\, 1547 Wild River Dr\, Roseburg\, OR\, 97470\, United States
CATEGORIES:Women's Ministry
ATTACH;FMTTYPE=image/jpeg:https://nubf.org/wp-content/uploads/2026/01/Sunday-Service-Powerpoint.jpg
END:VEVENT
BEGIN:VEVENT
DTSTART;TZID=America/Los_Angeles:20290712T100000
DTEND;TZID=America/Los_Angeles:20290712T113000
DTSTAMP:20260425T201447
CREATED:20260108T212602Z
LAST-MODIFIED:20260129T194214Z
UID:10002449-1878544800-1878550200@nubf.org
SUMMARY:Thursday Morning Women's Bible Study
DESCRIPTION:Author is Lysa Terkeurst\n \nDates: February 25th/26th – April 1st/2nd\nWednesday: 6:30 PM\nThursday:10:00 AM\nCost: $2.50\nRegistration: February 1st – 15th\nChild Care Available
URL:https://nubf.org/event/thursday-morning-womens-bible-study/2029-07-12/
LOCATION:North Umpqua Bible Fellowship – Northroom\, 1547 Wild River Dr\, Roseburg\, OR\, 97470\, United States
CATEGORIES:Women's Ministry
ATTACH;FMTTYPE=image/png:https://nubf.org/wp-content/uploads/2026/01/4.png
END:VEVENT
BEGIN:VEVENT
DTSTART;TZID=America/Los_Angeles:20290718T183000
DTEND;TZID=America/Los_Angeles:20290718T200000
DTSTAMP:20260425T201447
CREATED:20260108T213001Z
LAST-MODIFIED:20260129T194137Z
UID:10002711-1879093800-1879099200@nubf.org
SUMMARY:Wednesday Night Women's Bible Study
DESCRIPTION:Author is Lysa Terkeurst\n \nDates: February 25th/26th – April 1st/2nd\nWednesday: 6:30 PM\nThursday:10:00 AM\nCost: $2.50\nRegistration: February 1st – 15th\nChild Care Available\n 
URL:https://nubf.org/event/wednesday-night-womens-bible-study/2029-07-18/
LOCATION:North Umpqua Bible Fellowship – Library\, 1547 Wild River Dr\, Roseburg\, OR\, 97470\, United States
CATEGORIES:Women's Ministry
ATTACH;FMTTYPE=image/jpeg:https://nubf.org/wp-content/uploads/2026/01/Sunday-Service-Powerpoint.jpg
END:VEVENT
BEGIN:VEVENT
DTSTART;TZID=America/Los_Angeles:20290719T100000
DTEND;TZID=America/Los_Angeles:20290719T113000
DTSTAMP:20260425T201447
CREATED:20260108T212602Z
LAST-MODIFIED:20260129T194214Z
UID:10002450-1879149600-1879155000@nubf.org
SUMMARY:Thursday Morning Women's Bible Study
DESCRIPTION:Author is Lysa Terkeurst\n \nDates: February 25th/26th – April 1st/2nd\nWednesday: 6:30 PM\nThursday:10:00 AM\nCost: $2.50\nRegistration: February 1st – 15th\nChild Care Available
URL:https://nubf.org/event/thursday-morning-womens-bible-study/2029-07-19/
LOCATION:North Umpqua Bible Fellowship – Northroom\, 1547 Wild River Dr\, Roseburg\, OR\, 97470\, United States
CATEGORIES:Women's Ministry
ATTACH;FMTTYPE=image/png:https://nubf.org/wp-content/uploads/2026/01/4.png
END:VEVENT
BEGIN:VEVENT
DTSTART;TZID=America/Los_Angeles:20290725T183000
DTEND;TZID=America/Los_Angeles:20290725T200000
DTSTAMP:20260425T201447
CREATED:20260108T213001Z
LAST-MODIFIED:20260129T194137Z
UID:10002712-1879698600-1879704000@nubf.org
SUMMARY:Wednesday Night Women's Bible Study
DESCRIPTION:Author is Lysa Terkeurst\n \nDates: February 25th/26th – April 1st/2nd\nWednesday: 6:30 PM\nThursday:10:00 AM\nCost: $2.50\nRegistration: February 1st – 15th\nChild Care Available\n 
URL:https://nubf.org/event/wednesday-night-womens-bible-study/2029-07-25/
LOCATION:North Umpqua Bible Fellowship – Library\, 1547 Wild River Dr\, Roseburg\, OR\, 97470\, United States
CATEGORIES:Women's Ministry
ATTACH;FMTTYPE=image/jpeg:https://nubf.org/wp-content/uploads/2026/01/Sunday-Service-Powerpoint.jpg
END:VEVENT
BEGIN:VEVENT
DTSTART;TZID=America/Los_Angeles:20290726T100000
DTEND;TZID=America/Los_Angeles:20290726T113000
DTSTAMP:20260425T201447
CREATED:20260108T212602Z
LAST-MODIFIED:20260129T194214Z
UID:10002451-1879754400-1879759800@nubf.org
SUMMARY:Thursday Morning Women's Bible Study
DESCRIPTION:Author is Lysa Terkeurst\n \nDates: February 25th/26th – April 1st/2nd\nWednesday: 6:30 PM\nThursday:10:00 AM\nCost: $2.50\nRegistration: February 1st – 15th\nChild Care Available
URL:https://nubf.org/event/thursday-morning-womens-bible-study/2029-07-26/
LOCATION:North Umpqua Bible Fellowship – Northroom\, 1547 Wild River Dr\, Roseburg\, OR\, 97470\, United States
CATEGORIES:Women's Ministry
ATTACH;FMTTYPE=image/png:https://nubf.org/wp-content/uploads/2026/01/4.png
END:VEVENT
END:VCALENDAR