BEGIN:VCALENDAR
VERSION:2.0
PRODID:-//North Umpqua Bible Fellowship - ECPv6.15.20//NONSGML v1.0//EN
CALSCALE:GREGORIAN
METHOD:PUBLISH
X-WR-CALNAME:North Umpqua Bible Fellowship
X-ORIGINAL-URL:https://nubf.org
X-WR-CALDESC:Events for North Umpqua Bible Fellowship
REFRESH-INTERVAL;VALUE=DURATION:PT1H
X-Robots-Tag:noindex
X-PUBLISHED-TTL:PT1H
BEGIN:VTIMEZONE
TZID:America/Los_Angeles
BEGIN:DAYLIGHT
TZOFFSETFROM:-0800
TZOFFSETTO:-0700
TZNAME:PDT
DTSTART:20260308T100000
END:DAYLIGHT
BEGIN:STANDARD
TZOFFSETFROM:-0700
TZOFFSETTO:-0800
TZNAME:PST
DTSTART:20261101T090000
END:STANDARD
BEGIN:DAYLIGHT
TZOFFSETFROM:-0800
TZOFFSETTO:-0700
TZNAME:PDT
DTSTART:20270314T100000
END:DAYLIGHT
BEGIN:STANDARD
TZOFFSETFROM:-0700
TZOFFSETTO:-0800
TZNAME:PST
DTSTART:20271107T090000
END:STANDARD
BEGIN:DAYLIGHT
TZOFFSETFROM:-0800
TZOFFSETTO:-0700
TZNAME:PDT
DTSTART:20280312T100000
END:DAYLIGHT
BEGIN:STANDARD
TZOFFSETFROM:-0700
TZOFFSETTO:-0800
TZNAME:PST
DTSTART:20281105T090000
END:STANDARD
BEGIN:DAYLIGHT
TZOFFSETFROM:-0800
TZOFFSETTO:-0700
TZNAME:PDT
DTSTART:20290311T100000
END:DAYLIGHT
BEGIN:STANDARD
TZOFFSETFROM:-0700
TZOFFSETTO:-0800
TZNAME:PST
DTSTART:20291104T090000
END:STANDARD
END:VTIMEZONE
BEGIN:VEVENT
DTSTART;TZID=America/Los_Angeles:20271215T183000
DTEND;TZID=America/Los_Angeles:20271215T200000
DTSTAMP:20260425T093016
CREATED:20260108T213001Z
LAST-MODIFIED:20260129T194137Z
UID:10002628-1828895400-1828900800@nubf.org
SUMMARY:Wednesday Night Women's Bible Study
DESCRIPTION:Author is Lysa Terkeurst\n \nDates: February 25th/26th – April 1st/2nd\nWednesday: 6:30 PM\nThursday:10:00 AM\nCost: $2.50\nRegistration: February 1st – 15th\nChild Care Available\n 
URL:https://nubf.org/event/wednesday-night-womens-bible-study/2027-12-15/
LOCATION:North Umpqua Bible Fellowship – Library\, 1547 Wild River Dr\, Roseburg\, OR\, 97470\, United States
CATEGORIES:Women's Ministry
ATTACH;FMTTYPE=image/jpeg:https://nubf.org/wp-content/uploads/2026/01/Sunday-Service-Powerpoint.jpg
END:VEVENT
BEGIN:VEVENT
DTSTART;TZID=America/Los_Angeles:20271216T100000
DTEND;TZID=America/Los_Angeles:20271216T113000
DTSTAMP:20260425T093016
CREATED:20260108T212602Z
LAST-MODIFIED:20260129T194214Z
UID:10002367-1828951200-1828956600@nubf.org
SUMMARY:Thursday Morning Women's Bible Study
DESCRIPTION:Author is Lysa Terkeurst\n \nDates: February 25th/26th – April 1st/2nd\nWednesday: 6:30 PM\nThursday:10:00 AM\nCost: $2.50\nRegistration: February 1st – 15th\nChild Care Available
URL:https://nubf.org/event/thursday-morning-womens-bible-study/2027-12-16/
LOCATION:North Umpqua Bible Fellowship – Northroom\, 1547 Wild River Dr\, Roseburg\, OR\, 97470\, United States
CATEGORIES:Women's Ministry
ATTACH;FMTTYPE=image/png:https://nubf.org/wp-content/uploads/2026/01/4.png
END:VEVENT
BEGIN:VEVENT
DTSTART;TZID=America/Los_Angeles:20271222T183000
DTEND;TZID=America/Los_Angeles:20271222T200000
DTSTAMP:20260425T093016
CREATED:20260108T213001Z
LAST-MODIFIED:20260129T194137Z
UID:10002629-1829500200-1829505600@nubf.org
SUMMARY:Wednesday Night Women's Bible Study
DESCRIPTION:Author is Lysa Terkeurst\n \nDates: February 25th/26th – April 1st/2nd\nWednesday: 6:30 PM\nThursday:10:00 AM\nCost: $2.50\nRegistration: February 1st – 15th\nChild Care Available\n 
URL:https://nubf.org/event/wednesday-night-womens-bible-study/2027-12-22/
LOCATION:North Umpqua Bible Fellowship – Library\, 1547 Wild River Dr\, Roseburg\, OR\, 97470\, United States
CATEGORIES:Women's Ministry
ATTACH;FMTTYPE=image/jpeg:https://nubf.org/wp-content/uploads/2026/01/Sunday-Service-Powerpoint.jpg
END:VEVENT
BEGIN:VEVENT
DTSTART;TZID=America/Los_Angeles:20271223T100000
DTEND;TZID=America/Los_Angeles:20271223T113000
DTSTAMP:20260425T093016
CREATED:20260108T212602Z
LAST-MODIFIED:20260129T194214Z
UID:10002368-1829556000-1829561400@nubf.org
SUMMARY:Thursday Morning Women's Bible Study
DESCRIPTION:Author is Lysa Terkeurst\n \nDates: February 25th/26th – April 1st/2nd\nWednesday: 6:30 PM\nThursday:10:00 AM\nCost: $2.50\nRegistration: February 1st – 15th\nChild Care Available
URL:https://nubf.org/event/thursday-morning-womens-bible-study/2027-12-23/
LOCATION:North Umpqua Bible Fellowship – Northroom\, 1547 Wild River Dr\, Roseburg\, OR\, 97470\, United States
CATEGORIES:Women's Ministry
ATTACH;FMTTYPE=image/png:https://nubf.org/wp-content/uploads/2026/01/4.png
END:VEVENT
BEGIN:VEVENT
DTSTART;TZID=America/Los_Angeles:20271229T183000
DTEND;TZID=America/Los_Angeles:20271229T200000
DTSTAMP:20260425T093016
CREATED:20260108T213001Z
LAST-MODIFIED:20260129T194137Z
UID:10002630-1830105000-1830110400@nubf.org
SUMMARY:Wednesday Night Women's Bible Study
DESCRIPTION:Author is Lysa Terkeurst\n \nDates: February 25th/26th – April 1st/2nd\nWednesday: 6:30 PM\nThursday:10:00 AM\nCost: $2.50\nRegistration: February 1st – 15th\nChild Care Available\n 
URL:https://nubf.org/event/wednesday-night-womens-bible-study/2027-12-29/
LOCATION:North Umpqua Bible Fellowship – Library\, 1547 Wild River Dr\, Roseburg\, OR\, 97470\, United States
CATEGORIES:Women's Ministry
ATTACH;FMTTYPE=image/jpeg:https://nubf.org/wp-content/uploads/2026/01/Sunday-Service-Powerpoint.jpg
END:VEVENT
BEGIN:VEVENT
DTSTART;TZID=America/Los_Angeles:20271230T100000
DTEND;TZID=America/Los_Angeles:20271230T113000
DTSTAMP:20260425T093016
CREATED:20260108T212602Z
LAST-MODIFIED:20260129T194214Z
UID:10002369-1830160800-1830166200@nubf.org
SUMMARY:Thursday Morning Women's Bible Study
DESCRIPTION:Author is Lysa Terkeurst\n \nDates: February 25th/26th – April 1st/2nd\nWednesday: 6:30 PM\nThursday:10:00 AM\nCost: $2.50\nRegistration: February 1st – 15th\nChild Care Available
URL:https://nubf.org/event/thursday-morning-womens-bible-study/2027-12-30/
LOCATION:North Umpqua Bible Fellowship – Northroom\, 1547 Wild River Dr\, Roseburg\, OR\, 97470\, United States
CATEGORIES:Women's Ministry
ATTACH;FMTTYPE=image/png:https://nubf.org/wp-content/uploads/2026/01/4.png
END:VEVENT
BEGIN:VEVENT
DTSTART;TZID=America/Los_Angeles:20280105T183000
DTEND;TZID=America/Los_Angeles:20280105T200000
DTSTAMP:20260425T093016
CREATED:20260108T213001Z
LAST-MODIFIED:20260129T194137Z
UID:10002631-1830709800-1830715200@nubf.org
SUMMARY:Wednesday Night Women's Bible Study
DESCRIPTION:Author is Lysa Terkeurst\n \nDates: February 25th/26th – April 1st/2nd\nWednesday: 6:30 PM\nThursday:10:00 AM\nCost: $2.50\nRegistration: February 1st – 15th\nChild Care Available\n 
URL:https://nubf.org/event/wednesday-night-womens-bible-study/2028-01-05/
LOCATION:North Umpqua Bible Fellowship – Library\, 1547 Wild River Dr\, Roseburg\, OR\, 97470\, United States
CATEGORIES:Women's Ministry
ATTACH;FMTTYPE=image/jpeg:https://nubf.org/wp-content/uploads/2026/01/Sunday-Service-Powerpoint.jpg
END:VEVENT
BEGIN:VEVENT
DTSTART;TZID=America/Los_Angeles:20280106T100000
DTEND;TZID=America/Los_Angeles:20280106T113000
DTSTAMP:20260425T093016
CREATED:20260108T212602Z
LAST-MODIFIED:20260129T194214Z
UID:10002370-1830765600-1830771000@nubf.org
SUMMARY:Thursday Morning Women's Bible Study
DESCRIPTION:Author is Lysa Terkeurst\n \nDates: February 25th/26th – April 1st/2nd\nWednesday: 6:30 PM\nThursday:10:00 AM\nCost: $2.50\nRegistration: February 1st – 15th\nChild Care Available
URL:https://nubf.org/event/thursday-morning-womens-bible-study/2028-01-06/
LOCATION:North Umpqua Bible Fellowship – Northroom\, 1547 Wild River Dr\, Roseburg\, OR\, 97470\, United States
CATEGORIES:Women's Ministry
ATTACH;FMTTYPE=image/png:https://nubf.org/wp-content/uploads/2026/01/4.png
END:VEVENT
BEGIN:VEVENT
DTSTART;TZID=America/Los_Angeles:20280112T183000
DTEND;TZID=America/Los_Angeles:20280112T200000
DTSTAMP:20260425T093016
CREATED:20260108T213001Z
LAST-MODIFIED:20260129T194137Z
UID:10002632-1831314600-1831320000@nubf.org
SUMMARY:Wednesday Night Women's Bible Study
DESCRIPTION:Author is Lysa Terkeurst\n \nDates: February 25th/26th – April 1st/2nd\nWednesday: 6:30 PM\nThursday:10:00 AM\nCost: $2.50\nRegistration: February 1st – 15th\nChild Care Available\n 
URL:https://nubf.org/event/wednesday-night-womens-bible-study/2028-01-12/
LOCATION:North Umpqua Bible Fellowship – Library\, 1547 Wild River Dr\, Roseburg\, OR\, 97470\, United States
CATEGORIES:Women's Ministry
ATTACH;FMTTYPE=image/jpeg:https://nubf.org/wp-content/uploads/2026/01/Sunday-Service-Powerpoint.jpg
END:VEVENT
BEGIN:VEVENT
DTSTART;TZID=America/Los_Angeles:20280113T100000
DTEND;TZID=America/Los_Angeles:20280113T113000
DTSTAMP:20260425T093016
CREATED:20260108T212602Z
LAST-MODIFIED:20260129T194214Z
UID:10002371-1831370400-1831375800@nubf.org
SUMMARY:Thursday Morning Women's Bible Study
DESCRIPTION:Author is Lysa Terkeurst\n \nDates: February 25th/26th – April 1st/2nd\nWednesday: 6:30 PM\nThursday:10:00 AM\nCost: $2.50\nRegistration: February 1st – 15th\nChild Care Available
URL:https://nubf.org/event/thursday-morning-womens-bible-study/2028-01-13/
LOCATION:North Umpqua Bible Fellowship – Northroom\, 1547 Wild River Dr\, Roseburg\, OR\, 97470\, United States
CATEGORIES:Women's Ministry
ATTACH;FMTTYPE=image/png:https://nubf.org/wp-content/uploads/2026/01/4.png
END:VEVENT
BEGIN:VEVENT
DTSTART;TZID=America/Los_Angeles:20280119T183000
DTEND;TZID=America/Los_Angeles:20280119T200000
DTSTAMP:20260425T093016
CREATED:20260108T213001Z
LAST-MODIFIED:20260129T194137Z
UID:10002633-1831919400-1831924800@nubf.org
SUMMARY:Wednesday Night Women's Bible Study
DESCRIPTION:Author is Lysa Terkeurst\n \nDates: February 25th/26th – April 1st/2nd\nWednesday: 6:30 PM\nThursday:10:00 AM\nCost: $2.50\nRegistration: February 1st – 15th\nChild Care Available\n 
URL:https://nubf.org/event/wednesday-night-womens-bible-study/2028-01-19/
LOCATION:North Umpqua Bible Fellowship – Library\, 1547 Wild River Dr\, Roseburg\, OR\, 97470\, United States
CATEGORIES:Women's Ministry
ATTACH;FMTTYPE=image/jpeg:https://nubf.org/wp-content/uploads/2026/01/Sunday-Service-Powerpoint.jpg
END:VEVENT
BEGIN:VEVENT
DTSTART;TZID=America/Los_Angeles:20280120T100000
DTEND;TZID=America/Los_Angeles:20280120T113000
DTSTAMP:20260425T093016
CREATED:20260108T212602Z
LAST-MODIFIED:20260129T194214Z
UID:10002372-1831975200-1831980600@nubf.org
SUMMARY:Thursday Morning Women's Bible Study
DESCRIPTION:Author is Lysa Terkeurst\n \nDates: February 25th/26th – April 1st/2nd\nWednesday: 6:30 PM\nThursday:10:00 AM\nCost: $2.50\nRegistration: February 1st – 15th\nChild Care Available
URL:https://nubf.org/event/thursday-morning-womens-bible-study/2028-01-20/
LOCATION:North Umpqua Bible Fellowship – Northroom\, 1547 Wild River Dr\, Roseburg\, OR\, 97470\, United States
CATEGORIES:Women's Ministry
ATTACH;FMTTYPE=image/png:https://nubf.org/wp-content/uploads/2026/01/4.png
END:VEVENT
BEGIN:VEVENT
DTSTART;TZID=America/Los_Angeles:20280126T183000
DTEND;TZID=America/Los_Angeles:20280126T200000
DTSTAMP:20260425T093016
CREATED:20260108T213001Z
LAST-MODIFIED:20260129T194137Z
UID:10002634-1832524200-1832529600@nubf.org
SUMMARY:Wednesday Night Women's Bible Study
DESCRIPTION:Author is Lysa Terkeurst\n \nDates: February 25th/26th – April 1st/2nd\nWednesday: 6:30 PM\nThursday:10:00 AM\nCost: $2.50\nRegistration: February 1st – 15th\nChild Care Available\n 
URL:https://nubf.org/event/wednesday-night-womens-bible-study/2028-01-26/
LOCATION:North Umpqua Bible Fellowship – Library\, 1547 Wild River Dr\, Roseburg\, OR\, 97470\, United States
CATEGORIES:Women's Ministry
ATTACH;FMTTYPE=image/jpeg:https://nubf.org/wp-content/uploads/2026/01/Sunday-Service-Powerpoint.jpg
END:VEVENT
BEGIN:VEVENT
DTSTART;TZID=America/Los_Angeles:20280127T100000
DTEND;TZID=America/Los_Angeles:20280127T113000
DTSTAMP:20260425T093016
CREATED:20260108T212602Z
LAST-MODIFIED:20260129T194214Z
UID:10002373-1832580000-1832585400@nubf.org
SUMMARY:Thursday Morning Women's Bible Study
DESCRIPTION:Author is Lysa Terkeurst\n \nDates: February 25th/26th – April 1st/2nd\nWednesday: 6:30 PM\nThursday:10:00 AM\nCost: $2.50\nRegistration: February 1st – 15th\nChild Care Available
URL:https://nubf.org/event/thursday-morning-womens-bible-study/2028-01-27/
LOCATION:North Umpqua Bible Fellowship – Northroom\, 1547 Wild River Dr\, Roseburg\, OR\, 97470\, United States
CATEGORIES:Women's Ministry
ATTACH;FMTTYPE=image/png:https://nubf.org/wp-content/uploads/2026/01/4.png
END:VEVENT
BEGIN:VEVENT
DTSTART;TZID=America/Los_Angeles:20280202T183000
DTEND;TZID=America/Los_Angeles:20280202T200000
DTSTAMP:20260425T093016
CREATED:20260108T213001Z
LAST-MODIFIED:20260129T194137Z
UID:10002635-1833129000-1833134400@nubf.org
SUMMARY:Wednesday Night Women's Bible Study
DESCRIPTION:Author is Lysa Terkeurst\n \nDates: February 25th/26th – April 1st/2nd\nWednesday: 6:30 PM\nThursday:10:00 AM\nCost: $2.50\nRegistration: February 1st – 15th\nChild Care Available\n 
URL:https://nubf.org/event/wednesday-night-womens-bible-study/2028-02-02/
LOCATION:North Umpqua Bible Fellowship – Library\, 1547 Wild River Dr\, Roseburg\, OR\, 97470\, United States
CATEGORIES:Women's Ministry
ATTACH;FMTTYPE=image/jpeg:https://nubf.org/wp-content/uploads/2026/01/Sunday-Service-Powerpoint.jpg
END:VEVENT
BEGIN:VEVENT
DTSTART;TZID=America/Los_Angeles:20280203T100000
DTEND;TZID=America/Los_Angeles:20280203T113000
DTSTAMP:20260425T093016
CREATED:20260108T212602Z
LAST-MODIFIED:20260129T194214Z
UID:10002374-1833184800-1833190200@nubf.org
SUMMARY:Thursday Morning Women's Bible Study
DESCRIPTION:Author is Lysa Terkeurst\n \nDates: February 25th/26th – April 1st/2nd\nWednesday: 6:30 PM\nThursday:10:00 AM\nCost: $2.50\nRegistration: February 1st – 15th\nChild Care Available
URL:https://nubf.org/event/thursday-morning-womens-bible-study/2028-02-03/
LOCATION:North Umpqua Bible Fellowship – Northroom\, 1547 Wild River Dr\, Roseburg\, OR\, 97470\, United States
CATEGORIES:Women's Ministry
ATTACH;FMTTYPE=image/png:https://nubf.org/wp-content/uploads/2026/01/4.png
END:VEVENT
BEGIN:VEVENT
DTSTART;TZID=America/Los_Angeles:20280209T183000
DTEND;TZID=America/Los_Angeles:20280209T200000
DTSTAMP:20260425T093016
CREATED:20260108T213001Z
LAST-MODIFIED:20260129T194137Z
UID:10002636-1833733800-1833739200@nubf.org
SUMMARY:Wednesday Night Women's Bible Study
DESCRIPTION:Author is Lysa Terkeurst\n \nDates: February 25th/26th – April 1st/2nd\nWednesday: 6:30 PM\nThursday:10:00 AM\nCost: $2.50\nRegistration: February 1st – 15th\nChild Care Available\n 
URL:https://nubf.org/event/wednesday-night-womens-bible-study/2028-02-09/
LOCATION:North Umpqua Bible Fellowship – Library\, 1547 Wild River Dr\, Roseburg\, OR\, 97470\, United States
CATEGORIES:Women's Ministry
ATTACH;FMTTYPE=image/jpeg:https://nubf.org/wp-content/uploads/2026/01/Sunday-Service-Powerpoint.jpg
END:VEVENT
BEGIN:VEVENT
DTSTART;TZID=America/Los_Angeles:20280210T100000
DTEND;TZID=America/Los_Angeles:20280210T113000
DTSTAMP:20260425T093016
CREATED:20260108T212602Z
LAST-MODIFIED:20260129T194214Z
UID:10002375-1833789600-1833795000@nubf.org
SUMMARY:Thursday Morning Women's Bible Study
DESCRIPTION:Author is Lysa Terkeurst\n \nDates: February 25th/26th – April 1st/2nd\nWednesday: 6:30 PM\nThursday:10:00 AM\nCost: $2.50\nRegistration: February 1st – 15th\nChild Care Available
URL:https://nubf.org/event/thursday-morning-womens-bible-study/2028-02-10/
LOCATION:North Umpqua Bible Fellowship – Northroom\, 1547 Wild River Dr\, Roseburg\, OR\, 97470\, United States
CATEGORIES:Women's Ministry
ATTACH;FMTTYPE=image/png:https://nubf.org/wp-content/uploads/2026/01/4.png
END:VEVENT
BEGIN:VEVENT
DTSTART;TZID=America/Los_Angeles:20280216T183000
DTEND;TZID=America/Los_Angeles:20280216T200000
DTSTAMP:20260425T093016
CREATED:20260108T213001Z
LAST-MODIFIED:20260129T194137Z
UID:10002637-1834338600-1834344000@nubf.org
SUMMARY:Wednesday Night Women's Bible Study
DESCRIPTION:Author is Lysa Terkeurst\n \nDates: February 25th/26th – April 1st/2nd\nWednesday: 6:30 PM\nThursday:10:00 AM\nCost: $2.50\nRegistration: February 1st – 15th\nChild Care Available\n 
URL:https://nubf.org/event/wednesday-night-womens-bible-study/2028-02-16/
LOCATION:North Umpqua Bible Fellowship – Library\, 1547 Wild River Dr\, Roseburg\, OR\, 97470\, United States
CATEGORIES:Women's Ministry
ATTACH;FMTTYPE=image/jpeg:https://nubf.org/wp-content/uploads/2026/01/Sunday-Service-Powerpoint.jpg
END:VEVENT
BEGIN:VEVENT
DTSTART;TZID=America/Los_Angeles:20280217T100000
DTEND;TZID=America/Los_Angeles:20280217T113000
DTSTAMP:20260425T093016
CREATED:20260108T212602Z
LAST-MODIFIED:20260129T194214Z
UID:10002376-1834394400-1834399800@nubf.org
SUMMARY:Thursday Morning Women's Bible Study
DESCRIPTION:Author is Lysa Terkeurst\n \nDates: February 25th/26th – April 1st/2nd\nWednesday: 6:30 PM\nThursday:10:00 AM\nCost: $2.50\nRegistration: February 1st – 15th\nChild Care Available
URL:https://nubf.org/event/thursday-morning-womens-bible-study/2028-02-17/
LOCATION:North Umpqua Bible Fellowship – Northroom\, 1547 Wild River Dr\, Roseburg\, OR\, 97470\, United States
CATEGORIES:Women's Ministry
ATTACH;FMTTYPE=image/png:https://nubf.org/wp-content/uploads/2026/01/4.png
END:VEVENT
BEGIN:VEVENT
DTSTART;TZID=America/Los_Angeles:20280223T183000
DTEND;TZID=America/Los_Angeles:20280223T200000
DTSTAMP:20260425T093016
CREATED:20260108T213001Z
LAST-MODIFIED:20260129T194137Z
UID:10002638-1834943400-1834948800@nubf.org
SUMMARY:Wednesday Night Women's Bible Study
DESCRIPTION:Author is Lysa Terkeurst\n \nDates: February 25th/26th – April 1st/2nd\nWednesday: 6:30 PM\nThursday:10:00 AM\nCost: $2.50\nRegistration: February 1st – 15th\nChild Care Available\n 
URL:https://nubf.org/event/wednesday-night-womens-bible-study/2028-02-23/
LOCATION:North Umpqua Bible Fellowship – Library\, 1547 Wild River Dr\, Roseburg\, OR\, 97470\, United States
CATEGORIES:Women's Ministry
ATTACH;FMTTYPE=image/jpeg:https://nubf.org/wp-content/uploads/2026/01/Sunday-Service-Powerpoint.jpg
END:VEVENT
BEGIN:VEVENT
DTSTART;TZID=America/Los_Angeles:20280224T100000
DTEND;TZID=America/Los_Angeles:20280224T113000
DTSTAMP:20260425T093016
CREATED:20260108T212602Z
LAST-MODIFIED:20260129T194214Z
UID:10002377-1834999200-1835004600@nubf.org
SUMMARY:Thursday Morning Women's Bible Study
DESCRIPTION:Author is Lysa Terkeurst\n \nDates: February 25th/26th – April 1st/2nd\nWednesday: 6:30 PM\nThursday:10:00 AM\nCost: $2.50\nRegistration: February 1st – 15th\nChild Care Available
URL:https://nubf.org/event/thursday-morning-womens-bible-study/2028-02-24/
LOCATION:North Umpqua Bible Fellowship – Northroom\, 1547 Wild River Dr\, Roseburg\, OR\, 97470\, United States
CATEGORIES:Women's Ministry
ATTACH;FMTTYPE=image/png:https://nubf.org/wp-content/uploads/2026/01/4.png
END:VEVENT
BEGIN:VEVENT
DTSTART;TZID=America/Los_Angeles:20280301T183000
DTEND;TZID=America/Los_Angeles:20280301T200000
DTSTAMP:20260425T093016
CREATED:20260108T213001Z
LAST-MODIFIED:20260129T194137Z
UID:10002639-1835548200-1835553600@nubf.org
SUMMARY:Wednesday Night Women's Bible Study
DESCRIPTION:Author is Lysa Terkeurst\n \nDates: February 25th/26th – April 1st/2nd\nWednesday: 6:30 PM\nThursday:10:00 AM\nCost: $2.50\nRegistration: February 1st – 15th\nChild Care Available\n 
URL:https://nubf.org/event/wednesday-night-womens-bible-study/2028-03-01/
LOCATION:North Umpqua Bible Fellowship – Library\, 1547 Wild River Dr\, Roseburg\, OR\, 97470\, United States
CATEGORIES:Women's Ministry
ATTACH;FMTTYPE=image/jpeg:https://nubf.org/wp-content/uploads/2026/01/Sunday-Service-Powerpoint.jpg
END:VEVENT
BEGIN:VEVENT
DTSTART;TZID=America/Los_Angeles:20280302T100000
DTEND;TZID=America/Los_Angeles:20280302T113000
DTSTAMP:20260425T093016
CREATED:20260108T212602Z
LAST-MODIFIED:20260129T194214Z
UID:10002378-1835604000-1835609400@nubf.org
SUMMARY:Thursday Morning Women's Bible Study
DESCRIPTION:Author is Lysa Terkeurst\n \nDates: February 25th/26th – April 1st/2nd\nWednesday: 6:30 PM\nThursday:10:00 AM\nCost: $2.50\nRegistration: February 1st – 15th\nChild Care Available
URL:https://nubf.org/event/thursday-morning-womens-bible-study/2028-03-02/
LOCATION:North Umpqua Bible Fellowship – Northroom\, 1547 Wild River Dr\, Roseburg\, OR\, 97470\, United States
CATEGORIES:Women's Ministry
ATTACH;FMTTYPE=image/png:https://nubf.org/wp-content/uploads/2026/01/4.png
END:VEVENT
BEGIN:VEVENT
DTSTART;TZID=America/Los_Angeles:20280308T183000
DTEND;TZID=America/Los_Angeles:20280308T200000
DTSTAMP:20260425T093016
CREATED:20260108T213001Z
LAST-MODIFIED:20260129T194137Z
UID:10002640-1836153000-1836158400@nubf.org
SUMMARY:Wednesday Night Women's Bible Study
DESCRIPTION:Author is Lysa Terkeurst\n \nDates: February 25th/26th – April 1st/2nd\nWednesday: 6:30 PM\nThursday:10:00 AM\nCost: $2.50\nRegistration: February 1st – 15th\nChild Care Available\n 
URL:https://nubf.org/event/wednesday-night-womens-bible-study/2028-03-08/
LOCATION:North Umpqua Bible Fellowship – Library\, 1547 Wild River Dr\, Roseburg\, OR\, 97470\, United States
CATEGORIES:Women's Ministry
ATTACH;FMTTYPE=image/jpeg:https://nubf.org/wp-content/uploads/2026/01/Sunday-Service-Powerpoint.jpg
END:VEVENT
BEGIN:VEVENT
DTSTART;TZID=America/Los_Angeles:20280309T100000
DTEND;TZID=America/Los_Angeles:20280309T113000
DTSTAMP:20260425T093016
CREATED:20260108T212602Z
LAST-MODIFIED:20260129T194214Z
UID:10002379-1836208800-1836214200@nubf.org
SUMMARY:Thursday Morning Women's Bible Study
DESCRIPTION:Author is Lysa Terkeurst\n \nDates: February 25th/26th – April 1st/2nd\nWednesday: 6:30 PM\nThursday:10:00 AM\nCost: $2.50\nRegistration: February 1st – 15th\nChild Care Available
URL:https://nubf.org/event/thursday-morning-womens-bible-study/2028-03-09/
LOCATION:North Umpqua Bible Fellowship – Northroom\, 1547 Wild River Dr\, Roseburg\, OR\, 97470\, United States
CATEGORIES:Women's Ministry
ATTACH;FMTTYPE=image/png:https://nubf.org/wp-content/uploads/2026/01/4.png
END:VEVENT
BEGIN:VEVENT
DTSTART;TZID=America/Los_Angeles:20280315T183000
DTEND;TZID=America/Los_Angeles:20280315T200000
DTSTAMP:20260425T093016
CREATED:20260108T213001Z
LAST-MODIFIED:20260129T194137Z
UID:10002641-1836757800-1836763200@nubf.org
SUMMARY:Wednesday Night Women's Bible Study
DESCRIPTION:Author is Lysa Terkeurst\n \nDates: February 25th/26th – April 1st/2nd\nWednesday: 6:30 PM\nThursday:10:00 AM\nCost: $2.50\nRegistration: February 1st – 15th\nChild Care Available\n 
URL:https://nubf.org/event/wednesday-night-womens-bible-study/2028-03-15/
LOCATION:North Umpqua Bible Fellowship – Library\, 1547 Wild River Dr\, Roseburg\, OR\, 97470\, United States
CATEGORIES:Women's Ministry
ATTACH;FMTTYPE=image/jpeg:https://nubf.org/wp-content/uploads/2026/01/Sunday-Service-Powerpoint.jpg
END:VEVENT
BEGIN:VEVENT
DTSTART;TZID=America/Los_Angeles:20280316T100000
DTEND;TZID=America/Los_Angeles:20280316T113000
DTSTAMP:20260425T093016
CREATED:20260108T212602Z
LAST-MODIFIED:20260129T194214Z
UID:10002380-1836813600-1836819000@nubf.org
SUMMARY:Thursday Morning Women's Bible Study
DESCRIPTION:Author is Lysa Terkeurst\n \nDates: February 25th/26th – April 1st/2nd\nWednesday: 6:30 PM\nThursday:10:00 AM\nCost: $2.50\nRegistration: February 1st – 15th\nChild Care Available
URL:https://nubf.org/event/thursday-morning-womens-bible-study/2028-03-16/
LOCATION:North Umpqua Bible Fellowship – Northroom\, 1547 Wild River Dr\, Roseburg\, OR\, 97470\, United States
CATEGORIES:Women's Ministry
ATTACH;FMTTYPE=image/png:https://nubf.org/wp-content/uploads/2026/01/4.png
END:VEVENT
BEGIN:VEVENT
DTSTART;TZID=America/Los_Angeles:20280322T183000
DTEND;TZID=America/Los_Angeles:20280322T200000
DTSTAMP:20260425T093016
CREATED:20260108T213001Z
LAST-MODIFIED:20260129T194137Z
UID:10002642-1837362600-1837368000@nubf.org
SUMMARY:Wednesday Night Women's Bible Study
DESCRIPTION:Author is Lysa Terkeurst\n \nDates: February 25th/26th – April 1st/2nd\nWednesday: 6:30 PM\nThursday:10:00 AM\nCost: $2.50\nRegistration: February 1st – 15th\nChild Care Available\n 
URL:https://nubf.org/event/wednesday-night-womens-bible-study/2028-03-22/
LOCATION:North Umpqua Bible Fellowship – Library\, 1547 Wild River Dr\, Roseburg\, OR\, 97470\, United States
CATEGORIES:Women's Ministry
ATTACH;FMTTYPE=image/jpeg:https://nubf.org/wp-content/uploads/2026/01/Sunday-Service-Powerpoint.jpg
END:VEVENT
BEGIN:VEVENT
DTSTART;TZID=America/Los_Angeles:20280323T100000
DTEND;TZID=America/Los_Angeles:20280323T113000
DTSTAMP:20260425T093016
CREATED:20260108T212602Z
LAST-MODIFIED:20260129T194214Z
UID:10002381-1837418400-1837423800@nubf.org
SUMMARY:Thursday Morning Women's Bible Study
DESCRIPTION:Author is Lysa Terkeurst\n \nDates: February 25th/26th – April 1st/2nd\nWednesday: 6:30 PM\nThursday:10:00 AM\nCost: $2.50\nRegistration: February 1st – 15th\nChild Care Available
URL:https://nubf.org/event/thursday-morning-womens-bible-study/2028-03-23/
LOCATION:North Umpqua Bible Fellowship – Northroom\, 1547 Wild River Dr\, Roseburg\, OR\, 97470\, United States
CATEGORIES:Women's Ministry
ATTACH;FMTTYPE=image/png:https://nubf.org/wp-content/uploads/2026/01/4.png
END:VEVENT
END:VCALENDAR