BEGIN:VCALENDAR
VERSION:2.0
PRODID:-//North Umpqua Bible Fellowship - ECPv6.15.20//NONSGML v1.0//EN
CALSCALE:GREGORIAN
METHOD:PUBLISH
X-ORIGINAL-URL:https://nubf.org
X-WR-CALDESC:Events for North Umpqua Bible Fellowship
REFRESH-INTERVAL;VALUE=DURATION:PT1H
X-Robots-Tag:noindex
X-PUBLISHED-TTL:PT1H
BEGIN:VTIMEZONE
TZID:America/Los_Angeles
BEGIN:DAYLIGHT
TZOFFSETFROM:-0800
TZOFFSETTO:-0700
TZNAME:PDT
DTSTART:20280312T100000
END:DAYLIGHT
BEGIN:STANDARD
TZOFFSETFROM:-0700
TZOFFSETTO:-0800
TZNAME:PST
DTSTART:20281105T090000
END:STANDARD
BEGIN:DAYLIGHT
TZOFFSETFROM:-0800
TZOFFSETTO:-0700
TZNAME:PDT
DTSTART:20290311T100000
END:DAYLIGHT
BEGIN:STANDARD
TZOFFSETFROM:-0700
TZOFFSETTO:-0800
TZNAME:PST
DTSTART:20291104T090000
END:STANDARD
BEGIN:DAYLIGHT
TZOFFSETFROM:-0800
TZOFFSETTO:-0700
TZNAME:PDT
DTSTART:20300310T100000
END:DAYLIGHT
BEGIN:STANDARD
TZOFFSETFROM:-0700
TZOFFSETTO:-0800
TZNAME:PST
DTSTART:20301103T090000
END:STANDARD
BEGIN:DAYLIGHT
TZOFFSETFROM:-0800
TZOFFSETTO:-0700
TZNAME:PDT
DTSTART:20310309T100000
END:DAYLIGHT
BEGIN:STANDARD
TZOFFSETFROM:-0700
TZOFFSETTO:-0800
TZNAME:PST
DTSTART:20311102T090000
END:STANDARD
END:VTIMEZONE
BEGIN:VEVENT
DTSTART;TZID=America/Los_Angeles:20291021T120000
DTEND;TZID=America/Los_Angeles:20291021T133000
DTSTAMP:20260425T201535
CREATED:20260122T171924Z
LAST-MODIFIED:20260122T174557Z
UID:10003161-1887278400-1887283800@nubf.org
SUMMARY:Senders Meeting
DESCRIPTION:To connect\, coordinate\, and share concerns in regards to NUBF’s mission partners.
URL:https://nubf.org/event/senders-meeting/2029-10-21/
LOCATION:North Umpqua Bible Fellowship\, 1547 Wild River Dr\, Roseburg\, OR\, 97470\, United States
CATEGORIES:For All
ATTACH;FMTTYPE=image/png:https://nubf.org/wp-content/uploads/2026/01/1-1.png
END:VEVENT
BEGIN:VEVENT
DTSTART;TZID=America/Los_Angeles:20291024T100000
DTEND;TZID=America/Los_Angeles:20291024T110000
DTSTAMP:20260425T201535
CREATED:20260113T212543Z
LAST-MODIFIED:20260115T233512Z
UID:10002987-1887530400-1887534000@nubf.org
SUMMARY:Wednesday Morning Prayer
DESCRIPTION:
URL:https://nubf.org/event/wednesday-morning-prayer/2029-10-24/
LOCATION:North Umpqua Bible Fellowship – Northroom\, 1547 Wild River Dr\, Roseburg\, OR\, 97470\, United States
CATEGORIES:For All
ATTACH;FMTTYPE=image/png:https://nubf.org/wp-content/uploads/2020/10/Artboard-1Web.png
END:VEVENT
BEGIN:VEVENT
DTSTART;TZID=America/Los_Angeles:20291028T100000
DTEND;TZID=America/Los_Angeles:20291028T113000
DTSTAMP:20260425T201535
CREATED:20260108T203659Z
LAST-MODIFIED:20260118T161517Z
UID:10001942-1887876000-1887881400@nubf.org
SUMMARY:Sunday Service
DESCRIPTION:Join us for worship\, a message from God’s Word\, and fellowship.
URL:https://nubf.org/event/sunday-service/2029-10-28/
LOCATION:North Umpqua Bible Fellowship\, 1547 Wild River Dr\, Roseburg\, OR\, 97470\, United States
CATEGORIES:For All
ATTACH;FMTTYPE=image/jpeg:https://nubf.org/wp-content/uploads/2025/11/joshua-background.jpg
END:VEVENT
BEGIN:VEVENT
DTSTART;TZID=America/Los_Angeles:20291031T100000
DTEND;TZID=America/Los_Angeles:20291031T110000
DTSTAMP:20260425T201535
CREATED:20260113T212543Z
LAST-MODIFIED:20260115T233512Z
UID:10002988-1888135200-1888138800@nubf.org
SUMMARY:Wednesday Morning Prayer
DESCRIPTION:
URL:https://nubf.org/event/wednesday-morning-prayer/2029-10-31/
LOCATION:North Umpqua Bible Fellowship – Northroom\, 1547 Wild River Dr\, Roseburg\, OR\, 97470\, United States
CATEGORIES:For All
ATTACH;FMTTYPE=image/png:https://nubf.org/wp-content/uploads/2020/10/Artboard-1Web.png
END:VEVENT
BEGIN:VEVENT
DTSTART;TZID=America/Los_Angeles:20291104T100000
DTEND;TZID=America/Los_Angeles:20291104T113000
DTSTAMP:20260425T201535
CREATED:20260108T203659Z
LAST-MODIFIED:20260118T161517Z
UID:10001943-1888480800-1888486200@nubf.org
SUMMARY:Sunday Service
DESCRIPTION:Join us for worship\, a message from God’s Word\, and fellowship.
URL:https://nubf.org/event/sunday-service/2029-11-04/
LOCATION:North Umpqua Bible Fellowship\, 1547 Wild River Dr\, Roseburg\, OR\, 97470\, United States
CATEGORIES:For All
ATTACH;FMTTYPE=image/jpeg:https://nubf.org/wp-content/uploads/2025/11/joshua-background.jpg
END:VEVENT
BEGIN:VEVENT
DTSTART;TZID=America/Los_Angeles:20291107T100000
DTEND;TZID=America/Los_Angeles:20291107T110000
DTSTAMP:20260425T201535
CREATED:20260113T212543Z
LAST-MODIFIED:20260115T233512Z
UID:10002989-1888740000-1888743600@nubf.org
SUMMARY:Wednesday Morning Prayer
DESCRIPTION:
URL:https://nubf.org/event/wednesday-morning-prayer/2029-11-07/
LOCATION:North Umpqua Bible Fellowship – Northroom\, 1547 Wild River Dr\, Roseburg\, OR\, 97470\, United States
CATEGORIES:For All
ATTACH;FMTTYPE=image/png:https://nubf.org/wp-content/uploads/2020/10/Artboard-1Web.png
END:VEVENT
BEGIN:VEVENT
DTSTART;TZID=America/Los_Angeles:20291111T100000
DTEND;TZID=America/Los_Angeles:20291111T113000
DTSTAMP:20260425T201535
CREATED:20260108T203659Z
LAST-MODIFIED:20260118T161517Z
UID:10001944-1889085600-1889091000@nubf.org
SUMMARY:Sunday Service
DESCRIPTION:Join us for worship\, a message from God’s Word\, and fellowship.
URL:https://nubf.org/event/sunday-service/2029-11-11/
LOCATION:North Umpqua Bible Fellowship\, 1547 Wild River Dr\, Roseburg\, OR\, 97470\, United States
CATEGORIES:For All
ATTACH;FMTTYPE=image/jpeg:https://nubf.org/wp-content/uploads/2025/11/joshua-background.jpg
END:VEVENT
BEGIN:VEVENT
DTSTART;TZID=America/Los_Angeles:20291111T120000
DTEND;TZID=America/Los_Angeles:20291111T133000
DTSTAMP:20260425T201535
CREATED:20260122T171758Z
LAST-MODIFIED:20260122T174513Z
UID:10003102-1889092800-1889098200@nubf.org
SUMMARY:Ministry Leaders Meeting
DESCRIPTION:To connect\, coordinate\, and share concerns in regards to NUBF’s ministries.
URL:https://nubf.org/event/ministry-leaders/2029-11-11/
LOCATION:North Umpqua Bible Fellowship – Northroom\, 1547 Wild River Dr\, Roseburg\, OR\, 97470\, United States
CATEGORIES:For All
ATTACH;FMTTYPE=image/png:https://nubf.org/wp-content/uploads/2026/01/2-copy.png
END:VEVENT
BEGIN:VEVENT
DTSTART;TZID=America/Los_Angeles:20291114T100000
DTEND;TZID=America/Los_Angeles:20291114T110000
DTSTAMP:20260425T201535
CREATED:20260113T212543Z
LAST-MODIFIED:20260115T233512Z
UID:10002990-1889344800-1889348400@nubf.org
SUMMARY:Wednesday Morning Prayer
DESCRIPTION:
URL:https://nubf.org/event/wednesday-morning-prayer/2029-11-14/
LOCATION:North Umpqua Bible Fellowship – Northroom\, 1547 Wild River Dr\, Roseburg\, OR\, 97470\, United States
CATEGORIES:For All
ATTACH;FMTTYPE=image/png:https://nubf.org/wp-content/uploads/2020/10/Artboard-1Web.png
END:VEVENT
BEGIN:VEVENT
DTSTART;TZID=America/Los_Angeles:20291118T100000
DTEND;TZID=America/Los_Angeles:20291118T113000
DTSTAMP:20260425T201535
CREATED:20260108T203659Z
LAST-MODIFIED:20260118T161517Z
UID:10001945-1889690400-1889695800@nubf.org
SUMMARY:Sunday Service
DESCRIPTION:Join us for worship\, a message from God’s Word\, and fellowship.
URL:https://nubf.org/event/sunday-service/2029-11-18/
LOCATION:North Umpqua Bible Fellowship\, 1547 Wild River Dr\, Roseburg\, OR\, 97470\, United States
CATEGORIES:For All
ATTACH;FMTTYPE=image/jpeg:https://nubf.org/wp-content/uploads/2025/11/joshua-background.jpg
END:VEVENT
BEGIN:VEVENT
DTSTART;TZID=America/Los_Angeles:20291118T120000
DTEND;TZID=America/Los_Angeles:20291118T133000
DTSTAMP:20260425T201535
CREATED:20260122T171924Z
LAST-MODIFIED:20260122T174557Z
UID:10003162-1889697600-1889703000@nubf.org
SUMMARY:Senders Meeting
DESCRIPTION:To connect\, coordinate\, and share concerns in regards to NUBF’s mission partners.
URL:https://nubf.org/event/senders-meeting/2029-11-18/
LOCATION:North Umpqua Bible Fellowship\, 1547 Wild River Dr\, Roseburg\, OR\, 97470\, United States
CATEGORIES:For All
ATTACH;FMTTYPE=image/png:https://nubf.org/wp-content/uploads/2026/01/1-1.png
END:VEVENT
BEGIN:VEVENT
DTSTART;TZID=America/Los_Angeles:20291121T100000
DTEND;TZID=America/Los_Angeles:20291121T110000
DTSTAMP:20260425T201535
CREATED:20260113T212543Z
LAST-MODIFIED:20260115T233512Z
UID:10002991-1889949600-1889953200@nubf.org
SUMMARY:Wednesday Morning Prayer
DESCRIPTION:
URL:https://nubf.org/event/wednesday-morning-prayer/2029-11-21/
LOCATION:North Umpqua Bible Fellowship – Northroom\, 1547 Wild River Dr\, Roseburg\, OR\, 97470\, United States
CATEGORIES:For All
ATTACH;FMTTYPE=image/png:https://nubf.org/wp-content/uploads/2020/10/Artboard-1Web.png
END:VEVENT
BEGIN:VEVENT
DTSTART;TZID=America/Los_Angeles:20291125T100000
DTEND;TZID=America/Los_Angeles:20291125T113000
DTSTAMP:20260425T201535
CREATED:20260108T203659Z
LAST-MODIFIED:20260118T161517Z
UID:10001946-1890295200-1890300600@nubf.org
SUMMARY:Sunday Service
DESCRIPTION:Join us for worship\, a message from God’s Word\, and fellowship.
URL:https://nubf.org/event/sunday-service/2029-11-25/
LOCATION:North Umpqua Bible Fellowship\, 1547 Wild River Dr\, Roseburg\, OR\, 97470\, United States
CATEGORIES:For All
ATTACH;FMTTYPE=image/jpeg:https://nubf.org/wp-content/uploads/2025/11/joshua-background.jpg
END:VEVENT
BEGIN:VEVENT
DTSTART;TZID=America/Los_Angeles:20291128T100000
DTEND;TZID=America/Los_Angeles:20291128T110000
DTSTAMP:20260425T201535
CREATED:20260113T212543Z
LAST-MODIFIED:20260115T233512Z
UID:10002992-1890554400-1890558000@nubf.org
SUMMARY:Wednesday Morning Prayer
DESCRIPTION:
URL:https://nubf.org/event/wednesday-morning-prayer/2029-11-28/
LOCATION:North Umpqua Bible Fellowship – Northroom\, 1547 Wild River Dr\, Roseburg\, OR\, 97470\, United States
CATEGORIES:For All
ATTACH;FMTTYPE=image/png:https://nubf.org/wp-content/uploads/2020/10/Artboard-1Web.png
END:VEVENT
BEGIN:VEVENT
DTSTART;TZID=America/Los_Angeles:20291202T100000
DTEND;TZID=America/Los_Angeles:20291202T113000
DTSTAMP:20260425T201535
CREATED:20260108T203659Z
LAST-MODIFIED:20260118T161517Z
UID:10001947-1890900000-1890905400@nubf.org
SUMMARY:Sunday Service
DESCRIPTION:Join us for worship\, a message from God’s Word\, and fellowship.
URL:https://nubf.org/event/sunday-service/2029-12-02/
LOCATION:North Umpqua Bible Fellowship\, 1547 Wild River Dr\, Roseburg\, OR\, 97470\, United States
CATEGORIES:For All
ATTACH;FMTTYPE=image/jpeg:https://nubf.org/wp-content/uploads/2025/11/joshua-background.jpg
END:VEVENT
BEGIN:VEVENT
DTSTART;TZID=America/Los_Angeles:20291205T100000
DTEND;TZID=America/Los_Angeles:20291205T110000
DTSTAMP:20260425T201535
CREATED:20260113T212543Z
LAST-MODIFIED:20260115T233512Z
UID:10002993-1891159200-1891162800@nubf.org
SUMMARY:Wednesday Morning Prayer
DESCRIPTION:
URL:https://nubf.org/event/wednesday-morning-prayer/2029-12-05/
LOCATION:North Umpqua Bible Fellowship – Northroom\, 1547 Wild River Dr\, Roseburg\, OR\, 97470\, United States
CATEGORIES:For All
ATTACH;FMTTYPE=image/png:https://nubf.org/wp-content/uploads/2020/10/Artboard-1Web.png
END:VEVENT
BEGIN:VEVENT
DTSTART;TZID=America/Los_Angeles:20291209T100000
DTEND;TZID=America/Los_Angeles:20291209T113000
DTSTAMP:20260425T201535
CREATED:20260108T203659Z
LAST-MODIFIED:20260118T161517Z
UID:10001948-1891504800-1891510200@nubf.org
SUMMARY:Sunday Service
DESCRIPTION:Join us for worship\, a message from God’s Word\, and fellowship.
URL:https://nubf.org/event/sunday-service/2029-12-09/
LOCATION:North Umpqua Bible Fellowship\, 1547 Wild River Dr\, Roseburg\, OR\, 97470\, United States
CATEGORIES:For All
ATTACH;FMTTYPE=image/jpeg:https://nubf.org/wp-content/uploads/2025/11/joshua-background.jpg
END:VEVENT
BEGIN:VEVENT
DTSTART;TZID=America/Los_Angeles:20291209T120000
DTEND;TZID=America/Los_Angeles:20291209T133000
DTSTAMP:20260425T201535
CREATED:20260122T171758Z
LAST-MODIFIED:20260122T174513Z
UID:10003103-1891512000-1891517400@nubf.org
SUMMARY:Ministry Leaders Meeting
DESCRIPTION:To connect\, coordinate\, and share concerns in regards to NUBF’s ministries.
URL:https://nubf.org/event/ministry-leaders/2029-12-09/
LOCATION:North Umpqua Bible Fellowship – Northroom\, 1547 Wild River Dr\, Roseburg\, OR\, 97470\, United States
CATEGORIES:For All
ATTACH;FMTTYPE=image/png:https://nubf.org/wp-content/uploads/2026/01/2-copy.png
END:VEVENT
BEGIN:VEVENT
DTSTART;TZID=America/Los_Angeles:20291212T100000
DTEND;TZID=America/Los_Angeles:20291212T110000
DTSTAMP:20260425T201535
CREATED:20260113T212543Z
LAST-MODIFIED:20260115T233512Z
UID:10002994-1891764000-1891767600@nubf.org
SUMMARY:Wednesday Morning Prayer
DESCRIPTION:
URL:https://nubf.org/event/wednesday-morning-prayer/2029-12-12/
LOCATION:North Umpqua Bible Fellowship – Northroom\, 1547 Wild River Dr\, Roseburg\, OR\, 97470\, United States
CATEGORIES:For All
ATTACH;FMTTYPE=image/png:https://nubf.org/wp-content/uploads/2020/10/Artboard-1Web.png
END:VEVENT
BEGIN:VEVENT
DTSTART;TZID=America/Los_Angeles:20291216T100000
DTEND;TZID=America/Los_Angeles:20291216T113000
DTSTAMP:20260425T201535
CREATED:20260108T203659Z
LAST-MODIFIED:20260118T161517Z
UID:10001949-1892109600-1892115000@nubf.org
SUMMARY:Sunday Service
DESCRIPTION:Join us for worship\, a message from God’s Word\, and fellowship.
URL:https://nubf.org/event/sunday-service/2029-12-16/
LOCATION:North Umpqua Bible Fellowship\, 1547 Wild River Dr\, Roseburg\, OR\, 97470\, United States
CATEGORIES:For All
ATTACH;FMTTYPE=image/jpeg:https://nubf.org/wp-content/uploads/2025/11/joshua-background.jpg
END:VEVENT
BEGIN:VEVENT
DTSTART;TZID=America/Los_Angeles:20291216T120000
DTEND;TZID=America/Los_Angeles:20291216T133000
DTSTAMP:20260425T201535
CREATED:20260122T171924Z
LAST-MODIFIED:20260122T174557Z
UID:10003163-1892116800-1892122200@nubf.org
SUMMARY:Senders Meeting
DESCRIPTION:To connect\, coordinate\, and share concerns in regards to NUBF’s mission partners.
URL:https://nubf.org/event/senders-meeting/2029-12-16/
LOCATION:North Umpqua Bible Fellowship\, 1547 Wild River Dr\, Roseburg\, OR\, 97470\, United States
CATEGORIES:For All
ATTACH;FMTTYPE=image/png:https://nubf.org/wp-content/uploads/2026/01/1-1.png
END:VEVENT
BEGIN:VEVENT
DTSTART;TZID=America/Los_Angeles:20291219T100000
DTEND;TZID=America/Los_Angeles:20291219T110000
DTSTAMP:20260425T201535
CREATED:20260113T212543Z
LAST-MODIFIED:20260115T233512Z
UID:10002995-1892368800-1892372400@nubf.org
SUMMARY:Wednesday Morning Prayer
DESCRIPTION:
URL:https://nubf.org/event/wednesday-morning-prayer/2029-12-19/
LOCATION:North Umpqua Bible Fellowship – Northroom\, 1547 Wild River Dr\, Roseburg\, OR\, 97470\, United States
CATEGORIES:For All
ATTACH;FMTTYPE=image/png:https://nubf.org/wp-content/uploads/2020/10/Artboard-1Web.png
END:VEVENT
BEGIN:VEVENT
DTSTART;TZID=America/Los_Angeles:20291223T100000
DTEND;TZID=America/Los_Angeles:20291223T113000
DTSTAMP:20260425T201535
CREATED:20260108T203659Z
LAST-MODIFIED:20260118T161517Z
UID:10001950-1892714400-1892719800@nubf.org
SUMMARY:Sunday Service
DESCRIPTION:Join us for worship\, a message from God’s Word\, and fellowship.
URL:https://nubf.org/event/sunday-service/2029-12-23/
LOCATION:North Umpqua Bible Fellowship\, 1547 Wild River Dr\, Roseburg\, OR\, 97470\, United States
CATEGORIES:For All
ATTACH;FMTTYPE=image/jpeg:https://nubf.org/wp-content/uploads/2025/11/joshua-background.jpg
END:VEVENT
BEGIN:VEVENT
DTSTART;TZID=America/Los_Angeles:20291226T100000
DTEND;TZID=America/Los_Angeles:20291226T110000
DTSTAMP:20260425T201535
CREATED:20260113T212543Z
LAST-MODIFIED:20260115T233512Z
UID:10002996-1892973600-1892977200@nubf.org
SUMMARY:Wednesday Morning Prayer
DESCRIPTION:
URL:https://nubf.org/event/wednesday-morning-prayer/2029-12-26/
LOCATION:North Umpqua Bible Fellowship – Northroom\, 1547 Wild River Dr\, Roseburg\, OR\, 97470\, United States
CATEGORIES:For All
ATTACH;FMTTYPE=image/png:https://nubf.org/wp-content/uploads/2020/10/Artboard-1Web.png
END:VEVENT
BEGIN:VEVENT
DTSTART;TZID=America/Los_Angeles:20291230T100000
DTEND;TZID=America/Los_Angeles:20291230T113000
DTSTAMP:20260425T201535
CREATED:20260108T203659Z
LAST-MODIFIED:20260118T161517Z
UID:10001951-1893319200-1893324600@nubf.org
SUMMARY:Sunday Service
DESCRIPTION:Join us for worship\, a message from God’s Word\, and fellowship.
URL:https://nubf.org/event/sunday-service/2029-12-30/
LOCATION:North Umpqua Bible Fellowship\, 1547 Wild River Dr\, Roseburg\, OR\, 97470\, United States
CATEGORIES:For All
ATTACH;FMTTYPE=image/jpeg:https://nubf.org/wp-content/uploads/2025/11/joshua-background.jpg
END:VEVENT
BEGIN:VEVENT
DTSTART;TZID=America/Los_Angeles:20300102T100000
DTEND;TZID=America/Los_Angeles:20300102T110000
DTSTAMP:20260425T201535
CREATED:20260113T212543Z
LAST-MODIFIED:20260115T233512Z
UID:10002997-1893578400-1893582000@nubf.org
SUMMARY:Wednesday Morning Prayer
DESCRIPTION:
URL:https://nubf.org/event/wednesday-morning-prayer/2030-01-02/
LOCATION:North Umpqua Bible Fellowship – Northroom\, 1547 Wild River Dr\, Roseburg\, OR\, 97470\, United States
CATEGORIES:For All
ATTACH;FMTTYPE=image/png:https://nubf.org/wp-content/uploads/2020/10/Artboard-1Web.png
END:VEVENT
BEGIN:VEVENT
DTSTART;TZID=America/Los_Angeles:20300106T100000
DTEND;TZID=America/Los_Angeles:20300106T113000
DTSTAMP:20260425T201535
CREATED:20260108T203659Z
LAST-MODIFIED:20260118T161517Z
UID:10001952-1893924000-1893929400@nubf.org
SUMMARY:Sunday Service
DESCRIPTION:Join us for worship\, a message from God’s Word\, and fellowship.
URL:https://nubf.org/event/sunday-service/2030-01-06/
LOCATION:North Umpqua Bible Fellowship\, 1547 Wild River Dr\, Roseburg\, OR\, 97470\, United States
CATEGORIES:For All
ATTACH;FMTTYPE=image/jpeg:https://nubf.org/wp-content/uploads/2025/11/joshua-background.jpg
END:VEVENT
BEGIN:VEVENT
DTSTART;TZID=America/Los_Angeles:20300109T100000
DTEND;TZID=America/Los_Angeles:20300109T110000
DTSTAMP:20260425T201535
CREATED:20260113T212543Z
LAST-MODIFIED:20260115T233512Z
UID:10002998-1894183200-1894186800@nubf.org
SUMMARY:Wednesday Morning Prayer
DESCRIPTION:
URL:https://nubf.org/event/wednesday-morning-prayer/2030-01-09/
LOCATION:North Umpqua Bible Fellowship – Northroom\, 1547 Wild River Dr\, Roseburg\, OR\, 97470\, United States
CATEGORIES:For All
ATTACH;FMTTYPE=image/png:https://nubf.org/wp-content/uploads/2020/10/Artboard-1Web.png
END:VEVENT
BEGIN:VEVENT
DTSTART;TZID=America/Los_Angeles:20300113T100000
DTEND;TZID=America/Los_Angeles:20300113T113000
DTSTAMP:20260425T201535
CREATED:20260108T203659Z
LAST-MODIFIED:20260118T161517Z
UID:10001953-1894528800-1894534200@nubf.org
SUMMARY:Sunday Service
DESCRIPTION:Join us for worship\, a message from God’s Word\, and fellowship.
URL:https://nubf.org/event/sunday-service/2030-01-13/
LOCATION:North Umpqua Bible Fellowship\, 1547 Wild River Dr\, Roseburg\, OR\, 97470\, United States
CATEGORIES:For All
ATTACH;FMTTYPE=image/jpeg:https://nubf.org/wp-content/uploads/2025/11/joshua-background.jpg
END:VEVENT
BEGIN:VEVENT
DTSTART;TZID=America/Los_Angeles:20300113T120000
DTEND;TZID=America/Los_Angeles:20300113T133000
DTSTAMP:20260425T201535
CREATED:20260122T171758Z
LAST-MODIFIED:20260122T174513Z
UID:10003104-1894536000-1894541400@nubf.org
SUMMARY:Ministry Leaders Meeting
DESCRIPTION:To connect\, coordinate\, and share concerns in regards to NUBF’s ministries.
URL:https://nubf.org/event/ministry-leaders/2030-01-13/
LOCATION:North Umpqua Bible Fellowship – Northroom\, 1547 Wild River Dr\, Roseburg\, OR\, 97470\, United States
CATEGORIES:For All
ATTACH;FMTTYPE=image/png:https://nubf.org/wp-content/uploads/2026/01/2-copy.png
END:VEVENT
END:VCALENDAR