BEGIN:VCALENDAR
VERSION:2.0
PRODID:-//North Umpqua Bible Fellowship - ECPv6.15.20//NONSGML v1.0//EN
CALSCALE:GREGORIAN
METHOD:PUBLISH
X-WR-CALNAME:North Umpqua Bible Fellowship
X-ORIGINAL-URL:https://nubf.org
X-WR-CALDESC:Events for North Umpqua Bible Fellowship
REFRESH-INTERVAL;VALUE=DURATION:PT1H
X-Robots-Tag:noindex
X-PUBLISHED-TTL:PT1H
BEGIN:VTIMEZONE
TZID:America/Los_Angeles
BEGIN:DAYLIGHT
TZOFFSETFROM:-0800
TZOFFSETTO:-0700
TZNAME:PDT
DTSTART:20290311T100000
END:DAYLIGHT
BEGIN:STANDARD
TZOFFSETFROM:-0700
TZOFFSETTO:-0800
TZNAME:PST
DTSTART:20291104T090000
END:STANDARD
BEGIN:DAYLIGHT
TZOFFSETFROM:-0800
TZOFFSETTO:-0700
TZNAME:PDT
DTSTART:20300310T100000
END:DAYLIGHT
BEGIN:STANDARD
TZOFFSETFROM:-0700
TZOFFSETTO:-0800
TZNAME:PST
DTSTART:20301103T090000
END:STANDARD
BEGIN:DAYLIGHT
TZOFFSETFROM:-0800
TZOFFSETTO:-0700
TZNAME:PDT
DTSTART:20310309T100000
END:DAYLIGHT
BEGIN:STANDARD
TZOFFSETFROM:-0700
TZOFFSETTO:-0800
TZNAME:PST
DTSTART:20311102T090000
END:STANDARD
END:VTIMEZONE
BEGIN:VEVENT
DTSTART;TZID=America/Los_Angeles:20300313T100000
DTEND;TZID=America/Los_Angeles:20300313T110000
DTSTAMP:20260425T093159
CREATED:20260113T212543Z
LAST-MODIFIED:20260115T233512Z
UID:10003007-1899626400-1899630000@nubf.org
SUMMARY:Wednesday Morning Prayer
DESCRIPTION:
URL:https://nubf.org/event/wednesday-morning-prayer/2030-03-13/
LOCATION:North Umpqua Bible Fellowship – Northroom\, 1547 Wild River Dr\, Roseburg\, OR\, 97470\, United States
CATEGORIES:For All
ATTACH;FMTTYPE=image/png:https://nubf.org/wp-content/uploads/2020/10/Artboard-1Web.png
END:VEVENT
BEGIN:VEVENT
DTSTART;TZID=America/Los_Angeles:20300317T100000
DTEND;TZID=America/Los_Angeles:20300317T113000
DTSTAMP:20260425T093159
CREATED:20260108T203659Z
LAST-MODIFIED:20260118T161517Z
UID:10001962-1899972000-1899977400@nubf.org
SUMMARY:Sunday Service
DESCRIPTION:Join us for worship\, a message from God’s Word\, and fellowship.
URL:https://nubf.org/event/sunday-service/2030-03-17/
LOCATION:North Umpqua Bible Fellowship\, 1547 Wild River Dr\, Roseburg\, OR\, 97470\, United States
CATEGORIES:For All
ATTACH;FMTTYPE=image/jpeg:https://nubf.org/wp-content/uploads/2025/11/joshua-background.jpg
END:VEVENT
BEGIN:VEVENT
DTSTART;TZID=America/Los_Angeles:20300317T120000
DTEND;TZID=America/Los_Angeles:20300317T133000
DTSTAMP:20260425T093159
CREATED:20260122T171924Z
LAST-MODIFIED:20260122T174557Z
UID:10003166-1899979200-1899984600@nubf.org
SUMMARY:Senders Meeting
DESCRIPTION:To connect\, coordinate\, and share concerns in regards to NUBF’s mission partners.
URL:https://nubf.org/event/senders-meeting/2030-03-17/
LOCATION:North Umpqua Bible Fellowship\, 1547 Wild River Dr\, Roseburg\, OR\, 97470\, United States
CATEGORIES:For All
ATTACH;FMTTYPE=image/png:https://nubf.org/wp-content/uploads/2026/01/1-1.png
END:VEVENT
BEGIN:VEVENT
DTSTART;TZID=America/Los_Angeles:20300320T100000
DTEND;TZID=America/Los_Angeles:20300320T110000
DTSTAMP:20260425T093159
CREATED:20260113T212543Z
LAST-MODIFIED:20260115T233512Z
UID:10003008-1900231200-1900234800@nubf.org
SUMMARY:Wednesday Morning Prayer
DESCRIPTION:
URL:https://nubf.org/event/wednesday-morning-prayer/2030-03-20/
LOCATION:North Umpqua Bible Fellowship – Northroom\, 1547 Wild River Dr\, Roseburg\, OR\, 97470\, United States
CATEGORIES:For All
ATTACH;FMTTYPE=image/png:https://nubf.org/wp-content/uploads/2020/10/Artboard-1Web.png
END:VEVENT
BEGIN:VEVENT
DTSTART;TZID=America/Los_Angeles:20300324T100000
DTEND;TZID=America/Los_Angeles:20300324T113000
DTSTAMP:20260425T093159
CREATED:20260108T203659Z
LAST-MODIFIED:20260118T161517Z
UID:10001963-1900576800-1900582200@nubf.org
SUMMARY:Sunday Service
DESCRIPTION:Join us for worship\, a message from God’s Word\, and fellowship.
URL:https://nubf.org/event/sunday-service/2030-03-24/
LOCATION:North Umpqua Bible Fellowship\, 1547 Wild River Dr\, Roseburg\, OR\, 97470\, United States
CATEGORIES:For All
ATTACH;FMTTYPE=image/jpeg:https://nubf.org/wp-content/uploads/2025/11/joshua-background.jpg
END:VEVENT
BEGIN:VEVENT
DTSTART;TZID=America/Los_Angeles:20300327T100000
DTEND;TZID=America/Los_Angeles:20300327T110000
DTSTAMP:20260425T093159
CREATED:20260113T212543Z
LAST-MODIFIED:20260115T233512Z
UID:10003009-1900836000-1900839600@nubf.org
SUMMARY:Wednesday Morning Prayer
DESCRIPTION:
URL:https://nubf.org/event/wednesday-morning-prayer/2030-03-27/
LOCATION:North Umpqua Bible Fellowship – Northroom\, 1547 Wild River Dr\, Roseburg\, OR\, 97470\, United States
CATEGORIES:For All
ATTACH;FMTTYPE=image/png:https://nubf.org/wp-content/uploads/2020/10/Artboard-1Web.png
END:VEVENT
BEGIN:VEVENT
DTSTART;TZID=America/Los_Angeles:20300331T100000
DTEND;TZID=America/Los_Angeles:20300331T113000
DTSTAMP:20260425T093159
CREATED:20260108T203659Z
LAST-MODIFIED:20260118T161517Z
UID:10001964-1901181600-1901187000@nubf.org
SUMMARY:Sunday Service
DESCRIPTION:Join us for worship\, a message from God’s Word\, and fellowship.
URL:https://nubf.org/event/sunday-service/2030-03-31/
LOCATION:North Umpqua Bible Fellowship\, 1547 Wild River Dr\, Roseburg\, OR\, 97470\, United States
CATEGORIES:For All
ATTACH;FMTTYPE=image/jpeg:https://nubf.org/wp-content/uploads/2025/11/joshua-background.jpg
END:VEVENT
BEGIN:VEVENT
DTSTART;TZID=America/Los_Angeles:20300403T100000
DTEND;TZID=America/Los_Angeles:20300403T110000
DTSTAMP:20260425T093159
CREATED:20260113T212543Z
LAST-MODIFIED:20260115T233512Z
UID:10003010-1901440800-1901444400@nubf.org
SUMMARY:Wednesday Morning Prayer
DESCRIPTION:
URL:https://nubf.org/event/wednesday-morning-prayer/2030-04-03/
LOCATION:North Umpqua Bible Fellowship – Northroom\, 1547 Wild River Dr\, Roseburg\, OR\, 97470\, United States
CATEGORIES:For All
ATTACH;FMTTYPE=image/png:https://nubf.org/wp-content/uploads/2020/10/Artboard-1Web.png
END:VEVENT
BEGIN:VEVENT
DTSTART;TZID=America/Los_Angeles:20300407T100000
DTEND;TZID=America/Los_Angeles:20300407T113000
DTSTAMP:20260425T093159
CREATED:20260108T203659Z
LAST-MODIFIED:20260118T161517Z
UID:10001965-1901786400-1901791800@nubf.org
SUMMARY:Sunday Service
DESCRIPTION:Join us for worship\, a message from God’s Word\, and fellowship.
URL:https://nubf.org/event/sunday-service/2030-04-07/
LOCATION:North Umpqua Bible Fellowship\, 1547 Wild River Dr\, Roseburg\, OR\, 97470\, United States
CATEGORIES:For All
ATTACH;FMTTYPE=image/jpeg:https://nubf.org/wp-content/uploads/2025/11/joshua-background.jpg
END:VEVENT
BEGIN:VEVENT
DTSTART;TZID=America/Los_Angeles:20300410T100000
DTEND;TZID=America/Los_Angeles:20300410T110000
DTSTAMP:20260425T093159
CREATED:20260113T212543Z
LAST-MODIFIED:20260115T233512Z
UID:10003011-1902045600-1902049200@nubf.org
SUMMARY:Wednesday Morning Prayer
DESCRIPTION:
URL:https://nubf.org/event/wednesday-morning-prayer/2030-04-10/
LOCATION:North Umpqua Bible Fellowship – Northroom\, 1547 Wild River Dr\, Roseburg\, OR\, 97470\, United States
CATEGORIES:For All
ATTACH;FMTTYPE=image/png:https://nubf.org/wp-content/uploads/2020/10/Artboard-1Web.png
END:VEVENT
BEGIN:VEVENT
DTSTART;TZID=America/Los_Angeles:20300414T100000
DTEND;TZID=America/Los_Angeles:20300414T113000
DTSTAMP:20260425T093159
CREATED:20260108T203659Z
LAST-MODIFIED:20260118T161517Z
UID:10001966-1902391200-1902396600@nubf.org
SUMMARY:Sunday Service
DESCRIPTION:Join us for worship\, a message from God’s Word\, and fellowship.
URL:https://nubf.org/event/sunday-service/2030-04-14/
LOCATION:North Umpqua Bible Fellowship\, 1547 Wild River Dr\, Roseburg\, OR\, 97470\, United States
CATEGORIES:For All
ATTACH;FMTTYPE=image/jpeg:https://nubf.org/wp-content/uploads/2025/11/joshua-background.jpg
END:VEVENT
BEGIN:VEVENT
DTSTART;TZID=America/Los_Angeles:20300414T120000
DTEND;TZID=America/Los_Angeles:20300414T133000
DTSTAMP:20260425T093159
CREATED:20260122T171758Z
LAST-MODIFIED:20260122T174513Z
UID:10003107-1902398400-1902403800@nubf.org
SUMMARY:Ministry Leaders Meeting
DESCRIPTION:To connect\, coordinate\, and share concerns in regards to NUBF’s ministries.
URL:https://nubf.org/event/ministry-leaders/2030-04-14/
LOCATION:North Umpqua Bible Fellowship – Northroom\, 1547 Wild River Dr\, Roseburg\, OR\, 97470\, United States
CATEGORIES:For All
ATTACH;FMTTYPE=image/png:https://nubf.org/wp-content/uploads/2026/01/2-copy.png
END:VEVENT
BEGIN:VEVENT
DTSTART;TZID=America/Los_Angeles:20300417T100000
DTEND;TZID=America/Los_Angeles:20300417T110000
DTSTAMP:20260425T093159
CREATED:20260113T212543Z
LAST-MODIFIED:20260115T233512Z
UID:10003012-1902650400-1902654000@nubf.org
SUMMARY:Wednesday Morning Prayer
DESCRIPTION:
URL:https://nubf.org/event/wednesday-morning-prayer/2030-04-17/
LOCATION:North Umpqua Bible Fellowship – Northroom\, 1547 Wild River Dr\, Roseburg\, OR\, 97470\, United States
CATEGORIES:For All
ATTACH;FMTTYPE=image/png:https://nubf.org/wp-content/uploads/2020/10/Artboard-1Web.png
END:VEVENT
BEGIN:VEVENT
DTSTART;TZID=America/Los_Angeles:20300421T100000
DTEND;TZID=America/Los_Angeles:20300421T113000
DTSTAMP:20260425T093159
CREATED:20260108T203659Z
LAST-MODIFIED:20260118T161517Z
UID:10001967-1902996000-1903001400@nubf.org
SUMMARY:Sunday Service
DESCRIPTION:Join us for worship\, a message from God’s Word\, and fellowship.
URL:https://nubf.org/event/sunday-service/2030-04-21/
LOCATION:North Umpqua Bible Fellowship\, 1547 Wild River Dr\, Roseburg\, OR\, 97470\, United States
CATEGORIES:For All
ATTACH;FMTTYPE=image/jpeg:https://nubf.org/wp-content/uploads/2025/11/joshua-background.jpg
END:VEVENT
BEGIN:VEVENT
DTSTART;TZID=America/Los_Angeles:20300421T120000
DTEND;TZID=America/Los_Angeles:20300421T133000
DTSTAMP:20260425T093159
CREATED:20260122T171924Z
LAST-MODIFIED:20260122T174557Z
UID:10003167-1903003200-1903008600@nubf.org
SUMMARY:Senders Meeting
DESCRIPTION:To connect\, coordinate\, and share concerns in regards to NUBF’s mission partners.
URL:https://nubf.org/event/senders-meeting/2030-04-21/
LOCATION:North Umpqua Bible Fellowship\, 1547 Wild River Dr\, Roseburg\, OR\, 97470\, United States
CATEGORIES:For All
ATTACH;FMTTYPE=image/png:https://nubf.org/wp-content/uploads/2026/01/1-1.png
END:VEVENT
BEGIN:VEVENT
DTSTART;TZID=America/Los_Angeles:20300424T100000
DTEND;TZID=America/Los_Angeles:20300424T110000
DTSTAMP:20260425T093159
CREATED:20260113T212543Z
LAST-MODIFIED:20260115T233512Z
UID:10003013-1903255200-1903258800@nubf.org
SUMMARY:Wednesday Morning Prayer
DESCRIPTION:
URL:https://nubf.org/event/wednesday-morning-prayer/2030-04-24/
LOCATION:North Umpqua Bible Fellowship – Northroom\, 1547 Wild River Dr\, Roseburg\, OR\, 97470\, United States
CATEGORIES:For All
ATTACH;FMTTYPE=image/png:https://nubf.org/wp-content/uploads/2020/10/Artboard-1Web.png
END:VEVENT
BEGIN:VEVENT
DTSTART;TZID=America/Los_Angeles:20300428T100000
DTEND;TZID=America/Los_Angeles:20300428T113000
DTSTAMP:20260425T093159
CREATED:20260108T203659Z
LAST-MODIFIED:20260118T161517Z
UID:10001968-1903600800-1903606200@nubf.org
SUMMARY:Sunday Service
DESCRIPTION:Join us for worship\, a message from God’s Word\, and fellowship.
URL:https://nubf.org/event/sunday-service/2030-04-28/
LOCATION:North Umpqua Bible Fellowship\, 1547 Wild River Dr\, Roseburg\, OR\, 97470\, United States
CATEGORIES:For All
ATTACH;FMTTYPE=image/jpeg:https://nubf.org/wp-content/uploads/2025/11/joshua-background.jpg
END:VEVENT
BEGIN:VEVENT
DTSTART;TZID=America/Los_Angeles:20300501T100000
DTEND;TZID=America/Los_Angeles:20300501T110000
DTSTAMP:20260425T093159
CREATED:20260113T212543Z
LAST-MODIFIED:20260115T233512Z
UID:10003014-1903860000-1903863600@nubf.org
SUMMARY:Wednesday Morning Prayer
DESCRIPTION:
URL:https://nubf.org/event/wednesday-morning-prayer/2030-05-01/
LOCATION:North Umpqua Bible Fellowship – Northroom\, 1547 Wild River Dr\, Roseburg\, OR\, 97470\, United States
CATEGORIES:For All
ATTACH;FMTTYPE=image/png:https://nubf.org/wp-content/uploads/2020/10/Artboard-1Web.png
END:VEVENT
BEGIN:VEVENT
DTSTART;TZID=America/Los_Angeles:20300505T100000
DTEND;TZID=America/Los_Angeles:20300505T113000
DTSTAMP:20260425T093159
CREATED:20260108T203659Z
LAST-MODIFIED:20260118T161517Z
UID:10001969-1904205600-1904211000@nubf.org
SUMMARY:Sunday Service
DESCRIPTION:Join us for worship\, a message from God’s Word\, and fellowship.
URL:https://nubf.org/event/sunday-service/2030-05-05/
LOCATION:North Umpqua Bible Fellowship\, 1547 Wild River Dr\, Roseburg\, OR\, 97470\, United States
CATEGORIES:For All
ATTACH;FMTTYPE=image/jpeg:https://nubf.org/wp-content/uploads/2025/11/joshua-background.jpg
END:VEVENT
BEGIN:VEVENT
DTSTART;TZID=America/Los_Angeles:20300508T100000
DTEND;TZID=America/Los_Angeles:20300508T110000
DTSTAMP:20260425T093159
CREATED:20260113T212543Z
LAST-MODIFIED:20260115T233512Z
UID:10003015-1904464800-1904468400@nubf.org
SUMMARY:Wednesday Morning Prayer
DESCRIPTION:
URL:https://nubf.org/event/wednesday-morning-prayer/2030-05-08/
LOCATION:North Umpqua Bible Fellowship – Northroom\, 1547 Wild River Dr\, Roseburg\, OR\, 97470\, United States
CATEGORIES:For All
ATTACH;FMTTYPE=image/png:https://nubf.org/wp-content/uploads/2020/10/Artboard-1Web.png
END:VEVENT
BEGIN:VEVENT
DTSTART;TZID=America/Los_Angeles:20300512T100000
DTEND;TZID=America/Los_Angeles:20300512T113000
DTSTAMP:20260425T093159
CREATED:20260108T203659Z
LAST-MODIFIED:20260118T161517Z
UID:10001970-1904810400-1904815800@nubf.org
SUMMARY:Sunday Service
DESCRIPTION:Join us for worship\, a message from God’s Word\, and fellowship.
URL:https://nubf.org/event/sunday-service/2030-05-12/
LOCATION:North Umpqua Bible Fellowship\, 1547 Wild River Dr\, Roseburg\, OR\, 97470\, United States
CATEGORIES:For All
ATTACH;FMTTYPE=image/jpeg:https://nubf.org/wp-content/uploads/2025/11/joshua-background.jpg
END:VEVENT
BEGIN:VEVENT
DTSTART;TZID=America/Los_Angeles:20300512T120000
DTEND;TZID=America/Los_Angeles:20300512T133000
DTSTAMP:20260425T093159
CREATED:20260122T171758Z
LAST-MODIFIED:20260122T174513Z
UID:10003108-1904817600-1904823000@nubf.org
SUMMARY:Ministry Leaders Meeting
DESCRIPTION:To connect\, coordinate\, and share concerns in regards to NUBF’s ministries.
URL:https://nubf.org/event/ministry-leaders/2030-05-12/
LOCATION:North Umpqua Bible Fellowship – Northroom\, 1547 Wild River Dr\, Roseburg\, OR\, 97470\, United States
CATEGORIES:For All
ATTACH;FMTTYPE=image/png:https://nubf.org/wp-content/uploads/2026/01/2-copy.png
END:VEVENT
BEGIN:VEVENT
DTSTART;TZID=America/Los_Angeles:20300515T100000
DTEND;TZID=America/Los_Angeles:20300515T110000
DTSTAMP:20260425T093159
CREATED:20260113T212543Z
LAST-MODIFIED:20260115T233512Z
UID:10003016-1905069600-1905073200@nubf.org
SUMMARY:Wednesday Morning Prayer
DESCRIPTION:
URL:https://nubf.org/event/wednesday-morning-prayer/2030-05-15/
LOCATION:North Umpqua Bible Fellowship – Northroom\, 1547 Wild River Dr\, Roseburg\, OR\, 97470\, United States
CATEGORIES:For All
ATTACH;FMTTYPE=image/png:https://nubf.org/wp-content/uploads/2020/10/Artboard-1Web.png
END:VEVENT
BEGIN:VEVENT
DTSTART;TZID=America/Los_Angeles:20300519T100000
DTEND;TZID=America/Los_Angeles:20300519T113000
DTSTAMP:20260425T093159
CREATED:20260108T203659Z
LAST-MODIFIED:20260118T161517Z
UID:10001971-1905415200-1905420600@nubf.org
SUMMARY:Sunday Service
DESCRIPTION:Join us for worship\, a message from God’s Word\, and fellowship.
URL:https://nubf.org/event/sunday-service/2030-05-19/
LOCATION:North Umpqua Bible Fellowship\, 1547 Wild River Dr\, Roseburg\, OR\, 97470\, United States
CATEGORIES:For All
ATTACH;FMTTYPE=image/jpeg:https://nubf.org/wp-content/uploads/2025/11/joshua-background.jpg
END:VEVENT
BEGIN:VEVENT
DTSTART;TZID=America/Los_Angeles:20300519T120000
DTEND;TZID=America/Los_Angeles:20300519T133000
DTSTAMP:20260425T093159
CREATED:20260122T171924Z
LAST-MODIFIED:20260122T174557Z
UID:10003168-1905422400-1905427800@nubf.org
SUMMARY:Senders Meeting
DESCRIPTION:To connect\, coordinate\, and share concerns in regards to NUBF’s mission partners.
URL:https://nubf.org/event/senders-meeting/2030-05-19/
LOCATION:North Umpqua Bible Fellowship\, 1547 Wild River Dr\, Roseburg\, OR\, 97470\, United States
CATEGORIES:For All
ATTACH;FMTTYPE=image/png:https://nubf.org/wp-content/uploads/2026/01/1-1.png
END:VEVENT
BEGIN:VEVENT
DTSTART;TZID=America/Los_Angeles:20300522T100000
DTEND;TZID=America/Los_Angeles:20300522T110000
DTSTAMP:20260425T093159
CREATED:20260113T212543Z
LAST-MODIFIED:20260115T233512Z
UID:10003017-1905674400-1905678000@nubf.org
SUMMARY:Wednesday Morning Prayer
DESCRIPTION:
URL:https://nubf.org/event/wednesday-morning-prayer/2030-05-22/
LOCATION:North Umpqua Bible Fellowship – Northroom\, 1547 Wild River Dr\, Roseburg\, OR\, 97470\, United States
CATEGORIES:For All
ATTACH;FMTTYPE=image/png:https://nubf.org/wp-content/uploads/2020/10/Artboard-1Web.png
END:VEVENT
BEGIN:VEVENT
DTSTART;TZID=America/Los_Angeles:20300526T100000
DTEND;TZID=America/Los_Angeles:20300526T113000
DTSTAMP:20260425T093159
CREATED:20260108T203659Z
LAST-MODIFIED:20260118T161517Z
UID:10001972-1906020000-1906025400@nubf.org
SUMMARY:Sunday Service
DESCRIPTION:Join us for worship\, a message from God’s Word\, and fellowship.
URL:https://nubf.org/event/sunday-service/2030-05-26/
LOCATION:North Umpqua Bible Fellowship\, 1547 Wild River Dr\, Roseburg\, OR\, 97470\, United States
CATEGORIES:For All
ATTACH;FMTTYPE=image/jpeg:https://nubf.org/wp-content/uploads/2025/11/joshua-background.jpg
END:VEVENT
BEGIN:VEVENT
DTSTART;TZID=America/Los_Angeles:20300529T100000
DTEND;TZID=America/Los_Angeles:20300529T110000
DTSTAMP:20260425T093159
CREATED:20260113T212543Z
LAST-MODIFIED:20260115T233512Z
UID:10003018-1906279200-1906282800@nubf.org
SUMMARY:Wednesday Morning Prayer
DESCRIPTION:
URL:https://nubf.org/event/wednesday-morning-prayer/2030-05-29/
LOCATION:North Umpqua Bible Fellowship – Northroom\, 1547 Wild River Dr\, Roseburg\, OR\, 97470\, United States
CATEGORIES:For All
ATTACH;FMTTYPE=image/png:https://nubf.org/wp-content/uploads/2020/10/Artboard-1Web.png
END:VEVENT
BEGIN:VEVENT
DTSTART;TZID=America/Los_Angeles:20300602T100000
DTEND;TZID=America/Los_Angeles:20300602T113000
DTSTAMP:20260425T093159
CREATED:20260108T203659Z
LAST-MODIFIED:20260118T161517Z
UID:10001973-1906624800-1906630200@nubf.org
SUMMARY:Sunday Service
DESCRIPTION:Join us for worship\, a message from God’s Word\, and fellowship.
URL:https://nubf.org/event/sunday-service/2030-06-02/
LOCATION:North Umpqua Bible Fellowship\, 1547 Wild River Dr\, Roseburg\, OR\, 97470\, United States
CATEGORIES:For All
ATTACH;FMTTYPE=image/jpeg:https://nubf.org/wp-content/uploads/2025/11/joshua-background.jpg
END:VEVENT
BEGIN:VEVENT
DTSTART;TZID=America/Los_Angeles:20300605T100000
DTEND;TZID=America/Los_Angeles:20300605T110000
DTSTAMP:20260425T093159
CREATED:20260113T212543Z
LAST-MODIFIED:20260115T233512Z
UID:10003019-1906884000-1906887600@nubf.org
SUMMARY:Wednesday Morning Prayer
DESCRIPTION:
URL:https://nubf.org/event/wednesday-morning-prayer/2030-06-05/
LOCATION:North Umpqua Bible Fellowship – Northroom\, 1547 Wild River Dr\, Roseburg\, OR\, 97470\, United States
CATEGORIES:For All
ATTACH;FMTTYPE=image/png:https://nubf.org/wp-content/uploads/2020/10/Artboard-1Web.png
END:VEVENT
END:VCALENDAR