BEGIN:VCALENDAR
VERSION:2.0
PRODID:-//North Umpqua Bible Fellowship - ECPv6.15.20//NONSGML v1.0//EN
CALSCALE:GREGORIAN
METHOD:PUBLISH
X-WR-CALNAME:North Umpqua Bible Fellowship
X-ORIGINAL-URL:https://nubf.org
X-WR-CALDESC:Events for North Umpqua Bible Fellowship
REFRESH-INTERVAL;VALUE=DURATION:PT1H
X-Robots-Tag:noindex
X-PUBLISHED-TTL:PT1H
BEGIN:VTIMEZONE
TZID:America/Los_Angeles
BEGIN:DAYLIGHT
TZOFFSETFROM:-0800
TZOFFSETTO:-0700
TZNAME:PDT
DTSTART:20250309T100000
END:DAYLIGHT
BEGIN:STANDARD
TZOFFSETFROM:-0700
TZOFFSETTO:-0800
TZNAME:PST
DTSTART:20251102T090000
END:STANDARD
BEGIN:DAYLIGHT
TZOFFSETFROM:-0800
TZOFFSETTO:-0700
TZNAME:PDT
DTSTART:20260308T100000
END:DAYLIGHT
BEGIN:STANDARD
TZOFFSETFROM:-0700
TZOFFSETTO:-0800
TZNAME:PST
DTSTART:20261101T090000
END:STANDARD
BEGIN:DAYLIGHT
TZOFFSETFROM:-0800
TZOFFSETTO:-0700
TZNAME:PDT
DTSTART:20270314T100000
END:DAYLIGHT
BEGIN:STANDARD
TZOFFSETFROM:-0700
TZOFFSETTO:-0800
TZNAME:PST
DTSTART:20271107T090000
END:STANDARD
END:VTIMEZONE
BEGIN:VEVENT
DTSTART;TZID=America/Los_Angeles:20260621T100000
DTEND;TZID=America/Los_Angeles:20260621T113000
DTSTAMP:20260423T125421
CREATED:20260108T203659Z
LAST-MODIFIED:20260118T161517Z
UID:10001767-1782036000-1782041400@nubf.org
SUMMARY:Sunday Service
DESCRIPTION:Join us for worship\, a message from God’s Word\, and fellowship.
URL:https://nubf.org/event/sunday-service/2026-06-21/
LOCATION:North Umpqua Bible Fellowship\, 1547 Wild River Dr\, Roseburg\, OR\, 97470\, United States
CATEGORIES:For All
ATTACH;FMTTYPE=image/jpeg:https://nubf.org/wp-content/uploads/2025/11/joshua-background.jpg
END:VEVENT
BEGIN:VEVENT
DTSTART;TZID=America/Los_Angeles:20260621T120000
DTEND;TZID=America/Los_Angeles:20260621T133000
DTSTAMP:20260423T125421
CREATED:20260122T171924Z
LAST-MODIFIED:20260122T174557Z
UID:10003121-1782043200-1782048600@nubf.org
SUMMARY:Senders Meeting
DESCRIPTION:To connect\, coordinate\, and share concerns in regards to NUBF’s mission partners.
URL:https://nubf.org/event/senders-meeting/2026-06-21/
LOCATION:North Umpqua Bible Fellowship\, 1547 Wild River Dr\, Roseburg\, OR\, 97470\, United States
CATEGORIES:For All
ATTACH;FMTTYPE=image/png:https://nubf.org/wp-content/uploads/2026/01/1-1.png
END:VEVENT
BEGIN:VEVENT
DTSTART;TZID=America/Los_Angeles:20260624T100000
DTEND;TZID=America/Los_Angeles:20260624T110000
DTSTAMP:20260423T125421
CREATED:20260113T212543Z
LAST-MODIFIED:20260115T233512Z
UID:10002813-1782295200-1782298800@nubf.org
SUMMARY:Wednesday Morning Prayer
DESCRIPTION:
URL:https://nubf.org/event/wednesday-morning-prayer/2026-06-24/
LOCATION:North Umpqua Bible Fellowship – Northroom\, 1547 Wild River Dr\, Roseburg\, OR\, 97470\, United States
CATEGORIES:For All
ATTACH;FMTTYPE=image/png:https://nubf.org/wp-content/uploads/2020/10/Artboard-1Web.png
END:VEVENT
BEGIN:VEVENT
DTSTART;TZID=America/Los_Angeles:20260628T100000
DTEND;TZID=America/Los_Angeles:20260628T113000
DTSTAMP:20260423T125421
CREATED:20260108T203659Z
LAST-MODIFIED:20260118T161517Z
UID:10001768-1782640800-1782646200@nubf.org
SUMMARY:Sunday Service
DESCRIPTION:Join us for worship\, a message from God’s Word\, and fellowship.
URL:https://nubf.org/event/sunday-service/2026-06-28/
LOCATION:North Umpqua Bible Fellowship\, 1547 Wild River Dr\, Roseburg\, OR\, 97470\, United States
CATEGORIES:For All
ATTACH;FMTTYPE=image/jpeg:https://nubf.org/wp-content/uploads/2025/11/joshua-background.jpg
END:VEVENT
BEGIN:VEVENT
DTSTART;TZID=America/Los_Angeles:20260701T100000
DTEND;TZID=America/Los_Angeles:20260701T110000
DTSTAMP:20260423T125421
CREATED:20260113T212543Z
LAST-MODIFIED:20260115T233512Z
UID:10002814-1782900000-1782903600@nubf.org
SUMMARY:Wednesday Morning Prayer
DESCRIPTION:
URL:https://nubf.org/event/wednesday-morning-prayer/2026-07-01/
LOCATION:North Umpqua Bible Fellowship – Northroom\, 1547 Wild River Dr\, Roseburg\, OR\, 97470\, United States
CATEGORIES:For All
ATTACH;FMTTYPE=image/png:https://nubf.org/wp-content/uploads/2020/10/Artboard-1Web.png
END:VEVENT
BEGIN:VEVENT
DTSTART;TZID=America/Los_Angeles:20260705T100000
DTEND;TZID=America/Los_Angeles:20260705T113000
DTSTAMP:20260423T125421
CREATED:20260108T203659Z
LAST-MODIFIED:20260118T161517Z
UID:10001769-1783245600-1783251000@nubf.org
SUMMARY:Sunday Service
DESCRIPTION:Join us for worship\, a message from God’s Word\, and fellowship.
URL:https://nubf.org/event/sunday-service/2026-07-05/
LOCATION:North Umpqua Bible Fellowship\, 1547 Wild River Dr\, Roseburg\, OR\, 97470\, United States
CATEGORIES:For All
ATTACH;FMTTYPE=image/jpeg:https://nubf.org/wp-content/uploads/2025/11/joshua-background.jpg
END:VEVENT
BEGIN:VEVENT
DTSTART;TZID=America/Los_Angeles:20260708T100000
DTEND;TZID=America/Los_Angeles:20260708T110000
DTSTAMP:20260423T125421
CREATED:20260113T212543Z
LAST-MODIFIED:20260115T233512Z
UID:10002815-1783504800-1783508400@nubf.org
SUMMARY:Wednesday Morning Prayer
DESCRIPTION:
URL:https://nubf.org/event/wednesday-morning-prayer/2026-07-08/
LOCATION:North Umpqua Bible Fellowship – Northroom\, 1547 Wild River Dr\, Roseburg\, OR\, 97470\, United States
CATEGORIES:For All
ATTACH;FMTTYPE=image/png:https://nubf.org/wp-content/uploads/2020/10/Artboard-1Web.png
END:VEVENT
BEGIN:VEVENT
DTSTART;TZID=America/Los_Angeles:20260712T100000
DTEND;TZID=America/Los_Angeles:20260712T113000
DTSTAMP:20260423T125421
CREATED:20260108T203659Z
LAST-MODIFIED:20260118T161517Z
UID:10001770-1783850400-1783855800@nubf.org
SUMMARY:Sunday Service
DESCRIPTION:Join us for worship\, a message from God’s Word\, and fellowship.
URL:https://nubf.org/event/sunday-service/2026-07-12/
LOCATION:North Umpqua Bible Fellowship\, 1547 Wild River Dr\, Roseburg\, OR\, 97470\, United States
CATEGORIES:For All
ATTACH;FMTTYPE=image/jpeg:https://nubf.org/wp-content/uploads/2025/11/joshua-background.jpg
END:VEVENT
BEGIN:VEVENT
DTSTART;TZID=America/Los_Angeles:20260712T120000
DTEND;TZID=America/Los_Angeles:20260712T133000
DTSTAMP:20260423T125421
CREATED:20260122T171758Z
LAST-MODIFIED:20260122T174513Z
UID:10003062-1783857600-1783863000@nubf.org
SUMMARY:Ministry Leaders Meeting
DESCRIPTION:To connect\, coordinate\, and share concerns in regards to NUBF’s ministries.
URL:https://nubf.org/event/ministry-leaders/2026-07-12/
LOCATION:North Umpqua Bible Fellowship – Northroom\, 1547 Wild River Dr\, Roseburg\, OR\, 97470\, United States
CATEGORIES:For All
ATTACH;FMTTYPE=image/png:https://nubf.org/wp-content/uploads/2026/01/2-copy.png
END:VEVENT
BEGIN:VEVENT
DTSTART;TZID=America/Los_Angeles:20260712T120000
DTEND;TZID=America/Los_Angeles:20260712T143000
DTSTAMP:20260423T125421
CREATED:20260421T151959Z
LAST-MODIFIED:20260421T152506Z
UID:10005328-1783857600-1783866600@nubf.org
SUMMARY:Family Picnic
DESCRIPTION:Family Picnic and baptisms. Join us for food\, fun\, and fellowship. \nJuly 12th\, following church
URL:https://nubf.org/event/family-picnic/
LOCATION:North Umpqua Bible Fellowship\, 1547 Wild River Dr\, Roseburg\, OR\, 97470\, United States
CATEGORIES:For All
ATTACH;FMTTYPE=image/jpeg:https://nubf.org/wp-content/uploads/2026/04/Sunday-Service-Powerpoint-3-1.jpg
END:VEVENT
BEGIN:VEVENT
DTSTART;TZID=America/Los_Angeles:20260715T100000
DTEND;TZID=America/Los_Angeles:20260715T110000
DTSTAMP:20260423T125421
CREATED:20260113T212543Z
LAST-MODIFIED:20260115T233512Z
UID:10002816-1784109600-1784113200@nubf.org
SUMMARY:Wednesday Morning Prayer
DESCRIPTION:
URL:https://nubf.org/event/wednesday-morning-prayer/2026-07-15/
LOCATION:North Umpqua Bible Fellowship – Northroom\, 1547 Wild River Dr\, Roseburg\, OR\, 97470\, United States
CATEGORIES:For All
ATTACH;FMTTYPE=image/png:https://nubf.org/wp-content/uploads/2020/10/Artboard-1Web.png
END:VEVENT
BEGIN:VEVENT
DTSTART;TZID=America/Los_Angeles:20260719T100000
DTEND;TZID=America/Los_Angeles:20260719T113000
DTSTAMP:20260423T125421
CREATED:20260108T203659Z
LAST-MODIFIED:20260118T161517Z
UID:10001771-1784455200-1784460600@nubf.org
SUMMARY:Sunday Service
DESCRIPTION:Join us for worship\, a message from God’s Word\, and fellowship.
URL:https://nubf.org/event/sunday-service/2026-07-19/
LOCATION:North Umpqua Bible Fellowship\, 1547 Wild River Dr\, Roseburg\, OR\, 97470\, United States
CATEGORIES:For All
ATTACH;FMTTYPE=image/jpeg:https://nubf.org/wp-content/uploads/2025/11/joshua-background.jpg
END:VEVENT
BEGIN:VEVENT
DTSTART;TZID=America/Los_Angeles:20260719T120000
DTEND;TZID=America/Los_Angeles:20260719T133000
DTSTAMP:20260423T125421
CREATED:20260122T171924Z
LAST-MODIFIED:20260122T174557Z
UID:10003122-1784462400-1784467800@nubf.org
SUMMARY:Senders Meeting
DESCRIPTION:To connect\, coordinate\, and share concerns in regards to NUBF’s mission partners.
URL:https://nubf.org/event/senders-meeting/2026-07-19/
LOCATION:North Umpqua Bible Fellowship\, 1547 Wild River Dr\, Roseburg\, OR\, 97470\, United States
CATEGORIES:For All
ATTACH;FMTTYPE=image/png:https://nubf.org/wp-content/uploads/2026/01/1-1.png
END:VEVENT
BEGIN:VEVENT
DTSTART;TZID=America/Los_Angeles:20260722T100000
DTEND;TZID=America/Los_Angeles:20260722T110000
DTSTAMP:20260423T125421
CREATED:20260113T212543Z
LAST-MODIFIED:20260115T233512Z
UID:10002817-1784714400-1784718000@nubf.org
SUMMARY:Wednesday Morning Prayer
DESCRIPTION:
URL:https://nubf.org/event/wednesday-morning-prayer/2026-07-22/
LOCATION:North Umpqua Bible Fellowship – Northroom\, 1547 Wild River Dr\, Roseburg\, OR\, 97470\, United States
CATEGORIES:For All
ATTACH;FMTTYPE=image/png:https://nubf.org/wp-content/uploads/2020/10/Artboard-1Web.png
END:VEVENT
BEGIN:VEVENT
DTSTART;TZID=America/Los_Angeles:20260726T100000
DTEND;TZID=America/Los_Angeles:20260726T113000
DTSTAMP:20260423T125421
CREATED:20260108T203659Z
LAST-MODIFIED:20260118T161517Z
UID:10001772-1785060000-1785065400@nubf.org
SUMMARY:Sunday Service
DESCRIPTION:Join us for worship\, a message from God’s Word\, and fellowship.
URL:https://nubf.org/event/sunday-service/2026-07-26/
LOCATION:North Umpqua Bible Fellowship\, 1547 Wild River Dr\, Roseburg\, OR\, 97470\, United States
CATEGORIES:For All
ATTACH;FMTTYPE=image/jpeg:https://nubf.org/wp-content/uploads/2025/11/joshua-background.jpg
END:VEVENT
BEGIN:VEVENT
DTSTART;TZID=America/Los_Angeles:20260729T100000
DTEND;TZID=America/Los_Angeles:20260729T110000
DTSTAMP:20260423T125421
CREATED:20260113T212543Z
LAST-MODIFIED:20260115T233512Z
UID:10002818-1785319200-1785322800@nubf.org
SUMMARY:Wednesday Morning Prayer
DESCRIPTION:
URL:https://nubf.org/event/wednesday-morning-prayer/2026-07-29/
LOCATION:North Umpqua Bible Fellowship – Northroom\, 1547 Wild River Dr\, Roseburg\, OR\, 97470\, United States
CATEGORIES:For All
ATTACH;FMTTYPE=image/png:https://nubf.org/wp-content/uploads/2020/10/Artboard-1Web.png
END:VEVENT
BEGIN:VEVENT
DTSTART;TZID=America/Los_Angeles:20260802T100000
DTEND;TZID=America/Los_Angeles:20260802T113000
DTSTAMP:20260423T125421
CREATED:20260108T203659Z
LAST-MODIFIED:20260118T161517Z
UID:10001773-1785664800-1785670200@nubf.org
SUMMARY:Sunday Service
DESCRIPTION:Join us for worship\, a message from God’s Word\, and fellowship.
URL:https://nubf.org/event/sunday-service/2026-08-02/
LOCATION:North Umpqua Bible Fellowship\, 1547 Wild River Dr\, Roseburg\, OR\, 97470\, United States
CATEGORIES:For All
ATTACH;FMTTYPE=image/jpeg:https://nubf.org/wp-content/uploads/2025/11/joshua-background.jpg
END:VEVENT
BEGIN:VEVENT
DTSTART;TZID=America/Los_Angeles:20260805T100000
DTEND;TZID=America/Los_Angeles:20260805T110000
DTSTAMP:20260423T125421
CREATED:20260113T212543Z
LAST-MODIFIED:20260115T233512Z
UID:10002819-1785924000-1785927600@nubf.org
SUMMARY:Wednesday Morning Prayer
DESCRIPTION:
URL:https://nubf.org/event/wednesday-morning-prayer/2026-08-05/
LOCATION:North Umpqua Bible Fellowship – Northroom\, 1547 Wild River Dr\, Roseburg\, OR\, 97470\, United States
CATEGORIES:For All
ATTACH;FMTTYPE=image/png:https://nubf.org/wp-content/uploads/2020/10/Artboard-1Web.png
END:VEVENT
BEGIN:VEVENT
DTSTART;TZID=America/Los_Angeles:20260809T100000
DTEND;TZID=America/Los_Angeles:20260809T113000
DTSTAMP:20260423T125421
CREATED:20260108T203659Z
LAST-MODIFIED:20260118T161517Z
UID:10001774-1786269600-1786275000@nubf.org
SUMMARY:Sunday Service
DESCRIPTION:Join us for worship\, a message from God’s Word\, and fellowship.
URL:https://nubf.org/event/sunday-service/2026-08-09/
LOCATION:North Umpqua Bible Fellowship\, 1547 Wild River Dr\, Roseburg\, OR\, 97470\, United States
CATEGORIES:For All
ATTACH;FMTTYPE=image/jpeg:https://nubf.org/wp-content/uploads/2025/11/joshua-background.jpg
END:VEVENT
BEGIN:VEVENT
DTSTART;TZID=America/Los_Angeles:20260809T120000
DTEND;TZID=America/Los_Angeles:20260809T133000
DTSTAMP:20260423T125421
CREATED:20260122T171758Z
LAST-MODIFIED:20260122T174513Z
UID:10003063-1786276800-1786282200@nubf.org
SUMMARY:Ministry Leaders Meeting
DESCRIPTION:To connect\, coordinate\, and share concerns in regards to NUBF’s ministries.
URL:https://nubf.org/event/ministry-leaders/2026-08-09/
LOCATION:North Umpqua Bible Fellowship – Northroom\, 1547 Wild River Dr\, Roseburg\, OR\, 97470\, United States
CATEGORIES:For All
ATTACH;FMTTYPE=image/png:https://nubf.org/wp-content/uploads/2026/01/2-copy.png
END:VEVENT
BEGIN:VEVENT
DTSTART;TZID=America/Los_Angeles:20260812T100000
DTEND;TZID=America/Los_Angeles:20260812T110000
DTSTAMP:20260423T125421
CREATED:20260113T212543Z
LAST-MODIFIED:20260115T233512Z
UID:10002820-1786528800-1786532400@nubf.org
SUMMARY:Wednesday Morning Prayer
DESCRIPTION:
URL:https://nubf.org/event/wednesday-morning-prayer/2026-08-12/
LOCATION:North Umpqua Bible Fellowship – Northroom\, 1547 Wild River Dr\, Roseburg\, OR\, 97470\, United States
CATEGORIES:For All
ATTACH;FMTTYPE=image/png:https://nubf.org/wp-content/uploads/2020/10/Artboard-1Web.png
END:VEVENT
BEGIN:VEVENT
DTSTART;TZID=America/Los_Angeles:20260816T100000
DTEND;TZID=America/Los_Angeles:20260816T113000
DTSTAMP:20260423T125421
CREATED:20260108T203659Z
LAST-MODIFIED:20260118T161517Z
UID:10001775-1786874400-1786879800@nubf.org
SUMMARY:Sunday Service
DESCRIPTION:Join us for worship\, a message from God’s Word\, and fellowship.
URL:https://nubf.org/event/sunday-service/2026-08-16/
LOCATION:North Umpqua Bible Fellowship\, 1547 Wild River Dr\, Roseburg\, OR\, 97470\, United States
CATEGORIES:For All
ATTACH;FMTTYPE=image/jpeg:https://nubf.org/wp-content/uploads/2025/11/joshua-background.jpg
END:VEVENT
BEGIN:VEVENT
DTSTART;TZID=America/Los_Angeles:20260816T120000
DTEND;TZID=America/Los_Angeles:20260816T133000
DTSTAMP:20260423T125421
CREATED:20260122T171924Z
LAST-MODIFIED:20260122T174557Z
UID:10003123-1786881600-1786887000@nubf.org
SUMMARY:Senders Meeting
DESCRIPTION:To connect\, coordinate\, and share concerns in regards to NUBF’s mission partners.
URL:https://nubf.org/event/senders-meeting/2026-08-16/
LOCATION:North Umpqua Bible Fellowship\, 1547 Wild River Dr\, Roseburg\, OR\, 97470\, United States
CATEGORIES:For All
ATTACH;FMTTYPE=image/png:https://nubf.org/wp-content/uploads/2026/01/1-1.png
END:VEVENT
BEGIN:VEVENT
DTSTART;TZID=America/Los_Angeles:20260819T100000
DTEND;TZID=America/Los_Angeles:20260819T110000
DTSTAMP:20260423T125421
CREATED:20260113T212543Z
LAST-MODIFIED:20260115T233512Z
UID:10002821-1787133600-1787137200@nubf.org
SUMMARY:Wednesday Morning Prayer
DESCRIPTION:
URL:https://nubf.org/event/wednesday-morning-prayer/2026-08-19/
LOCATION:North Umpqua Bible Fellowship – Northroom\, 1547 Wild River Dr\, Roseburg\, OR\, 97470\, United States
CATEGORIES:For All
ATTACH;FMTTYPE=image/png:https://nubf.org/wp-content/uploads/2020/10/Artboard-1Web.png
END:VEVENT
BEGIN:VEVENT
DTSTART;TZID=America/Los_Angeles:20260823T100000
DTEND;TZID=America/Los_Angeles:20260823T113000
DTSTAMP:20260423T125421
CREATED:20260108T203659Z
LAST-MODIFIED:20260118T161517Z
UID:10001776-1787479200-1787484600@nubf.org
SUMMARY:Sunday Service
DESCRIPTION:Join us for worship\, a message from God’s Word\, and fellowship.
URL:https://nubf.org/event/sunday-service/2026-08-23/
LOCATION:North Umpqua Bible Fellowship\, 1547 Wild River Dr\, Roseburg\, OR\, 97470\, United States
CATEGORIES:For All
ATTACH;FMTTYPE=image/jpeg:https://nubf.org/wp-content/uploads/2025/11/joshua-background.jpg
END:VEVENT
BEGIN:VEVENT
DTSTART;TZID=America/Los_Angeles:20260826T100000
DTEND;TZID=America/Los_Angeles:20260826T110000
DTSTAMP:20260423T125421
CREATED:20260113T212543Z
LAST-MODIFIED:20260115T233512Z
UID:10002822-1787738400-1787742000@nubf.org
SUMMARY:Wednesday Morning Prayer
DESCRIPTION:
URL:https://nubf.org/event/wednesday-morning-prayer/2026-08-26/
LOCATION:North Umpqua Bible Fellowship – Northroom\, 1547 Wild River Dr\, Roseburg\, OR\, 97470\, United States
CATEGORIES:For All
ATTACH;FMTTYPE=image/png:https://nubf.org/wp-content/uploads/2020/10/Artboard-1Web.png
END:VEVENT
BEGIN:VEVENT
DTSTART;TZID=America/Los_Angeles:20260830T100000
DTEND;TZID=America/Los_Angeles:20260830T113000
DTSTAMP:20260423T125421
CREATED:20260108T203659Z
LAST-MODIFIED:20260118T161517Z
UID:10001777-1788084000-1788089400@nubf.org
SUMMARY:Sunday Service
DESCRIPTION:Join us for worship\, a message from God’s Word\, and fellowship.
URL:https://nubf.org/event/sunday-service/2026-08-30/
LOCATION:North Umpqua Bible Fellowship\, 1547 Wild River Dr\, Roseburg\, OR\, 97470\, United States
CATEGORIES:For All
ATTACH;FMTTYPE=image/jpeg:https://nubf.org/wp-content/uploads/2025/11/joshua-background.jpg
END:VEVENT
BEGIN:VEVENT
DTSTART;TZID=America/Los_Angeles:20260902T100000
DTEND;TZID=America/Los_Angeles:20260902T110000
DTSTAMP:20260423T125421
CREATED:20260113T212543Z
LAST-MODIFIED:20260115T233512Z
UID:10002823-1788343200-1788346800@nubf.org
SUMMARY:Wednesday Morning Prayer
DESCRIPTION:
URL:https://nubf.org/event/wednesday-morning-prayer/2026-09-02/
LOCATION:North Umpqua Bible Fellowship – Northroom\, 1547 Wild River Dr\, Roseburg\, OR\, 97470\, United States
CATEGORIES:For All
ATTACH;FMTTYPE=image/png:https://nubf.org/wp-content/uploads/2020/10/Artboard-1Web.png
END:VEVENT
BEGIN:VEVENT
DTSTART;TZID=America/Los_Angeles:20260906T100000
DTEND;TZID=America/Los_Angeles:20260906T113000
DTSTAMP:20260423T125421
CREATED:20260108T203659Z
LAST-MODIFIED:20260118T161517Z
UID:10001778-1788688800-1788694200@nubf.org
SUMMARY:Sunday Service
DESCRIPTION:Join us for worship\, a message from God’s Word\, and fellowship.
URL:https://nubf.org/event/sunday-service/2026-09-06/
LOCATION:North Umpqua Bible Fellowship\, 1547 Wild River Dr\, Roseburg\, OR\, 97470\, United States
CATEGORIES:For All
ATTACH;FMTTYPE=image/jpeg:https://nubf.org/wp-content/uploads/2025/11/joshua-background.jpg
END:VEVENT
BEGIN:VEVENT
DTSTART;TZID=America/Los_Angeles:20260909T100000
DTEND;TZID=America/Los_Angeles:20260909T110000
DTSTAMP:20260423T125421
CREATED:20260113T212543Z
LAST-MODIFIED:20260115T233512Z
UID:10002824-1788948000-1788951600@nubf.org
SUMMARY:Wednesday Morning Prayer
DESCRIPTION:
URL:https://nubf.org/event/wednesday-morning-prayer/2026-09-09/
LOCATION:North Umpqua Bible Fellowship – Northroom\, 1547 Wild River Dr\, Roseburg\, OR\, 97470\, United States
CATEGORIES:For All
ATTACH;FMTTYPE=image/png:https://nubf.org/wp-content/uploads/2020/10/Artboard-1Web.png
END:VEVENT
END:VCALENDAR