BEGIN:VCALENDAR
VERSION:2.0
PRODID:-//North Umpqua Bible Fellowship - ECPv6.15.20//NONSGML v1.0//EN
CALSCALE:GREGORIAN
METHOD:PUBLISH
X-ORIGINAL-URL:https://nubf.org
X-WR-CALDESC:Events for North Umpqua Bible Fellowship
REFRESH-INTERVAL;VALUE=DURATION:PT1H
X-Robots-Tag:noindex
X-PUBLISHED-TTL:PT1H
BEGIN:VTIMEZONE
TZID:America/Los_Angeles
BEGIN:DAYLIGHT
TZOFFSETFROM:-0800
TZOFFSETTO:-0700
TZNAME:PDT
DTSTART:20250309T100000
END:DAYLIGHT
BEGIN:STANDARD
TZOFFSETFROM:-0700
TZOFFSETTO:-0800
TZNAME:PST
DTSTART:20251102T090000
END:STANDARD
BEGIN:DAYLIGHT
TZOFFSETFROM:-0800
TZOFFSETTO:-0700
TZNAME:PDT
DTSTART:20260308T100000
END:DAYLIGHT
BEGIN:STANDARD
TZOFFSETFROM:-0700
TZOFFSETTO:-0800
TZNAME:PST
DTSTART:20261101T090000
END:STANDARD
BEGIN:DAYLIGHT
TZOFFSETFROM:-0800
TZOFFSETTO:-0700
TZNAME:PDT
DTSTART:20270314T100000
END:DAYLIGHT
BEGIN:STANDARD
TZOFFSETFROM:-0700
TZOFFSETTO:-0800
TZNAME:PST
DTSTART:20271107T090000
END:STANDARD
END:VTIMEZONE
BEGIN:VEVENT
DTSTART;TZID=America/Los_Angeles:20260622T093000
DTEND;TZID=America/Los_Angeles:20260622T123000
DTSTAMP:20260423T155645
CREATED:20260409T210747Z
LAST-MODIFIED:20260416T165602Z
UID:10004952-1782120600-1782131400@nubf.org
SUMMARY:VBS
DESCRIPTION:A journey back in time to Rome visited by the Apostle Paul during his missionary journeys. Your kids will hear all about the ancient city and learn how the good news was carried to the ends of the earth. \nJune 22nd-26th @ 9:30 am – 12:30 pm \nFriday 26th at 6 pm \nVBS Page \nPlease enable JavaScript in your browser to complete this form. Child's Name: *Child's Age: *Date of Birth: *		\n			Completed: Child's Needs:\n			\n		\n		Allergies\, Medical Conditions\, or Special Needs: *Last School Grade Completed: *Name of Parent(s): *Mailing Address: *Home Phone Number: *Parent/Caregiver Cellphone: *Email: *In Case of Emergency\, Contact: *Emergency Contact Phone: *Relationship to Child *Others authorized to pick up child *Submit
URL:https://nubf.org/event/vbs/2026-06-22/
LOCATION:North Umpqua Bible Fellowship\, 1547 Wild River Dr\, Roseburg\, OR\, 97470\, United States
CATEGORIES:Children's Ministry
ATTACH;FMTTYPE=image/png:https://nubf.org/wp-content/uploads/2026/04/1.png
END:VEVENT
BEGIN:VEVENT
DTSTART;TZID=America/Los_Angeles:20260623T093000
DTEND;TZID=America/Los_Angeles:20260623T123000
DTSTAMP:20260423T155645
CREATED:20260409T210747Z
LAST-MODIFIED:20260416T165602Z
UID:10004953-1782207000-1782217800@nubf.org
SUMMARY:VBS
DESCRIPTION:A journey back in time to Rome visited by the Apostle Paul during his missionary journeys. Your kids will hear all about the ancient city and learn how the good news was carried to the ends of the earth. \nJune 22nd-26th @ 9:30 am – 12:30 pm \nFriday 26th at 6 pm \nVBS Page \nPlease enable JavaScript in your browser to complete this form. Child's Name: *Child's Age: *Date of Birth: *Allergies\, Medical Conditions\, or Special Needs: *Last School Grade Completed: *Name of Parent(s): *Mailing Address: *Home Phone Number: *Parent/Caregiver Cellphone: *		\n			of Mailing Email:\n			\n		\n		Email: *In Case of Emergency\, Contact: *Emergency Contact Phone: *Relationship to Child *Others authorized to pick up child *Submit
URL:https://nubf.org/event/vbs/2026-06-23/
LOCATION:North Umpqua Bible Fellowship\, 1547 Wild River Dr\, Roseburg\, OR\, 97470\, United States
CATEGORIES:Children's Ministry
ATTACH;FMTTYPE=image/png:https://nubf.org/wp-content/uploads/2026/04/1.png
END:VEVENT
BEGIN:VEVENT
DTSTART;TZID=America/Los_Angeles:20260624T093000
DTEND;TZID=America/Los_Angeles:20260624T123000
DTSTAMP:20260423T155645
CREATED:20260409T210747Z
LAST-MODIFIED:20260416T165602Z
UID:10004954-1782293400-1782304200@nubf.org
SUMMARY:VBS
DESCRIPTION:A journey back in time to Rome visited by the Apostle Paul during his missionary journeys. Your kids will hear all about the ancient city and learn how the good news was carried to the ends of the earth. \nJune 22nd-26th @ 9:30 am – 12:30 pm \nFriday 26th at 6 pm \nVBS Page \nPlease enable JavaScript in your browser to complete this form. Child's Name: *Child's Age: *Date of Birth: *Allergies\, Medical Conditions\, or Special Needs: *Last School Grade Completed: *Name of Parent(s): *Mailing Address: *Home Phone Number: *		\n			Needs: Number: child\n			\n		\n		Parent/Caregiver Cellphone: *Email: *In Case of Emergency\, Contact: *Emergency Contact Phone: *Relationship to Child *Others authorized to pick up child *Submit
URL:https://nubf.org/event/vbs/2026-06-24/
LOCATION:North Umpqua Bible Fellowship\, 1547 Wild River Dr\, Roseburg\, OR\, 97470\, United States
CATEGORIES:Children's Ministry
ATTACH;FMTTYPE=image/png:https://nubf.org/wp-content/uploads/2026/04/1.png
END:VEVENT
BEGIN:VEVENT
DTSTART;TZID=America/Los_Angeles:20260625T093000
DTEND;TZID=America/Los_Angeles:20260625T123000
DTSTAMP:20260423T155645
CREATED:20260409T210747Z
LAST-MODIFIED:20260416T165602Z
UID:10004955-1782379800-1782390600@nubf.org
SUMMARY:VBS
DESCRIPTION:A journey back in time to Rome visited by the Apostle Paul during his missionary journeys. Your kids will hear all about the ancient city and learn how the good news was carried to the ends of the earth. \nJune 22nd-26th @ 9:30 am – 12:30 pm \nFriday 26th at 6 pm \nVBS Page \nPlease enable JavaScript in your browser to complete this form. Child's Name: *Child's Age: *Date of Birth: *		\n			 School authorized\n			\n		\n		Allergies\, Medical Conditions\, or Special Needs: *Last School Grade Completed: *Name of Parent(s): *Mailing Address: *Home Phone Number: *Parent/Caregiver Cellphone: *Email: *In Case of Emergency\, Contact: *Emergency Contact Phone: *Relationship to Child *Others authorized to pick up child *Submit
URL:https://nubf.org/event/vbs/2026-06-25/
LOCATION:North Umpqua Bible Fellowship\, 1547 Wild River Dr\, Roseburg\, OR\, 97470\, United States
CATEGORIES:Children's Ministry
ATTACH;FMTTYPE=image/png:https://nubf.org/wp-content/uploads/2026/04/1.png
END:VEVENT
BEGIN:VEVENT
DTSTART;TZID=America/Los_Angeles:20260626T093000
DTEND;TZID=America/Los_Angeles:20260626T123000
DTSTAMP:20260423T155645
CREATED:20260409T210747Z
LAST-MODIFIED:20260416T165602Z
UID:10004956-1782466200-1782477000@nubf.org
SUMMARY:VBS
DESCRIPTION:A journey back in time to Rome visited by the Apostle Paul during his missionary journeys. Your kids will hear all about the ancient city and learn how the good news was carried to the ends of the earth. \nJune 22nd-26th @ 9:30 am – 12:30 pm \nFriday 26th at 6 pm \nVBS Page \nPlease enable JavaScript in your browser to complete this form. Child's Name: *Child's Age: *Date of Birth: *Allergies\, Medical Conditions\, or Special Needs: *Last School Grade Completed: *Name of Parent(s): *Mailing Address: *Home Phone Number: *Parent/Caregiver Cellphone: *Email: *In Case of Emergency\, Contact: *Emergency Contact Phone: *Relationship to Child *		\n			 Date Cellphone:\n			\n		\n		Others authorized to pick up child *Submit
URL:https://nubf.org/event/vbs/2026-06-26/
LOCATION:North Umpqua Bible Fellowship\, 1547 Wild River Dr\, Roseburg\, OR\, 97470\, United States
CATEGORIES:Children's Ministry
ATTACH;FMTTYPE=image/png:https://nubf.org/wp-content/uploads/2026/04/1.png
END:VEVENT
BEGIN:VEVENT
DTSTART;TZID=America/Los_Angeles:20260626T180000
DTEND;TZID=America/Los_Angeles:20260626T190000
DTSTAMP:20260423T155645
CREATED:20260414T175835Z
LAST-MODIFIED:20260414T183019Z
UID:10004957-1782496800-1782500400@nubf.org
SUMMARY:Ice Cream Social & VBS Program
DESCRIPTION:
URL:https://nubf.org/event/ice-cream-social-vbs-program/
LOCATION:North Umpqua Bible Fellowship\, 1547 Wild River Dr\, Roseburg\, OR\, 97470\, United States
CATEGORIES:Children's Ministry
END:VEVENT
END:VCALENDAR