BEGIN:VCALENDAR
VERSION:2.0
PRODID:-//North Umpqua Bible Fellowship - ECPv6.15.20//NONSGML v1.0//EN
CALSCALE:GREGORIAN
METHOD:PUBLISH
X-ORIGINAL-URL:https://nubf.org
X-WR-CALDESC:Events for North Umpqua Bible Fellowship
REFRESH-INTERVAL;VALUE=DURATION:PT1H
X-Robots-Tag:noindex
X-PUBLISHED-TTL:PT1H
BEGIN:VTIMEZONE
TZID:America/Los_Angeles
BEGIN:DAYLIGHT
TZOFFSETFROM:-0800
TZOFFSETTO:-0700
TZNAME:PDT
DTSTART:20250309T100000
END:DAYLIGHT
BEGIN:STANDARD
TZOFFSETFROM:-0700
TZOFFSETTO:-0800
TZNAME:PST
DTSTART:20251102T090000
END:STANDARD
BEGIN:DAYLIGHT
TZOFFSETFROM:-0800
TZOFFSETTO:-0700
TZNAME:PDT
DTSTART:20260308T100000
END:DAYLIGHT
BEGIN:STANDARD
TZOFFSETFROM:-0700
TZOFFSETTO:-0800
TZNAME:PST
DTSTART:20261101T090000
END:STANDARD
BEGIN:DAYLIGHT
TZOFFSETFROM:-0800
TZOFFSETTO:-0700
TZNAME:PDT
DTSTART:20270314T100000
END:DAYLIGHT
BEGIN:STANDARD
TZOFFSETFROM:-0700
TZOFFSETTO:-0800
TZNAME:PST
DTSTART:20271107T090000
END:STANDARD
END:VTIMEZONE
BEGIN:VEVENT
DTSTART;TZID=America/Los_Angeles:20260418T090000
DTEND;TZID=America/Los_Angeles:20260418T170000
DTSTAMP:20260423T125347
CREATED:20260316T182105Z
LAST-MODIFIED:20260316T182105Z
UID:10003184-1776502800-1776531600@nubf.org
SUMMARY:HeartSaver CPR Class
DESCRIPTION:Saturday\, April 18ᵗʰ 9:00am \nGlide Fire Station 18910 N. Umpqua Hwy\, Glide\, OR \nSign up in Foyer. Voluntary $45 Donation. \nCall or text Bill Ruegg 541-784-8595 for more information/questions
URL:https://nubf.org/event/heartsaver-cpr-class/
LOCATION:OR
ATTACH;FMTTYPE=image/jpeg:https://nubf.org/wp-content/uploads/2026/03/Sunday-Service-Powerpoint-2.jpg
END:VEVENT
END:VCALENDAR