BEGIN:VCALENDAR
VERSION:2.0
PRODID:-//North Umpqua Bible Fellowship - ECPv6.15.20//NONSGML v1.0//EN
CALSCALE:GREGORIAN
METHOD:PUBLISH
X-WR-CALNAME:North Umpqua Bible Fellowship
X-ORIGINAL-URL:https://nubf.org
X-WR-CALDESC:Events for North Umpqua Bible Fellowship
REFRESH-INTERVAL;VALUE=DURATION:PT1H
X-Robots-Tag:noindex
X-PUBLISHED-TTL:PT1H
BEGIN:VTIMEZONE
TZID:America/Los_Angeles
BEGIN:DAYLIGHT
TZOFFSETFROM:-0800
TZOFFSETTO:-0700
TZNAME:PDT
DTSTART:20250309T100000
END:DAYLIGHT
BEGIN:STANDARD
TZOFFSETFROM:-0700
TZOFFSETTO:-0800
TZNAME:PST
DTSTART:20251102T090000
END:STANDARD
BEGIN:DAYLIGHT
TZOFFSETFROM:-0800
TZOFFSETTO:-0700
TZNAME:PDT
DTSTART:20260308T100000
END:DAYLIGHT
BEGIN:STANDARD
TZOFFSETFROM:-0700
TZOFFSETTO:-0800
TZNAME:PST
DTSTART:20261101T090000
END:STANDARD
BEGIN:DAYLIGHT
TZOFFSETFROM:-0800
TZOFFSETTO:-0700
TZNAME:PDT
DTSTART:20270314T100000
END:DAYLIGHT
BEGIN:STANDARD
TZOFFSETFROM:-0700
TZOFFSETTO:-0800
TZNAME:PST
DTSTART:20271107T090000
END:STANDARD
END:VTIMEZONE
BEGIN:VEVENT
DTSTART;TZID=America/Los_Angeles:20260405T100000
DTEND;TZID=America/Los_Angeles:20260405T113000
DTSTAMP:20260423T125155
CREATED:20260108T203659Z
LAST-MODIFIED:20260118T161517Z
UID:10001756-1775383200-1775388600@nubf.org
SUMMARY:Sunday Service
DESCRIPTION:Join us for worship\, a message from God’s Word\, and fellowship.
URL:https://nubf.org/event/sunday-service/2026-04-05/
LOCATION:North Umpqua Bible Fellowship\, 1547 Wild River Dr\, Roseburg\, OR\, 97470\, United States
CATEGORIES:For All
ATTACH;FMTTYPE=image/jpeg:https://nubf.org/wp-content/uploads/2025/11/joshua-background.jpg
END:VEVENT
BEGIN:VEVENT
DTSTART;TZID=America/Los_Angeles:20260405T100000
DTEND;TZID=America/Los_Angeles:20260405T120000
DTSTAMP:20260423T125155
CREATED:20260403T231413Z
LAST-MODIFIED:20260403T231413Z
UID:10003186-1775383200-1775390400@nubf.org
SUMMARY:Easter Service
DESCRIPTION:
URL:https://nubf.org/event/easter-service/
LOCATION:North Umpqua Bible Fellowship\, 1547 Wild River Dr\, Roseburg\, OR\, 97470\, United States
ATTACH;FMTTYPE=image/jpeg:https://nubf.org/wp-content/uploads/2026/04/Good-Friday-Service-7-pm-Presentation-1.jpg
END:VEVENT
END:VCALENDAR